BEGIN:VCALENDAR
VERSION:2.0
PRODID:-//St John&#039;s United Holy Church - ECPv6.15.20//NONSGML v1.0//EN
CALSCALE:GREGORIAN
METHOD:PUBLISH
X-WR-CALNAME:St John&#039;s United Holy Church
X-ORIGINAL-URL:https://sjuhcrichmond.org
X-WR-CALDESC:Events for St John&#039;s United Holy Church
REFRESH-INTERVAL;VALUE=DURATION:PT1H
X-Robots-Tag:noindex
X-PUBLISHED-TTL:PT1H
BEGIN:VTIMEZONE
TZID:UTC
BEGIN:STANDARD
TZOFFSETFROM:+0000
TZOFFSETTO:+0000
TZNAME:UTC
DTSTART:20250101T000000
END:STANDARD
END:VTIMEZONE
BEGIN:VEVENT
DTSTART;TZID=UTC:20260422T060000
DTEND;TZID=UTC:20260422T063000
DTSTAMP:20260422T174940
CREATED:20260308T144403Z
LAST-MODIFIED:20260308T144403Z
UID:7168-1776837600-1776839400@sjuhcrichmond.org
SUMMARY:6 am Early Morning Prayer
DESCRIPTION:Dial into the prayer line for early morning prayer Dial 716-427-1562 Enter code: 786535 then press # When dialing in\, please remember to mute yourself by pressing *6
URL:https://sjuhcrichmond.org/event/6-am-early-morning-prayer-95/
CATEGORIES:Church
END:VEVENT
BEGIN:VEVENT
DTSTART;TZID=UTC:20260422T183000
DTEND;TZID=UTC:20260422T200000
DTSTAMP:20260422T174940
CREATED:20260308T153717Z
LAST-MODIFIED:20260308T153717Z
UID:7194-1776882600-1776888000@sjuhcrichmond.org
SUMMARY:Virtual Bible Study
DESCRIPTION:Go to www.sjuhcrichmond.org and scroll down and select the yellow “Watch” button and then select the “Zoom link for services” button to join bible study or any service.
URL:https://sjuhcrichmond.org/event/virtual-bible-study-8/
CATEGORIES:Church
END:VEVENT
BEGIN:VEVENT
DTSTART;TZID=UTC:20260423T090000
DTEND;TZID=UTC:20260423T093000
DTSTAMP:20260422T174940
CREATED:20260419T152728Z
LAST-MODIFIED:20260419T152728Z
UID:7262-1776934800-1776936600@sjuhcrichmond.org
SUMMARY:9 am Daily Morning Prayer
DESCRIPTION:Dial into the prayer line for early morning prayer Dial 716-427-1562 Enter code: 786535 then press # When dialing in\, please remember to mute yourself by pressing *6
URL:https://sjuhcrichmond.org/event/9-am-daily-morning-prayer-586/
CATEGORIES:Church
END:VEVENT
BEGIN:VEVENT
DTSTART;TZID=UTC:20260424T090000
DTEND;TZID=UTC:20260424T093000
DTSTAMP:20260422T174940
CREATED:20260419T152820Z
LAST-MODIFIED:20260419T152820Z
UID:7264-1777021200-1777023000@sjuhcrichmond.org
SUMMARY:9 am Daily Morning Prayer
DESCRIPTION:Dial into the prayer line for early morning prayer Dial 716-427-1562 Enter code: 786535 then press # When dialing in\, please remember to mute yourself by pressing *6
URL:https://sjuhcrichmond.org/event/9-am-daily-morning-prayer-587/
CATEGORIES:Church
END:VEVENT
BEGIN:VEVENT
DTSTART;TZID=UTC:20260425T090000
DTEND;TZID=UTC:20260425T093000
DTSTAMP:20260422T174940
CREATED:20260419T152918Z
LAST-MODIFIED:20260419T152918Z
UID:7266-1777107600-1777109400@sjuhcrichmond.org
SUMMARY:9 am Daily Morning Prayer
DESCRIPTION:Dial into the prayer line for early morning prayer Dial 716-427-1562 Enter code: 786535 then press # When dialing in\, please remember to mute yourself by pressing *6
URL:https://sjuhcrichmond.org/event/9-am-daily-morning-prayer-588/
CATEGORIES:Church
END:VEVENT
BEGIN:VEVENT
DTSTART;TZID=UTC:20260427T090000
DTEND;TZID=UTC:20260427T093000
DTSTAMP:20260422T174940
CREATED:20260419T153011Z
LAST-MODIFIED:20260419T153011Z
UID:7268-1777280400-1777282200@sjuhcrichmond.org
SUMMARY:9 am Daily Morning Prayer
DESCRIPTION:Dial into the prayer line for early morning prayer Dial 716-427-1562 Enter code: 786535 then press # When dialing in\, please remember to mute yourself by pressing *6
URL:https://sjuhcrichmond.org/event/9-am-daily-morning-prayer-589/
CATEGORIES:Church
END:VEVENT
BEGIN:VEVENT
DTSTART;TZID=UTC:20260428T090000
DTEND;TZID=UTC:20260428T093000
DTSTAMP:20260422T174940
CREATED:20260419T153056Z
LAST-MODIFIED:20260419T153056Z
UID:7270-1777366800-1777368600@sjuhcrichmond.org
SUMMARY:9 am Daily Morning Prayer
DESCRIPTION:Dial into the prayer line for early morning prayer Dial 716-427-1562 Enter code: 786535 then press # When dialing in\, please remember to mute yourself by pressing *6
URL:https://sjuhcrichmond.org/event/9-am-daily-morning-prayer-590/
CATEGORIES:Church
END:VEVENT
BEGIN:VEVENT
DTSTART;TZID=UTC:20260429T060000
DTEND;TZID=UTC:20260429T063000
DTSTAMP:20260422T174940
CREATED:20260308T144502Z
LAST-MODIFIED:20260308T144502Z
UID:7170-1777442400-1777444200@sjuhcrichmond.org
SUMMARY:6 am Early Morning Prayer
DESCRIPTION:Dial into the prayer line for early morning prayer Dial 716-427-1562 Enter code: 786535 then press # When dialing in\, please remember to mute yourself by pressing *6
URL:https://sjuhcrichmond.org/event/6-am-early-morning-prayer-96/
CATEGORIES:Church
END:VEVENT
BEGIN:VEVENT
DTSTART;TZID=UTC:20260429T090000
DTEND;TZID=UTC:20260429T093000
DTSTAMP:20260422T174940
CREATED:20260419T153159Z
LAST-MODIFIED:20260419T153159Z
UID:7272-1777453200-1777455000@sjuhcrichmond.org
SUMMARY:9 am Daily Morning Prayer
DESCRIPTION:Dial into the prayer line for early morning prayer Dial 716-427-1562 Enter code: 786535 then press # When dialing in\, please remember to mute yourself by pressing *6
URL:https://sjuhcrichmond.org/event/9-am-daily-morning-prayer-591/
CATEGORIES:Church
END:VEVENT
BEGIN:VEVENT
DTSTART;TZID=UTC:20260429T183000
DTEND;TZID=UTC:20260429T200000
DTSTAMP:20260422T174940
CREATED:20260308T153823Z
LAST-MODIFIED:20260308T153823Z
UID:7196-1777487400-1777492800@sjuhcrichmond.org
SUMMARY:Virtual Bible Study
DESCRIPTION:Go to www.sjuhcrichmond.org and scroll down and select the yellow “Watch” button and then select the “Zoom link for services” button to join bible study or any service.
URL:https://sjuhcrichmond.org/event/virtual-bible-study-9/
CATEGORIES:Church
END:VEVENT
BEGIN:VEVENT
DTSTART;TZID=UTC:20260430T090000
DTEND;TZID=UTC:20260430T093000
DTSTAMP:20260422T174940
CREATED:20260419T153259Z
LAST-MODIFIED:20260419T153259Z
UID:7274-1777539600-1777541400@sjuhcrichmond.org
SUMMARY:9 am Daily Morning Prayer
DESCRIPTION:Dial into the prayer line for early morning prayer Dial 716-427-1562 Enter code: 786535 then press # When dialing in\, please remember to mute yourself by pressing *6
URL:https://sjuhcrichmond.org/event/9-am-daily-morning-prayer-592/
CATEGORIES:Church
END:VEVENT
END:VCALENDAR