BEGIN:VCALENDAR
VERSION:2.0
PRODID:-//St John&#039;s United Holy Church - ECPv6.15.20//NONSGML v1.0//EN
CALSCALE:GREGORIAN
METHOD:PUBLISH
X-WR-CALNAME:St John&#039;s United Holy Church
X-ORIGINAL-URL:https://sjuhcrichmond.org
X-WR-CALDESC:Events for St John&#039;s United Holy Church
REFRESH-INTERVAL;VALUE=DURATION:PT1H
X-Robots-Tag:noindex
X-PUBLISHED-TTL:PT1H
BEGIN:VTIMEZONE
TZID:UTC
BEGIN:STANDARD
TZOFFSETFROM:+0000
TZOFFSETTO:+0000
TZNAME:UTC
DTSTART:20240101T000000
END:STANDARD
END:VTIMEZONE
BEGIN:VEVENT
DTSTART;TZID=UTC:20250401T090000
DTEND;TZID=UTC:20250401T093000
DTSTAMP:20260423T115135
CREATED:20250126T164639Z
LAST-MODIFIED:20250126T164639Z
UID:6336-1743498000-1743499800@sjuhcrichmond.org
SUMMARY:9 am Daily Morning Prayer
DESCRIPTION:Dial into the prayer line for early morning prayer Dial 716-427-1562 Enter code: 786535 then press # When dialing in\, please remember to mute yourself by pressing *6
URL:https://sjuhcrichmond.org/event/9-am-daily-morning-prayer-378/
CATEGORIES:Church
END:VEVENT
BEGIN:VEVENT
DTSTART;TZID=UTC:20250401T120000
DTEND;TZID=UTC:20250401T130000
DTSTAMP:20260423T115135
CREATED:20250119T214926Z
LAST-MODIFIED:20250119T220323Z
UID:6271-1743508800-1743512400@sjuhcrichmond.org
SUMMARY:Noon Day Prayer
DESCRIPTION:Noon Day Prayer will be held in person at St. John’s.
URL:https://sjuhcrichmond.org/event/noon-day-prayer-41/
CATEGORIES:Church
END:VEVENT
BEGIN:VEVENT
DTSTART;TZID=UTC:20250402T060000
DTEND;TZID=UTC:20250402T063000
DTSTAMP:20260423T115135
CREATED:20250126T165327Z
LAST-MODIFIED:20250126T165327Z
UID:6348-1743573600-1743575400@sjuhcrichmond.org
SUMMARY:6 am Early Morning Prayer
DESCRIPTION:Dial into the prayer line for early morning prayer Dial 716-427-1562 Enter code: 786535 then press # When dialing in\, please remember to mute yourself by pressing *6
URL:https://sjuhcrichmond.org/event/6-am-early-morning-prayer-67/
CATEGORIES:Church
END:VEVENT
BEGIN:VEVENT
DTSTART;TZID=UTC:20250402T090000
DTEND;TZID=UTC:20250402T093000
DTSTAMP:20260423T115135
CREATED:20250126T164746Z
LAST-MODIFIED:20250126T164746Z
UID:6338-1743584400-1743586200@sjuhcrichmond.org
SUMMARY:9 am Daily Morning Prayer
DESCRIPTION:Dial into the prayer line for early morning prayer Dial 716-427-1562 Enter code: 786535 then press # When dialing in\, please remember to mute yourself by pressing *6
URL:https://sjuhcrichmond.org/event/9-am-daily-morning-prayer-379/
CATEGORIES:Church
END:VEVENT
BEGIN:VEVENT
DTSTART;TZID=UTC:20250403T090000
DTEND;TZID=UTC:20250403T093000
DTSTAMP:20260423T115135
CREATED:20250126T164833Z
LAST-MODIFIED:20250126T164833Z
UID:6340-1743670800-1743672600@sjuhcrichmond.org
SUMMARY:9 am Daily Morning Prayer
DESCRIPTION:Dial into the prayer line for early morning prayer Dial 716-427-1562 Enter code: 786535 then press # When dialing in\, please remember to mute yourself by pressing *6
URL:https://sjuhcrichmond.org/event/9-am-daily-morning-prayer-380/
CATEGORIES:Church
END:VEVENT
BEGIN:VEVENT
DTSTART;TZID=UTC:20250404T090000
DTEND;TZID=UTC:20250404T093000
DTSTAMP:20260423T115135
CREATED:20250126T164927Z
LAST-MODIFIED:20250126T164927Z
UID:6342-1743757200-1743759000@sjuhcrichmond.org
SUMMARY:9 am Daily Morning Prayer
DESCRIPTION:Dial into the prayer line for early morning prayer Dial 716-427-1562 Enter code: 786535 then press # When dialing in\, please remember to mute yourself by pressing *6
URL:https://sjuhcrichmond.org/event/9-am-daily-morning-prayer-381/
CATEGORIES:Church
END:VEVENT
BEGIN:VEVENT
DTSTART;TZID=UTC:20250405T090000
DTEND;TZID=UTC:20250405T093000
DTSTAMP:20260423T115135
CREATED:20250202T163251Z
LAST-MODIFIED:20250202T163251Z
UID:6369-1743843600-1743845400@sjuhcrichmond.org
SUMMARY:9 am Daily Morning Prayer
DESCRIPTION:Dial into the prayer line for early morning prayer Dial 716-427-1562 Enter code: 786535 then press # When dialing in\, please remember to mute yourself by pressing *6
URL:https://sjuhcrichmond.org/event/9-am-daily-morning-prayer-382/
CATEGORIES:Church
END:VEVENT
BEGIN:VEVENT
DTSTART;TZID=UTC:20250407T090000
DTEND;TZID=UTC:20250407T093000
DTSTAMP:20260423T115135
CREATED:20250323T150048Z
LAST-MODIFIED:20250323T150048Z
UID:6404-1744016400-1744018200@sjuhcrichmond.org
SUMMARY:9 am Daily Morning Prayer
DESCRIPTION:Dial into the prayer line for early morning prayer Dial 716-427-1562 Enter code: 786535 then press # When dialing in\, please remember to mute yourself by pressing *6
URL:https://sjuhcrichmond.org/event/9-am-daily-morning-prayer-386/
CATEGORIES:Church
END:VEVENT
BEGIN:VEVENT
DTSTART;TZID=UTC:20250408T090000
DTEND;TZID=UTC:20250408T093000
DTSTAMP:20260423T115135
CREATED:20250202T164038Z
LAST-MODIFIED:20250202T164038Z
UID:6373-1744102800-1744104600@sjuhcrichmond.org
SUMMARY:9 am Daily Morning Prayer
DESCRIPTION:Dial into the prayer line for early morning prayer Dial 716-427-1562 Enter code: 786535 then press # When dialing in\, please remember to mute yourself by pressing *6
URL:https://sjuhcrichmond.org/event/9-am-daily-morning-prayer-384/
CATEGORIES:Church
END:VEVENT
BEGIN:VEVENT
DTSTART;TZID=UTC:20250408T120000
DTEND;TZID=UTC:20250408T130000
DTSTAMP:20260423T115135
CREATED:20250119T215209Z
LAST-MODIFIED:20250119T221352Z
UID:6275-1744113600-1744117200@sjuhcrichmond.org
SUMMARY:Noon Day Prayer
DESCRIPTION:Noon Day Prayer will be held in person at St. John’s.
URL:https://sjuhcrichmond.org/event/noon-day-prayer-43/
CATEGORIES:Church
END:VEVENT
BEGIN:VEVENT
DTSTART;TZID=UTC:20250409T060000
DTEND;TZID=UTC:20250409T063000
DTSTAMP:20260423T115135
CREATED:20250406T143320Z
LAST-MODIFIED:20250406T143320Z
UID:6430-1744178400-1744180200@sjuhcrichmond.org
SUMMARY:Wednesday 6 am Early Morning Prayer
DESCRIPTION:Dial into the prayer line for early morning prayer Dial 716-427-1562 Enter code: 786535 then press # When dialing in\, please remember to mute yourself by pressing *6
URL:https://sjuhcrichmond.org/event/wednesday-6-am-early-morning-prayer-13/
CATEGORIES:Church
END:VEVENT
BEGIN:VEVENT
DTSTART;TZID=UTC:20250409T090000
DTEND;TZID=UTC:20250409T093000
DTSTAMP:20260423T115135
CREATED:20250316T155522Z
LAST-MODIFIED:20250316T155522Z
UID:6397-1744189200-1744191000@sjuhcrichmond.org
SUMMARY:9 am Daily Morning Prayer
DESCRIPTION:9 am Daily Morning Prayer: Dial into the prayer line for early morning prayer Dial 716-427-1562 Enter code: 786535 then press # When dialing in\, please remember to mute yourself by pressing *6
URL:https://sjuhcrichmond.org/event/9-am-daily-morning-prayer-385/
CATEGORIES:Church
END:VEVENT
BEGIN:VEVENT
DTSTART;TZID=UTC:20250409T183000
DTEND;TZID=UTC:20250409T200000
DTSTAMP:20260423T115135
CREATED:20250406T153202Z
LAST-MODIFIED:20250406T154300Z
UID:6476-1744223400-1744228800@sjuhcrichmond.org
SUMMARY:Wednesday Bible Study
DESCRIPTION:You can join in Bible Study via Zoom. \nGo to www.sjuhcrichmond.org and scroll down and select the yellow “Watch” button and then select the “Zoom link for services” button to join bible study or any service. \nThis Wednesday we will continue the study of the book of Ephesians – STUDY OF EPHESIANS document (click on link to access document).
URL:https://sjuhcrichmond.org/event/wednesday-bible-study-65/
CATEGORIES:Church
END:VEVENT
BEGIN:VEVENT
DTSTART;TZID=UTC:20250410T090000
DTEND;TZID=UTC:20250410T093000
DTSTAMP:20260423T115135
CREATED:20250202T163450Z
LAST-MODIFIED:20250323T152702Z
UID:6371-1744275600-1744277400@sjuhcrichmond.org
SUMMARY:9 am Daily Morning Prayer:
DESCRIPTION:Dial into the prayer line for early morning prayer Dial 716-427-1562 Enter code: 786535 then press # When dialing in\, please remember to mute yourself by pressing *6
URL:https://sjuhcrichmond.org/event/9-am-daily-morning-prayer-383/
CATEGORIES:Church
END:VEVENT
BEGIN:VEVENT
DTSTART;TZID=UTC:20250411T090000
DTEND;TZID=UTC:20250411T093000
DTSTAMP:20260423T115135
CREATED:20250323T152915Z
LAST-MODIFIED:20250323T152915Z
UID:6406-1744362000-1744363800@sjuhcrichmond.org
SUMMARY:9 am Daily Morning Prayer
DESCRIPTION:Dial into the prayer line for early morning prayer Dial 716-427-1562 Enter code: 786535 then press # When dialing in\, please remember to mute yourself by pressing *6
URL:https://sjuhcrichmond.org/event/9-am-daily-morning-prayer-387/
CATEGORIES:Church
END:VEVENT
BEGIN:VEVENT
DTSTART;TZID=UTC:20250412T090000
DTEND;TZID=UTC:20250412T093000
DTSTAMP:20260423T115135
CREATED:20250323T154655Z
LAST-MODIFIED:20250323T154655Z
UID:6408-1744448400-1744450200@sjuhcrichmond.org
SUMMARY:9 am Daily Morning Prayer
DESCRIPTION:Dial into the prayer line for early morning prayer Dial 716-427-1562 Enter code: 786535 then press # When dialing in\, please remember to mute yourself by pressing *6
URL:https://sjuhcrichmond.org/event/9-am-daily-morning-prayer-388/
CATEGORIES:Church
END:VEVENT
BEGIN:VEVENT
DTSTART;TZID=UTC:20250414T090000
DTEND;TZID=UTC:20250414T093000
DTSTAMP:20260423T115135
CREATED:20250323T155727Z
LAST-MODIFIED:20250323T155727Z
UID:6412-1744621200-1744623000@sjuhcrichmond.org
SUMMARY:9 am Daily Morning Prayer:
DESCRIPTION:Dial into the prayer line for early morning prayer Dial 716-427-1562 Enter code: 786535 then press # When dialing in\, please remember to mute yourself by pressing *6
URL:https://sjuhcrichmond.org/event/9-am-daily-morning-prayer-390/
CATEGORIES:Church
END:VEVENT
BEGIN:VEVENT
DTSTART;TZID=UTC:20250415T090000
DTEND;TZID=UTC:20250415T093000
DTSTAMP:20260423T115135
CREATED:20250323T155841Z
LAST-MODIFIED:20250323T155841Z
UID:6414-1744707600-1744709400@sjuhcrichmond.org
SUMMARY:9 am Daily Morning Prayer
DESCRIPTION:Dial into the prayer line for early morning prayer Dial 716-427-1562 Enter code: 786535 then press # When dialing in\, please remember to mute yourself by pressing *6
URL:https://sjuhcrichmond.org/event/9-am-daily-morning-prayer-391/
CATEGORIES:Church
END:VEVENT
BEGIN:VEVENT
DTSTART;TZID=UTC:20250416T060000
DTEND;TZID=UTC:20250416T063000
DTSTAMP:20260423T115135
CREATED:20250406T143447Z
LAST-MODIFIED:20250406T143447Z
UID:6432-1744783200-1744785000@sjuhcrichmond.org
SUMMARY:Wednesday 6 am Early Morning Prayer
DESCRIPTION:Dial into the prayer line for early morning prayer Dial 716-427-1562 Enter code: 786535 then press # When dialing in\, please remember to mute yourself by pressing *6
URL:https://sjuhcrichmond.org/event/wednesday-6-am-early-morning-prayer-14/
CATEGORIES:Church
END:VEVENT
BEGIN:VEVENT
DTSTART;TZID=UTC:20250416T090000
DTEND;TZID=UTC:20250416T093000
DTSTAMP:20260423T115135
CREATED:20250323T160217Z
LAST-MODIFIED:20250323T160217Z
UID:6416-1744794000-1744795800@sjuhcrichmond.org
SUMMARY:9 am Daily Morning Prayer
DESCRIPTION:Dial into the prayer line for early morning prayer Dial 716-427-1562 Enter code: 786535 then press # When dialing in\, please remember to mute yourself by pressing *6
URL:https://sjuhcrichmond.org/event/9-am-daily-morning-prayer-392/
CATEGORIES:Church
END:VEVENT
BEGIN:VEVENT
DTSTART;TZID=UTC:20250416T183000
DTEND;TZID=UTC:20250416T200000
DTSTAMP:20260423T115135
CREATED:20250406T153102Z
LAST-MODIFIED:20250406T153102Z
UID:6474-1744828200-1744833600@sjuhcrichmond.org
SUMMARY:Wednesday Bible Study
DESCRIPTION:You can join in Bible Study via Zoom. \nGo to www.sjuhcrichmond.org and scroll down and select the yellow “Watch” button and then select the “Zoom link for services” button to join bible study or any service.
URL:https://sjuhcrichmond.org/event/wednesday-bible-study-64/
CATEGORIES:Church
END:VEVENT
BEGIN:VEVENT
DTSTART;TZID=UTC:20250416T193000
DTEND;TZID=UTC:20250418T210000
DTSTAMP:20260423T115135
CREATED:20250223T163334Z
LAST-MODIFIED:20250223T163334Z
UID:6381-1744831800-1745010000@sjuhcrichmond.org
SUMMARY:Passion Week Revival
DESCRIPTION:
URL:https://sjuhcrichmond.org/event/passion-week-revival/
CATEGORIES:Church
END:VEVENT
BEGIN:VEVENT
DTSTART;TZID=UTC:20250417T090000
DTEND;TZID=UTC:20250417T093000
DTSTAMP:20260423T115135
CREATED:20250323T161646Z
LAST-MODIFIED:20250323T161646Z
UID:6418-1744880400-1744882200@sjuhcrichmond.org
SUMMARY:9 am Daily Morning Prayer
DESCRIPTION:Dial into the prayer line for early morning prayer Dial 716-427-1562 Enter code: 786535 then press # When dialing in\, please remember to mute yourself by pressing *6
URL:https://sjuhcrichmond.org/event/9-am-daily-morning-prayer-393/
CATEGORIES:Church
END:VEVENT
BEGIN:VEVENT
DTSTART;TZID=UTC:20250418T090000
DTEND;TZID=UTC:20250418T093000
DTSTAMP:20260423T115135
CREATED:20250323T162322Z
LAST-MODIFIED:20250323T162322Z
UID:6420-1744966800-1744968600@sjuhcrichmond.org
SUMMARY:9 am Daily Morning Prayer
DESCRIPTION:Dial into the prayer line for early morning prayer Dial 716-427-1562 Enter code: 786535 then press # When dialing in\, please remember to mute yourself by pressing *6
URL:https://sjuhcrichmond.org/event/9-am-daily-morning-prayer-394/
CATEGORIES:Church
END:VEVENT
BEGIN:VEVENT
DTSTART;TZID=UTC:20250419T090000
DTEND;TZID=UTC:20250419T093000
DTSTAMP:20260423T115135
CREATED:20250323T162748Z
LAST-MODIFIED:20250323T162748Z
UID:6424-1745053200-1745055000@sjuhcrichmond.org
SUMMARY:9 am Daily Morning Prayer
DESCRIPTION:Dial into the prayer line for early morning prayer Dial 716-427-1562 Enter code: 786535 then press # When dialing in\, please remember to mute yourself by pressing *6
URL:https://sjuhcrichmond.org/event/9-am-daily-morning-prayer-396/
CATEGORIES:Church
END:VEVENT
BEGIN:VEVENT
DTSTART;TZID=UTC:20250421T090000
DTEND;TZID=UTC:20250421T093000
DTSTAMP:20260423T115135
CREATED:20250323T162617Z
LAST-MODIFIED:20250323T163022Z
UID:6422-1745226000-1745227800@sjuhcrichmond.org
SUMMARY:9 am Daily Morning Prayer
DESCRIPTION:Dial into the prayer line for early morning prayer Dial 716-427-1562 Enter code: 786535 then press # When dialing in\, please remember to mute yourself by pressing *6
URL:https://sjuhcrichmond.org/event/9-am-daily-morning-prayer-395/
CATEGORIES:Church
END:VEVENT
BEGIN:VEVENT
DTSTART;TZID=UTC:20250422T090000
DTEND;TZID=UTC:20250422T093000
DTSTAMP:20260423T115135
CREATED:20250323T163213Z
LAST-MODIFIED:20250323T163213Z
UID:6426-1745312400-1745314200@sjuhcrichmond.org
SUMMARY:9 am Daily Morning Prayer
DESCRIPTION:Dial into the prayer line for early morning prayer Dial 716-427-1562 Enter code: 786535 then press # When dialing in\, please remember to mute yourself by pressing *6
URL:https://sjuhcrichmond.org/event/9-am-daily-morning-prayer-397/
CATEGORIES:Church
END:VEVENT
BEGIN:VEVENT
DTSTART;TZID=UTC:20250423T060000
DTEND;TZID=UTC:20250423T063000
DTSTAMP:20260423T115135
CREATED:20250406T143554Z
LAST-MODIFIED:20250406T143632Z
UID:6434-1745388000-1745389800@sjuhcrichmond.org
SUMMARY:6 am Early Morning Prayer
DESCRIPTION:Dial into the prayer line for early morning prayer Dial 716-427-1562 Enter code: 786535 then press # When dialing in\, please remember to mute yourself by pressing *6
URL:https://sjuhcrichmond.org/event/6-am-early-morning-prayer-68/
CATEGORIES:Church
END:VEVENT
BEGIN:VEVENT
DTSTART;TZID=UTC:20250423T183000
DTEND;TZID=UTC:20250423T200000
DTSTAMP:20260423T115135
CREATED:20250406T153004Z
LAST-MODIFIED:20250406T153004Z
UID:6472-1745433000-1745438400@sjuhcrichmond.org
SUMMARY:Wednesday Bible Study
DESCRIPTION:You can join in Bible Study via Zoom. \nGo to www.sjuhcrichmond.org and scroll down and select the yellow “Watch” button and then select the “Zoom link for services” button to join bible study or any service.
URL:https://sjuhcrichmond.org/event/wednesday-bible-study-63/
CATEGORIES:Church
END:VEVENT
BEGIN:VEVENT
DTSTART;TZID=UTC:20250424T090000
DTEND;TZID=UTC:20250424T093000
DTSTAMP:20260423T115135
CREATED:20250323T155542Z
LAST-MODIFIED:20250406T154437Z
UID:6410-1745485200-1745487000@sjuhcrichmond.org
SUMMARY:9 am Daily Morning Prayer
DESCRIPTION:Dial into the prayer line for early morning prayer Dial 716-427-1562 Enter code: 786535 then press # When dialing in\, please remember to mute yourself by pressing *6
URL:https://sjuhcrichmond.org/event/9-am-daily-morning-prayer-389/
CATEGORIES:Church
END:VEVENT
END:VCALENDAR