BEGIN:VCALENDAR
VERSION:2.0
PRODID:-//St John&#039;s United Holy Church - ECPv6.15.20//NONSGML v1.0//EN
CALSCALE:GREGORIAN
METHOD:PUBLISH
X-WR-CALNAME:St John&#039;s United Holy Church
X-ORIGINAL-URL:https://sjuhcrichmond.org
X-WR-CALDESC:Events for St John&#039;s United Holy Church
REFRESH-INTERVAL;VALUE=DURATION:PT1H
X-Robots-Tag:noindex
X-PUBLISHED-TTL:PT1H
BEGIN:VTIMEZONE
TZID:UTC
BEGIN:STANDARD
TZOFFSETFROM:+0000
TZOFFSETTO:+0000
TZNAME:UTC
DTSTART:20240101T000000
END:STANDARD
END:VTIMEZONE
BEGIN:VEVENT
DTSTART;TZID=UTC:20251212T090000
DTEND;TZID=UTC:20251212T093000
DTSTAMP:20260423T054656
CREATED:20251207T153622Z
LAST-MODIFIED:20251207T153622Z
UID:6896-1765530000-1765531800@sjuhcrichmond.org
SUMMARY:9 am Morning Prayer
DESCRIPTION:Dial into the prayer line for early morning prayer Dial 716-427-1562 Enter code: 786535 then press # When dialing in\, please remember to mute yourself by pressing *6
URL:https://sjuhcrichmond.org/event/9-am-morning-prayer-21/
CATEGORIES:Church
END:VEVENT
BEGIN:VEVENT
DTSTART;TZID=UTC:20251213T090000
DTEND;TZID=UTC:20251213T093000
DTSTAMP:20260423T054656
CREATED:20251207T153920Z
LAST-MODIFIED:20251207T153920Z
UID:6898-1765616400-1765618200@sjuhcrichmond.org
SUMMARY:9 am Morning Prayer
DESCRIPTION:Dial into the prayer line for early morning prayer Dial 716-427-1562 Enter code: 786535 then press # When dialing in\, please remember to mute yourself by pressing *6
URL:https://sjuhcrichmond.org/event/9-am-morning-prayer-22/
CATEGORIES:Church
END:VEVENT
BEGIN:VEVENT
DTSTART;TZID=UTC:20251215T090000
DTEND;TZID=UTC:20251215T093000
DTSTAMP:20260423T054656
CREATED:20251207T154550Z
LAST-MODIFIED:20251207T154550Z
UID:6900-1765789200-1765791000@sjuhcrichmond.org
SUMMARY:9 am Morning Prayer
DESCRIPTION:Dial into the prayer line for early morning prayer Dial 716-427-1562 Enter code: 786535 then press # When dialing in\, please remember to mute yourself by pressing *6
URL:https://sjuhcrichmond.org/event/9-am-morning-prayer-23/
CATEGORIES:Church
END:VEVENT
BEGIN:VEVENT
DTSTART;TZID=UTC:20251216T090000
DTEND;TZID=UTC:20251216T093000
DTSTAMP:20260423T054656
CREATED:20251207T154748Z
LAST-MODIFIED:20251207T154748Z
UID:6902-1765875600-1765877400@sjuhcrichmond.org
SUMMARY:9 am Morning Prayer
DESCRIPTION:Dial into the prayer line for early morning prayer Dial 716-427-1562 Enter code: 786535 then press # When dialing in\, please remember to mute yourself by pressing *6
URL:https://sjuhcrichmond.org/event/9-am-morning-prayer-24/
CATEGORIES:Church
END:VEVENT
BEGIN:VEVENT
DTSTART;TZID=UTC:20251217T090000
DTEND;TZID=UTC:20251217T093000
DTSTAMP:20260423T054656
CREATED:20251207T154912Z
LAST-MODIFIED:20251207T154912Z
UID:6904-1765962000-1765963800@sjuhcrichmond.org
SUMMARY:9 am Morning Prayer
DESCRIPTION:Dial into the prayer line for early morning prayer Dial 716-427-1562 Enter code: 786535 then press # When dialing in\, please remember to mute yourself by pressing *6
URL:https://sjuhcrichmond.org/event/9-am-morning-prayer-25/
CATEGORIES:Church
END:VEVENT
BEGIN:VEVENT
DTSTART;TZID=UTC:20251217T183000
DTEND;TZID=UTC:20251217T200000
DTSTAMP:20260423T054656
CREATED:20251102T154841Z
LAST-MODIFIED:20251102T154841Z
UID:6836-1765996200-1766001600@sjuhcrichmond.org
SUMMARY:Bible Study
DESCRIPTION:You can join in Bible Study via Zoom. \nGo to www.sjuhcrichmond.org and scroll down and select the yellow “Watch” button and then select the “Zoom link for services” button to join bible study or any service.
URL:https://sjuhcrichmond.org/event/bible-study-14/
CATEGORIES:Church
END:VEVENT
BEGIN:VEVENT
DTSTART;TZID=UTC:20251218T090000
DTEND;TZID=UTC:20251218T093000
DTSTAMP:20260423T054656
CREATED:20251207T155035Z
LAST-MODIFIED:20251207T155035Z
UID:6906-1766048400-1766050200@sjuhcrichmond.org
SUMMARY:9 am Morning Prayer
DESCRIPTION:Dial into the prayer line for early morning prayer Dial 716-427-1562 Enter code: 786535 then press # When dialing in\, please remember to mute yourself by pressing *6
URL:https://sjuhcrichmond.org/event/9-am-morning-prayer-26/
CATEGORIES:Church
END:VEVENT
BEGIN:VEVENT
DTSTART;TZID=UTC:20251219T090000
DTEND;TZID=UTC:20251219T093000
DTSTAMP:20260423T054656
CREATED:20251207T155228Z
LAST-MODIFIED:20251207T155228Z
UID:6910-1766134800-1766136600@sjuhcrichmond.org
SUMMARY:9 am Morning Prayer
DESCRIPTION:Dial into the prayer line for early morning prayer Dial 716-427-1562 Enter code: 786535 then press # When dialing in\, please remember to mute yourself by pressing *6
URL:https://sjuhcrichmond.org/event/9-am-morning-prayer-28/
CATEGORIES:Church
END:VEVENT
BEGIN:VEVENT
DTSTART;TZID=UTC:20251220T090000
DTEND;TZID=UTC:20251220T093000
DTSTAMP:20260423T054656
CREATED:20251207T155646Z
LAST-MODIFIED:20251207T155646Z
UID:6912-1766221200-1766223000@sjuhcrichmond.org
SUMMARY:9 am Morning Prayer
DESCRIPTION:Dial into the prayer line for early morning prayer Dial 716-427-1562 Enter code: 786535 then press # When dialing in\, please remember to mute yourself by pressing *6
URL:https://sjuhcrichmond.org/event/9-am-morning-prayer-29/
CATEGORIES:Church
END:VEVENT
BEGIN:VEVENT
DTSTART;TZID=UTC:20251221T080000
DTEND;TZID=UTC:20251221T100000
DTSTAMP:20260423T054656
CREATED:20251207T161537Z
LAST-MODIFIED:20251207T161537Z
UID:6922-1766304000-1766311200@sjuhcrichmond.org
SUMMARY:Annual Christmas Play
DESCRIPTION:Annual Christmas Play under the direction of Minister Vanessa Jackson will be held at 8 am.
URL:https://sjuhcrichmond.org/event/annual-christmas-play-4/
CATEGORIES:Church
END:VEVENT
BEGIN:VEVENT
DTSTART;TZID=UTC:20251222T090000
DTEND;TZID=UTC:20251222T093000
DTSTAMP:20260423T054656
CREATED:20251207T155131Z
LAST-MODIFIED:20251207T155831Z
UID:6908-1766394000-1766395800@sjuhcrichmond.org
SUMMARY:9 am Morning Prayer
DESCRIPTION:Dial into the prayer line for early morning prayer Dial 716-427-1562 Enter code: 786535 then press # When dialing in\, please remember to mute yourself by pressing *6
URL:https://sjuhcrichmond.org/event/9-am-morning-prayer-27/
CATEGORIES:Church
END:VEVENT
BEGIN:VEVENT
DTSTART;TZID=UTC:20251223T090000
DTEND;TZID=UTC:20251223T093000
DTSTAMP:20260423T054656
CREATED:20251207T160811Z
LAST-MODIFIED:20251207T160811Z
UID:6914-1766480400-1766482200@sjuhcrichmond.org
SUMMARY:9 am Morning Prayer
DESCRIPTION:Dial into the prayer line for early morning prayer Dial 716-427-1562 Enter code: 786535 then press # When dialing in\, please remember to mute yourself by pressing *6
URL:https://sjuhcrichmond.org/event/9-am-morning-prayer-30/
CATEGORIES:Church
END:VEVENT
BEGIN:VEVENT
DTSTART;TZID=UTC:20251224T090000
DTEND;TZID=UTC:20251224T093000
DTSTAMP:20260423T054656
CREATED:20251207T160920Z
LAST-MODIFIED:20251207T160920Z
UID:6916-1766566800-1766568600@sjuhcrichmond.org
SUMMARY:9 am Morning Prayer
DESCRIPTION:Dial into the prayer line for early morning prayer Dial 716-427-1562 Enter code: 786535 then press # When dialing in\, please remember to mute yourself by pressing *6
URL:https://sjuhcrichmond.org/event/9-am-morning-prayer-31/
CATEGORIES:Church
END:VEVENT
BEGIN:VEVENT
DTSTART;TZID=UTC:20251224T183000
DTEND;TZID=UTC:20251224T200000
DTSTAMP:20260423T054656
CREATED:20251102T155145Z
LAST-MODIFIED:20251102T155145Z
UID:6838-1766601000-1766606400@sjuhcrichmond.org
SUMMARY:Bible Study
DESCRIPTION:You can join in Bible Study via Zoom. \nGo to www.sjuhcrichmond.org and scroll down and select the yellow “Watch” button and then select the “Zoom link for services” button to join bible study or any service.
URL:https://sjuhcrichmond.org/event/bible-study-15/
CATEGORIES:Church
END:VEVENT
BEGIN:VEVENT
DTSTART;TZID=UTC:20251225T090000
DTEND;TZID=UTC:20251225T093000
DTSTAMP:20260423T054656
CREATED:20251207T160957Z
LAST-MODIFIED:20251207T160957Z
UID:6918-1766653200-1766655000@sjuhcrichmond.org
SUMMARY:9 am Morning Prayer
DESCRIPTION:Dial into the prayer line for early morning prayer Dial 716-427-1562 Enter code: 786535 then press # When dialing in\, please remember to mute yourself by pressing *6
URL:https://sjuhcrichmond.org/event/9-am-morning-prayer-32/
CATEGORIES:Church
END:VEVENT
BEGIN:VEVENT
DTSTART;TZID=UTC:20251226T090000
DTEND;TZID=UTC:20251226T093000
DTSTAMP:20260423T054656
CREATED:20251207T161053Z
LAST-MODIFIED:20251207T161053Z
UID:6920-1766739600-1766741400@sjuhcrichmond.org
SUMMARY:9 am Morning Prayer
DESCRIPTION:Dial into the prayer line for early morning prayer Dial 716-427-1562 Enter code: 786535 then press # When dialing in\, please remember to mute yourself by pressing *6
URL:https://sjuhcrichmond.org/event/9-am-morning-prayer-33/
CATEGORIES:Church
END:VEVENT
BEGIN:VEVENT
DTSTART;TZID=UTC:20251227T090000
DTEND;TZID=UTC:20251227T093000
DTSTAMP:20260423T054656
CREATED:20251207T162734Z
LAST-MODIFIED:20251207T162734Z
UID:6925-1766826000-1766827800@sjuhcrichmond.org
SUMMARY:9 am Morning Prayer
DESCRIPTION:Dial into the prayer line for early morning prayer Dial 716-427-1562 Enter code: 786535 then press # When dialing in\, please remember to mute yourself by pressing *6
URL:https://sjuhcrichmond.org/event/9-am-morning-prayer-34/
CATEGORIES:Church
END:VEVENT
BEGIN:VEVENT
DTSTART;TZID=UTC:20251229T090000
DTEND;TZID=UTC:20251229T093000
DTSTAMP:20260423T054656
CREATED:20251207T163016Z
LAST-MODIFIED:20251207T163016Z
UID:6927-1766998800-1767000600@sjuhcrichmond.org
SUMMARY:9 am Morning Prayer
DESCRIPTION:Dial into the prayer line for early morning prayer Dial 716-427-1562 Enter code: 786535 then press # When dialing in\, please remember to mute yourself by pressing *6
URL:https://sjuhcrichmond.org/event/9-am-morning-prayer-35/
CATEGORIES:Church
END:VEVENT
BEGIN:VEVENT
DTSTART;TZID=UTC:20251230T090000
DTEND;TZID=UTC:20251230T093000
DTSTAMP:20260423T054656
CREATED:20251207T163324Z
LAST-MODIFIED:20251207T163324Z
UID:6931-1767085200-1767087000@sjuhcrichmond.org
SUMMARY:9 am Morning Prayer
DESCRIPTION:Dial into the prayer line for early morning prayer Dial 716-427-1562 Enter code: 786535 then press # When dialing in\, please remember to mute yourself by pressing *6
URL:https://sjuhcrichmond.org/event/9-am-morning-prayer-37/
CATEGORIES:Church
END:VEVENT
BEGIN:VEVENT
DTSTART;TZID=UTC:20251230T120000
DTEND;TZID=UTC:20251230T130000
DTSTAMP:20260423T054656
CREATED:20251228T163400Z
LAST-MODIFIED:20251228T163400Z
UID:6997-1767096000-1767099600@sjuhcrichmond.org
SUMMARY:Noon Day Prayer
DESCRIPTION:Noon Day Prayer will be held in-person at St. John’s.
URL:https://sjuhcrichmond.org/event/noon-day-prayer-46/
CATEGORIES:Church
END:VEVENT
BEGIN:VEVENT
DTSTART;TZID=UTC:20251231T060000
DTEND;TZID=UTC:20251231T063000
DTSTAMP:20260423T054656
CREATED:20251228T162419Z
LAST-MODIFIED:20251228T162419Z
UID:6987-1767160800-1767162600@sjuhcrichmond.org
SUMMARY:6 am Early Morning Prayer
DESCRIPTION:Dial into the prayer line for early morning prayer Dial 716-427-1562 Enter code: 786535 then press # When dialing in\, please remember to mute yourself by pressing *6
URL:https://sjuhcrichmond.org/event/6-am-early-morning-prayer-78/
CATEGORIES:Church
END:VEVENT
BEGIN:VEVENT
DTSTART;TZID=UTC:20251231T090000
DTEND;TZID=UTC:20251231T093000
DTSTAMP:20260423T054656
CREATED:20251207T163139Z
LAST-MODIFIED:20251207T163139Z
UID:6929-1767171600-1767173400@sjuhcrichmond.org
SUMMARY:9 am Morning Prayer
DESCRIPTION:Dial into the prayer line for early morning prayer Dial 716-427-1562 Enter code: 786535 then press # When dialing in\, please remember to mute yourself by pressing *6
URL:https://sjuhcrichmond.org/event/9-am-morning-prayer-36/
CATEGORIES:Church
END:VEVENT
BEGIN:VEVENT
DTSTART;TZID=UTC:20251231T183000
DTEND;TZID=UTC:20251231T200000
DTSTAMP:20260423T054656
CREATED:20251102T155303Z
LAST-MODIFIED:20251228T151612Z
UID:6840-1767205800-1767211200@sjuhcrichmond.org
SUMMARY:Bible Study will resume on January 7th
DESCRIPTION:You can join in Bible Study via Zoom. \nGo to www.sjuhcrichmond.org and scroll down and select the yellow “Watch” button and then select the “Zoom link for services” button to join bible study or any service.
URL:https://sjuhcrichmond.org/event/bible-study-16/
CATEGORIES:Church
END:VEVENT
BEGIN:VEVENT
DTSTART;TZID=UTC:20260101T090000
DTEND;TZID=UTC:20260101T093000
DTSTAMP:20260423T054656
CREATED:20251228T153123Z
LAST-MODIFIED:20251228T153123Z
UID:6935-1767258000-1767259800@sjuhcrichmond.org
SUMMARY:9 am Daily Morning Prayer
DESCRIPTION: Dial into the prayer line for early morning prayer Dial 716-427-1562 Enter code: 786535 then press # When dialing in\, please remember to mute yourself by pressing *6
URL:https://sjuhcrichmond.org/event/9-am-daily-morning-prayer-504/
CATEGORIES:Church
END:VEVENT
BEGIN:VEVENT
DTSTART;TZID=UTC:20260102T090000
DTEND;TZID=UTC:20260102T093000
DTSTAMP:20260423T054656
CREATED:20251228T153227Z
LAST-MODIFIED:20251228T153227Z
UID:6937-1767344400-1767346200@sjuhcrichmond.org
SUMMARY:9am Daily Morning Prayer
DESCRIPTION: Dial into the prayer line for early morning prayer Dial 716-427-1562 Enter code: 786535 then press # When dialing in\, please remember to mute yourself by pressing *6
URL:https://sjuhcrichmond.org/event/9am-daily-morning-prayer-4/
CATEGORIES:Church
END:VEVENT
BEGIN:VEVENT
DTSTART;TZID=UTC:20260103T090000
DTEND;TZID=UTC:20260103T093000
DTSTAMP:20260423T054656
CREATED:20251228T153335Z
LAST-MODIFIED:20251228T153335Z
UID:6939-1767430800-1767432600@sjuhcrichmond.org
SUMMARY:9 am Daily Morning Prayer
DESCRIPTION: Dial into the prayer line for early morning prayer Dial 716-427-1562 Enter code: 786535 then press # When dialing in\, please remember to mute yourself by pressing *6
URL:https://sjuhcrichmond.org/event/9-am-daily-morning-prayer-505/
CATEGORIES:Church
END:VEVENT
BEGIN:VEVENT
DTSTART;TZID=UTC:20260105T090000
DTEND;TZID=UTC:20260105T093000
DTSTAMP:20260423T054656
CREATED:20251228T153501Z
LAST-MODIFIED:20251228T153501Z
UID:6941-1767603600-1767605400@sjuhcrichmond.org
SUMMARY:9am Daily Morning Prayer
DESCRIPTION: Dial into the prayer line for early morning prayer Dial 716-427-1562 Enter code: 786535 then press # When dialing in\, please remember to mute yourself by pressing *6
URL:https://sjuhcrichmond.org/event/9am-daily-morning-prayer-5/
CATEGORIES:Church
END:VEVENT
BEGIN:VEVENT
DTSTART;TZID=UTC:20260106T090000
DTEND;TZID=UTC:20260106T093000
DTSTAMP:20260423T054656
CREATED:20251228T153553Z
LAST-MODIFIED:20251228T153553Z
UID:6943-1767690000-1767691800@sjuhcrichmond.org
SUMMARY:9am Daily Morning Prayer
DESCRIPTION: Dial into the prayer line for early morning prayer Dial 716-427-1562 Enter code: 786535 then press # When dialing in\, please remember to mute yourself by pressing *6
URL:https://sjuhcrichmond.org/event/9am-daily-morning-prayer-6/
CATEGORIES:Church
END:VEVENT
BEGIN:VEVENT
DTSTART;TZID=UTC:20260107T060000
DTEND;TZID=UTC:20260107T063000
DTSTAMP:20260423T054656
CREATED:20251228T162716Z
LAST-MODIFIED:20251228T162716Z
UID:6989-1767765600-1767767400@sjuhcrichmond.org
SUMMARY:6 am Early Morning Prayer
DESCRIPTION:Dial into the prayer line for early morning prayer Dial 716-427-1562 Enter code: 786535 then press # When dialing in\, please remember to mute yourself by pressing *6
URL:https://sjuhcrichmond.org/event/6-am-early-morning-prayer-79/
CATEGORIES:Church
END:VEVENT
BEGIN:VEVENT
DTSTART;TZID=UTC:20260107T183000
DTEND;TZID=UTC:20260107T200000
DTSTAMP:20260423T054656
CREATED:20251102T155432Z
LAST-MODIFIED:20260107T224901Z
UID:6842-1767810600-1767816000@sjuhcrichmond.org
SUMMARY:Bible Study
DESCRIPTION:You can join in Bible Study via Zoom. \nGo to www.sjuhcrichmond.org and scroll down and select the yellow “Watch” button and then select the “Zoom link for services” button to join bible study or any service. \n \n1.7.2026 Bible Study and Prayer Meeting \n  Bible Study and Prayer Meeting \n          January 7\, 2026 \n         Topic: Sin\, Forgiveness\, and New Beginnings \n          Patricia Lilly\, Facilitator \n  \n          The Bible teaches that sin separates people from God\, but through confession\, repentance\, \n          and faith in Jesus Christ\, God offers complete forgiveness\, cleansing\, \n          and a new spiritual life\, making all things new through His grace and the power \n          of the Holy Spirit\, enabling believers to live transformed lives and extend forgiveness \n          to others.  AI Overview \n  \n          Study Scriptures \n   \n           Sin – Romans 3:23; Colossians 1:13; \n    \n           Forgiveness- Psalm 86:5; Micah 7:18; Colossians 1:14; Ephesians 1:7; 1John 1:9; \n                           Psalm 103:12; Ephesians 4:32; Matthew 6:12 \n    \n          New Beginnings- 2 Corinthians 5:17; Ezekiel 11:19; Jeremiah 31:34; Isaiah 43:25; \n                                   Isaiah 43:18-19 \n  \n          Discussion Questions \n\n          1. What is sin and what does the Bible say about it?\n          2. How much sin is too much to be forgiven?\n          3. What is the difference between a mistake and a persistent sin?\n          4. How do I genuinely regret sin\, not just feel sorry for getting for getting caught?\n          5. How often should I ask for forgiveness?\n          6. Is there anything God will not forgive?\n          7. How do I know that God has truly for given me?\n          8. How does grace enable a new start\, rather than just excusing me?\n          9. How can I find strength for change and live like someone who is forgiven?\n         10. What does a “new creation” in faith look like in daily life?\n\n 
URL:https://sjuhcrichmond.org/event/bible-study-17/
CATEGORIES:Church
END:VEVENT
END:VCALENDAR