BEGIN:VCALENDAR
VERSION:2.0
PRODID:-//St John&#039;s United Holy Church - ECPv6.15.20//NONSGML v1.0//EN
CALSCALE:GREGORIAN
METHOD:PUBLISH
X-WR-CALNAME:St John&#039;s United Holy Church
X-ORIGINAL-URL:https://sjuhcrichmond.org
X-WR-CALDESC:Events for St John&#039;s United Holy Church
REFRESH-INTERVAL;VALUE=DURATION:PT1H
X-Robots-Tag:noindex
X-PUBLISHED-TTL:PT1H
BEGIN:VTIMEZONE
TZID:UTC
BEGIN:STANDARD
TZOFFSETFROM:+0000
TZOFFSETTO:+0000
TZNAME:UTC
DTSTART:20240101T000000
END:STANDARD
END:VTIMEZONE
BEGIN:VEVENT
DTSTART;TZID=UTC:20250402T090000
DTEND;TZID=UTC:20250402T093000
DTSTAMP:20260423T195705
CREATED:20250126T164746Z
LAST-MODIFIED:20250126T164746Z
UID:6338-1743584400-1743586200@sjuhcrichmond.org
SUMMARY:9 am Daily Morning Prayer
DESCRIPTION:Dial into the prayer line for early morning prayer Dial 716-427-1562 Enter code: 786535 then press # When dialing in\, please remember to mute yourself by pressing *6
URL:https://sjuhcrichmond.org/event/9-am-daily-morning-prayer-379/
CATEGORIES:Church
END:VEVENT
BEGIN:VEVENT
DTSTART;TZID=UTC:20250402T060000
DTEND;TZID=UTC:20250402T063000
DTSTAMP:20260423T195705
CREATED:20250126T165327Z
LAST-MODIFIED:20250126T165327Z
UID:6348-1743573600-1743575400@sjuhcrichmond.org
SUMMARY:6 am Early Morning Prayer
DESCRIPTION:Dial into the prayer line for early morning prayer Dial 716-427-1562 Enter code: 786535 then press # When dialing in\, please remember to mute yourself by pressing *6
URL:https://sjuhcrichmond.org/event/6-am-early-morning-prayer-67/
CATEGORIES:Church
END:VEVENT
BEGIN:VEVENT
DTSTART;TZID=UTC:20250401T120000
DTEND;TZID=UTC:20250401T130000
DTSTAMP:20260423T195705
CREATED:20250119T214926Z
LAST-MODIFIED:20250119T220323Z
UID:6271-1743508800-1743512400@sjuhcrichmond.org
SUMMARY:Noon Day Prayer
DESCRIPTION:Noon Day Prayer will be held in person at St. John’s.
URL:https://sjuhcrichmond.org/event/noon-day-prayer-41/
CATEGORIES:Church
END:VEVENT
BEGIN:VEVENT
DTSTART;TZID=UTC:20250401T090000
DTEND;TZID=UTC:20250401T093000
DTSTAMP:20260423T195705
CREATED:20250126T164639Z
LAST-MODIFIED:20250126T164639Z
UID:6336-1743498000-1743499800@sjuhcrichmond.org
SUMMARY:9 am Daily Morning Prayer
DESCRIPTION:Dial into the prayer line for early morning prayer Dial 716-427-1562 Enter code: 786535 then press # When dialing in\, please remember to mute yourself by pressing *6
URL:https://sjuhcrichmond.org/event/9-am-daily-morning-prayer-378/
CATEGORIES:Church
END:VEVENT
BEGIN:VEVENT
DTSTART;TZID=UTC:20250331T090000
DTEND;TZID=UTC:20250331T093000
DTSTAMP:20260423T195705
CREATED:20250126T164517Z
LAST-MODIFIED:20250126T164517Z
UID:6334-1743411600-1743413400@sjuhcrichmond.org
SUMMARY:9 am Daily Morning Prayer
DESCRIPTION:Dial into the prayer line for early morning prayer Dial 716-427-1562 Enter code: 786535 then press # When dialing in\, please remember to mute yourself by pressing *6
URL:https://sjuhcrichmond.org/event/9-am-daily-morning-prayer-377/
CATEGORIES:Church
END:VEVENT
BEGIN:VEVENT
DTSTART;TZID=UTC:20250329T100000
DTEND;TZID=UTC:20250329T160000
DTSTAMP:20260423T195705
CREATED:20250323T144354Z
LAST-MODIFIED:20250323T144354Z
UID:6402-1743242400-1743264000@sjuhcrichmond.org
SUMMARY:Tidewater/Central Sub-District Union
DESCRIPTION:Twine Memorial Holy Temple \n710 Godwin Street \nPortsmouth\, VA
URL:https://sjuhcrichmond.org/event/tidewater-central-sub-district-union-2/
CATEGORIES:Church
END:VEVENT
BEGIN:VEVENT
DTSTART;TZID=UTC:20250329T090000
DTEND;TZID=UTC:20250329T093000
DTSTAMP:20260423T195705
CREATED:20250126T164012Z
LAST-MODIFIED:20250126T164409Z
UID:6327-1743238800-1743240600@sjuhcrichmond.org
SUMMARY:9 am Daily Morning Prayer
DESCRIPTION:Dial into the prayer line for early morning prayer Dial 716-427-1562 Enter code: 786535 then press # When dialing in\, please remember to mute yourself by pressing *6
URL:https://sjuhcrichmond.org/event/9-am-daily-morning-prayer-374/
CATEGORIES:Church
END:VEVENT
BEGIN:VEVENT
DTSTART;TZID=UTC:20250328T090000
DTEND;TZID=UTC:20250328T093000
DTSTAMP:20260423T195705
CREATED:20250126T164212Z
LAST-MODIFIED:20250126T164212Z
UID:6331-1743152400-1743154200@sjuhcrichmond.org
SUMMARY:9 am Daily Morning Prayer
DESCRIPTION:Dial into the prayer line for early morning prayer Dial 716-427-1562 Enter code: 786535 then press # When dialing in\, please remember to mute yourself by pressing *6
URL:https://sjuhcrichmond.org/event/9-am-daily-morning-prayer-376/
CATEGORIES:Church
END:VEVENT
BEGIN:VEVENT
DTSTART;TZID=UTC:20250327T090000
DTEND;TZID=UTC:20250327T093000
DTSTAMP:20260423T195705
CREATED:20250126T164128Z
LAST-MODIFIED:20250126T164128Z
UID:6329-1743066000-1743067800@sjuhcrichmond.org
SUMMARY:9 am Daily Morning Prayer
DESCRIPTION:Dial into the prayer line for early morning prayer Dial 716-427-1562 Enter code: 786535 then press # When dialing in\, please remember to mute yourself by pressing *6
URL:https://sjuhcrichmond.org/event/9-am-daily-morning-prayer-375/
CATEGORIES:Church
END:VEVENT
BEGIN:VEVENT
DTSTART;TZID=UTC:20250326T183000
DTEND;TZID=UTC:20250326T200000
DTSTAMP:20260423T195705
CREATED:20250302T171042Z
LAST-MODIFIED:20250302T171042Z
UID:6386-1743013800-1743019200@sjuhcrichmond.org
SUMMARY:Wednesday Bible Study
DESCRIPTION:
URL:https://sjuhcrichmond.org/event/wednesday-bible-study-53/
CATEGORIES:Church
END:VEVENT
BEGIN:VEVENT
DTSTART;TZID=UTC:20250326T090000
DTEND;TZID=UTC:20250326T093000
DTSTAMP:20260423T195705
CREATED:20250126T163931Z
LAST-MODIFIED:20250126T163931Z
UID:6325-1742979600-1742981400@sjuhcrichmond.org
SUMMARY:9 am Daily Morning Prayer
DESCRIPTION:Dial into the prayer line for early morning prayer Dial 716-427-1562 Enter code: 786535 then press # When dialing in\, please remember to mute yourself by pressing *6
URL:https://sjuhcrichmond.org/event/9-am-daily-morning-prayer-373/
CATEGORIES:Church
END:VEVENT
BEGIN:VEVENT
DTSTART;TZID=UTC:20250326T060000
DTEND;TZID=UTC:20250326T063000
DTSTAMP:20260423T195705
CREATED:20250126T165207Z
LAST-MODIFIED:20250126T165207Z
UID:6346-1742968800-1742970600@sjuhcrichmond.org
SUMMARY:6 am Early Morning Prayer
DESCRIPTION:Dial into the prayer line for early morning prayer Dial 716-427-1562 Enter code: 786535 then press # When dialing in\, please remember to mute yourself by pressing *6
URL:https://sjuhcrichmond.org/event/6-am-early-morning-prayer-66/
CATEGORIES:Church
END:VEVENT
BEGIN:VEVENT
DTSTART;TZID=UTC:20250325T120000
DTEND;TZID=UTC:20250325T130000
DTSTAMP:20260423T195705
CREATED:20250119T215654Z
LAST-MODIFIED:20250119T215654Z
UID:6279-1742904000-1742907600@sjuhcrichmond.org
SUMMARY:Noon Day Prayer
DESCRIPTION:Noon Day Prayer will be held in person at St. John’s.
URL:https://sjuhcrichmond.org/event/noon-day-prayer-45/
CATEGORIES:Church
END:VEVENT
BEGIN:VEVENT
DTSTART;TZID=UTC:20250325T090000
DTEND;TZID=UTC:20250325T093000
DTSTAMP:20260423T195705
CREATED:20250126T163616Z
LAST-MODIFIED:20250126T163616Z
UID:6323-1742893200-1742895000@sjuhcrichmond.org
SUMMARY:9 am Daily Morning Prayer
DESCRIPTION:Dial into the prayer line for early morning prayer Dial 716-427-1562 Enter code: 786535 then press # When dialing in\, please remember to mute yourself by pressing *6
URL:https://sjuhcrichmond.org/event/9-am-daily-morning-prayer-372/
CATEGORIES:Church
END:VEVENT
BEGIN:VEVENT
DTSTART;TZID=UTC:20250324T090000
DTEND;TZID=UTC:20250324T093000
DTSTAMP:20260423T195705
CREATED:20250126T163412Z
LAST-MODIFIED:20250126T163412Z
UID:6321-1742806800-1742808600@sjuhcrichmond.org
SUMMARY:9 am Daily Morning Prayer
DESCRIPTION:Dial into the prayer line for early morning prayer Dial 716-427-1562 Enter code: 786535 then press # When dialing in\, please remember to mute yourself by pressing *6
URL:https://sjuhcrichmond.org/event/9-am-daily-morning-prayer-371/
CATEGORIES:Church
END:VEVENT
BEGIN:VEVENT
DTSTART;TZID=UTC:20250322T090000
DTEND;TZID=UTC:20250322T140000
DTSTAMP:20260423T195705
CREATED:20250202T160805Z
LAST-MODIFIED:20250202T160805Z
UID:6357-1742634000-1742652000@sjuhcrichmond.org
SUMMARY:St. John's Spring Retreat
DESCRIPTION:St. John’s Spring Retreat will be held at Elko Community and Recreation Arena \n6216 White Oak Road \nSandston\, VA 23150 \nGuest Facilitator: Dr. Sharon E. Siler \nLunch will be served
URL:https://sjuhcrichmond.org/event/st-johns-spring-retreat/
CATEGORIES:Church
END:VEVENT
BEGIN:VEVENT
DTSTART;TZID=UTC:20250322T090000
DTEND;TZID=UTC:20250322T093000
DTSTAMP:20260423T195705
CREATED:20250126T163204Z
LAST-MODIFIED:20250126T163204Z
UID:6319-1742634000-1742635800@sjuhcrichmond.org
SUMMARY:9 am Daily Morning Prayer
DESCRIPTION:Dial into the prayer line for early morning prayer Dial 716-427-1562 Enter code: 786535 then press # When dialing in\, please remember to mute yourself by pressing *6
URL:https://sjuhcrichmond.org/event/9-am-daily-morning-prayer-370/
CATEGORIES:Church
END:VEVENT
BEGIN:VEVENT
DTSTART;TZID=UTC:20250321T090000
DTEND;TZID=UTC:20250321T093000
DTSTAMP:20260423T195705
CREATED:20250126T163115Z
LAST-MODIFIED:20250126T163115Z
UID:6317-1742547600-1742549400@sjuhcrichmond.org
SUMMARY:9 am Daily Morning Prayer
DESCRIPTION:Dial into the prayer line for early morning prayer Dial 716-427-1562 Enter code: 786535 then press # When dialing in\, please remember to mute yourself by pressing *6
URL:https://sjuhcrichmond.org/event/9-am-daily-morning-prayer-369/
CATEGORIES:Church
END:VEVENT
BEGIN:VEVENT
DTSTART;TZID=UTC:20250320T090000
DTEND;TZID=UTC:20250320T093000
DTSTAMP:20260423T195705
CREATED:20250126T163031Z
LAST-MODIFIED:20250126T163031Z
UID:6315-1742461200-1742463000@sjuhcrichmond.org
SUMMARY:9 am Daily Morning Prayer
DESCRIPTION:Dial into the prayer line for early morning prayer Dial 716-427-1562 Enter code: 786535 then press # When dialing in\, please remember to mute yourself by pressing *6
URL:https://sjuhcrichmond.org/event/9-am-daily-morning-prayer-368/
CATEGORIES:Church
END:VEVENT
BEGIN:VEVENT
DTSTART;TZID=UTC:20250319T183000
DTEND;TZID=UTC:20250319T200000
DTSTAMP:20260423T195705
CREATED:20250302T170712Z
LAST-MODIFIED:20250316T144811Z
UID:6384-1742409000-1742414400@sjuhcrichmond.org
SUMMARY:Wednesday Bible Study
DESCRIPTION:Virtual Bible Study \n“Understanding” \nProverbs 4:7 I Corinthians 14:20 Hebrews 11:3  \nThe attachment for bible study is available in the link below. \n\nUNDERSTANDING.docx
URL:https://sjuhcrichmond.org/event/wednesday-bible-study-52/
CATEGORIES:Church
END:VEVENT
BEGIN:VEVENT
DTSTART;TZID=UTC:20250319T090000
DTEND;TZID=UTC:20250319T093000
DTSTAMP:20260423T195705
CREATED:20250126T162944Z
LAST-MODIFIED:20250126T162944Z
UID:6313-1742374800-1742376600@sjuhcrichmond.org
SUMMARY:9 am Daily Morning Prayer
DESCRIPTION:Dial into the prayer line for early morning prayer Dial 716-427-1562 Enter code: 786535 then press # When dialing in\, please remember to mute yourself by pressing *6
URL:https://sjuhcrichmond.org/event/9-am-daily-morning-prayer-367/
CATEGORIES:Church
END:VEVENT
BEGIN:VEVENT
DTSTART;TZID=UTC:20250319T060000
DTEND;TZID=UTC:20250319T063000
DTSTAMP:20260423T195705
CREATED:20250105T161450Z
LAST-MODIFIED:20250105T162213Z
UID:6172-1742364000-1742365800@sjuhcrichmond.org
SUMMARY:6 am Early Morning Prayer
DESCRIPTION:Dial into the prayer line for early morning prayer Dial 716-427-1562 Enter code: 786535 then press # When dialing in\, please remember to mute yourself by pressing *6
URL:https://sjuhcrichmond.org/event/6-am-early-morning-prayer-58/
CATEGORIES:Church
END:VEVENT
BEGIN:VEVENT
DTSTART;TZID=UTC:20250318T120000
DTEND;TZID=UTC:20250318T130000
DTSTAMP:20260423T195705
CREATED:20250119T215045Z
LAST-MODIFIED:20250119T215045Z
UID:6273-1742299200-1742302800@sjuhcrichmond.org
SUMMARY:Noon Day Prayer
DESCRIPTION:Noon Day Prayer will be held in person at St. John’s.
URL:https://sjuhcrichmond.org/event/noon-day-prayer-42/
CATEGORIES:Church
END:VEVENT
BEGIN:VEVENT
DTSTART;TZID=UTC:20250318T090000
DTEND;TZID=UTC:20250318T093000
DTSTAMP:20260423T195705
CREATED:20250126T162902Z
LAST-MODIFIED:20250126T162902Z
UID:6311-1742288400-1742290200@sjuhcrichmond.org
SUMMARY:9 am Daily Morning Prayer
DESCRIPTION:Dial into the prayer line for early morning prayer Dial 716-427-1562 Enter code: 786535 then press # When dialing in\, please remember to mute yourself by pressing *6
URL:https://sjuhcrichmond.org/event/9-am-daily-morning-prayer-366/
CATEGORIES:Church
END:VEVENT
BEGIN:VEVENT
DTSTART;TZID=UTC:20250317T090000
DTEND;TZID=UTC:20250317T093000
DTSTAMP:20260423T195705
CREATED:20250126T162746Z
LAST-MODIFIED:20250126T162746Z
UID:6309-1742202000-1742203800@sjuhcrichmond.org
SUMMARY:9 am Daily Morning Prayer
DESCRIPTION:Dial into the prayer line for early morning prayer Dial 716-427-1562 Enter code: 786535 then press # When dialing in\, please remember to mute yourself by pressing *6
URL:https://sjuhcrichmond.org/event/9-am-daily-morning-prayer-365/
CATEGORIES:Church
END:VEVENT
BEGIN:VEVENT
DTSTART;TZID=UTC:20250316T160000
DTEND;TZID=UTC:20250316T173000
DTSTAMP:20260423T195705
CREATED:20250316T145521Z
LAST-MODIFIED:20250316T145521Z
UID:6393-1742140800-1742146200@sjuhcrichmond.org
SUMMARY:Central Sub-District Fellowship
DESCRIPTION:Fellowship will be held at Love Joy Peach Christian Fellowship
URL:https://sjuhcrichmond.org/event/central-sub-district-fellowship-7/
CATEGORIES:Church
END:VEVENT
BEGIN:VEVENT
DTSTART;TZID=UTC:20250316T100000
DTEND;TZID=UTC:20250316T160000
DTSTAMP:20260423T195705
CREATED:20250316T150447Z
LAST-MODIFIED:20250316T152634Z
UID:6395-1742119200-1742140800@sjuhcrichmond.org
SUMMARY:Tidewater/Central Sub-District Union
DESCRIPTION:Twine Memorial Holy Temple \n710 Godwin Street \nPortsmouth\, VA
URL:https://sjuhcrichmond.org/event/tidewater-central-sub-district-union/
CATEGORIES:Church
END:VEVENT
BEGIN:VEVENT
DTSTART;TZID=UTC:20250315T090000
DTEND;TZID=UTC:20250315T090000
DTSTAMP:20260423T195705
CREATED:20250126T162558Z
LAST-MODIFIED:20250126T162558Z
UID:6307-1742029200-1742029200@sjuhcrichmond.org
SUMMARY:9 am Daily Morning Prayer
DESCRIPTION:Dial into the prayer line for early morning prayer Dial 716-427-1562 Enter code: 786535 then press # When dialing in\, please remember to mute yourself by pressing *6
URL:https://sjuhcrichmond.org/event/9-am-daily-morning-prayer-364/
CATEGORIES:Church
END:VEVENT
BEGIN:VEVENT
DTSTART;TZID=UTC:20250314T090000
DTEND;TZID=UTC:20250314T093000
DTSTAMP:20260423T195705
CREATED:20250126T162508Z
LAST-MODIFIED:20250126T162508Z
UID:6305-1741942800-1741944600@sjuhcrichmond.org
SUMMARY:9 am Daily Morning Prayer
DESCRIPTION:Dial into the prayer line for early morning prayer Dial 716-427-1562 Enter code: 786535 then press # When dialing in\, please remember to mute yourself by pressing *6
URL:https://sjuhcrichmond.org/event/9-am-daily-morning-prayer-363/
CATEGORIES:Church
END:VEVENT
BEGIN:VEVENT
DTSTART;TZID=UTC:20250313T090000
DTEND;TZID=UTC:20250313T093000
DTSTAMP:20260423T195705
CREATED:20250126T162403Z
LAST-MODIFIED:20250126T162403Z
UID:6303-1741856400-1741858200@sjuhcrichmond.org
SUMMARY:9 am Daily Morning Prayer
DESCRIPTION:Dial into the prayer line for early morning prayer Dial 716-427-1562 Enter code: 786535 then press # When dialing in\, please remember to mute yourself by pressing *6
URL:https://sjuhcrichmond.org/event/9-am-daily-morning-prayer-362/
CATEGORIES:Church
END:VEVENT
END:VCALENDAR