BEGIN:VCALENDAR
VERSION:2.0
PRODID:-//St John&#039;s United Holy Church - ECPv6.15.20//NONSGML v1.0//EN
CALSCALE:GREGORIAN
METHOD:PUBLISH
X-ORIGINAL-URL:https://sjuhcrichmond.org
X-WR-CALDESC:Events for St John&#039;s United Holy Church
REFRESH-INTERVAL;VALUE=DURATION:PT1H
X-Robots-Tag:noindex
X-PUBLISHED-TTL:PT1H
BEGIN:VTIMEZONE
TZID:UTC
BEGIN:STANDARD
TZOFFSETFROM:+0000
TZOFFSETTO:+0000
TZNAME:UTC
DTSTART:20240101T000000
END:STANDARD
END:VTIMEZONE
BEGIN:VEVENT
DTSTART;TZID=UTC:20250113T090000
DTEND;TZID=UTC:20250113T093000
DTSTAMP:20260423T205427
CREATED:20241229T153806Z
LAST-MODIFIED:20241229T153806Z
UID:6130-1736758800-1736760600@sjuhcrichmond.org
SUMMARY:9 am Daily Morning Prayer
DESCRIPTION:Dial into the prayer line for early morning prayer Dial 716-427-1562 Enter code: 786535 then press # When dialing in\, please remember to mute yourself by pressing *6
URL:https://sjuhcrichmond.org/event/9-am-daily-morning-prayer-312/
CATEGORIES:Church
END:VEVENT
BEGIN:VEVENT
DTSTART;TZID=UTC:20250114T090000
DTEND;TZID=UTC:20250114T093000
DTSTAMP:20260423T205427
CREATED:20241229T154020Z
LAST-MODIFIED:20241229T154020Z
UID:6132-1736845200-1736847000@sjuhcrichmond.org
SUMMARY:9 am Daily Morning Prayer
DESCRIPTION:Dial into the prayer line for early morning prayer Dial 716-427-1562 Enter code: 786535 then press # When dialing in\, please remember to mute yourself by pressing *6
URL:https://sjuhcrichmond.org/event/9-am-daily-morning-prayer-313/
CATEGORIES:Church
END:VEVENT
BEGIN:VEVENT
DTSTART;TZID=UTC:20250114T120000
DTEND;TZID=UTC:20250114T130000
DTSTAMP:20260423T205427
CREATED:20241201T163353Z
LAST-MODIFIED:20241201T163353Z
UID:6053-1736856000-1736859600@sjuhcrichmond.org
SUMMARY:Noon Day Prayer
DESCRIPTION:Noon Day Prayer will be held in person at St. John’s.
URL:https://sjuhcrichmond.org/event/noon-day-prayer-33/
CATEGORIES:Church
END:VEVENT
BEGIN:VEVENT
DTSTART;TZID=UTC:20250115T060000
DTEND;TZID=UTC:20250115T063000
DTSTAMP:20260423T205427
CREATED:20250105T161246Z
LAST-MODIFIED:20250105T161246Z
UID:6168-1736920800-1736922600@sjuhcrichmond.org
SUMMARY:6 am Early Morning Prayer
DESCRIPTION:Dial into the prayer line for early morning prayer Dial 716-427-1562 Enter code: 786535 then press # When dialing in\, please remember to mute yourself by pressing *6
URL:https://sjuhcrichmond.org/event/6-am-early-morning-prayer-56/
CATEGORIES:Church
END:VEVENT
BEGIN:VEVENT
DTSTART;TZID=UTC:20250115T090000
DTEND;TZID=UTC:20250115T093000
DTSTAMP:20260423T205427
CREATED:20241229T154151Z
LAST-MODIFIED:20241229T154151Z
UID:6134-1736931600-1736933400@sjuhcrichmond.org
SUMMARY:9 am Daily Morning Prayer
DESCRIPTION:Dial into the prayer line for early morning prayer Dial 716-427-1562 Enter code: 786535 then press # When dialing in\, please remember to mute yourself by pressing *6
URL:https://sjuhcrichmond.org/event/9-am-daily-morning-prayer-314/
CATEGORIES:Church
END:VEVENT
BEGIN:VEVENT
DTSTART;TZID=UTC:20250115T183000
DTEND;TZID=UTC:20250115T200000
DTSTAMP:20260423T205427
CREATED:20250105T163836Z
LAST-MODIFIED:20250105T163836Z
UID:6190-1736965800-1736971200@sjuhcrichmond.org
SUMMARY:Wednesday Bible Study
DESCRIPTION:You can join in Bible Study via Zoom. \nGo to www.sjuhcrichmond.org and scroll down and select the yellow “Watch” button and then select the “Zoom link for services” button to join bible study or any service.
URL:https://sjuhcrichmond.org/event/wednesday-bible-study-48/
CATEGORIES:Church
END:VEVENT
BEGIN:VEVENT
DTSTART;TZID=UTC:20250116T090000
DTEND;TZID=UTC:20250116T093000
DTSTAMP:20260423T205427
CREATED:20241229T154624Z
LAST-MODIFIED:20241229T154624Z
UID:6136-1737018000-1737019800@sjuhcrichmond.org
SUMMARY:9 am Daily Morning Prayer
DESCRIPTION:Dial into the prayer line for early morning prayer Dial 716-427-1562 Enter code: 786535 then press # When dialing in\, please remember to mute yourself by pressing *6
URL:https://sjuhcrichmond.org/event/9-am-daily-morning-prayer-315/
CATEGORIES:Church
END:VEVENT
BEGIN:VEVENT
DTSTART;TZID=UTC:20250117T090000
DTEND;TZID=UTC:20250117T093000
DTSTAMP:20260423T205427
CREATED:20241229T155634Z
LAST-MODIFIED:20241229T155634Z
UID:6138-1737104400-1737106200@sjuhcrichmond.org
SUMMARY:9 am Daily Morning Prayer
DESCRIPTION:Dial into the prayer line for early morning prayer Dial 716-427-1562 Enter code: 786535 then press # When dialing in\, please remember to mute yourself by pressing *6
URL:https://sjuhcrichmond.org/event/9-am-daily-morning-prayer-316/
CATEGORIES:Church
END:VEVENT
BEGIN:VEVENT
DTSTART;TZID=UTC:20250118T160000
DTEND;TZID=UTC:20250118T170000
DTSTAMP:20260423T205427
CREATED:20241222T165802Z
LAST-MODIFIED:20241222T165802Z
UID:6113-1737216000-1737219600@sjuhcrichmond.org
SUMMARY:Central Sub-District Fellowship
DESCRIPTION:Central Sub-District Fellowship will be held at St. John’s UHC.
URL:https://sjuhcrichmond.org/event/central-sub-district-fellowship-6/
CATEGORIES:Church
END:VEVENT
BEGIN:VEVENT
DTSTART;TZID=UTC:20250119T040000
DTEND;TZID=UTC:20250119T173000
DTSTAMP:20260423T205427
CREATED:20250105T163609Z
LAST-MODIFIED:20250105T163609Z
UID:6188-1737259200-1737307800@sjuhcrichmond.org
SUMMARY:Central Sub-District Fellowship - St. John's UHC
DESCRIPTION:The Central Sub-District Fellowship will be hosted by St. John’s.
URL:https://sjuhcrichmond.org/event/central-sub-district-fellowship-st-johns-uhc/
CATEGORIES:Church
END:VEVENT
BEGIN:VEVENT
DTSTART;TZID=UTC:20250120T090000
DTEND;TZID=UTC:20250120T093000
DTSTAMP:20260423T205427
CREATED:20241229T160103Z
LAST-MODIFIED:20241229T160103Z
UID:6142-1737363600-1737365400@sjuhcrichmond.org
SUMMARY:9am Daily Morning Prayer
DESCRIPTION:Dial into the prayer line for early morning prayer Dial 716-427-1562 Enter code: 786535 then press # When dialing in\, please remember to mute yourself by pressing *6
URL:https://sjuhcrichmond.org/event/9am-daily-morning-prayer-3/
CATEGORIES:Church
END:VEVENT
BEGIN:VEVENT
DTSTART;TZID=UTC:20250121T090000
DTEND;TZID=UTC:20250121T093000
DTSTAMP:20260423T205427
CREATED:20241229T163950Z
LAST-MODIFIED:20241229T163950Z
UID:6144-1737450000-1737451800@sjuhcrichmond.org
SUMMARY:9 am Daily Morning Prayer
DESCRIPTION:Dial into the prayer line for early morning prayer Dial 716-427-1562 Enter code: 786535 then press # When dialing in\, please remember to mute yourself by pressing *6
URL:https://sjuhcrichmond.org/event/9-am-daily-morning-prayer-317/
CATEGORIES:Church
END:VEVENT
BEGIN:VEVENT
DTSTART;TZID=UTC:20250121T120000
DTEND;TZID=UTC:20250121T130000
DTSTAMP:20260423T205427
CREATED:20241201T163431Z
LAST-MODIFIED:20241201T163431Z
UID:6055-1737460800-1737464400@sjuhcrichmond.org
SUMMARY:Noon Day Prayer
DESCRIPTION:Noon Day Prayer will be held in person at St. John’s.
URL:https://sjuhcrichmond.org/event/noon-day-prayer-34/
CATEGORIES:Church
END:VEVENT
BEGIN:VEVENT
DTSTART;TZID=UTC:20250122T060000
DTEND;TZID=UTC:20250122T063000
DTSTAMP:20260423T205427
CREATED:20250105T161358Z
LAST-MODIFIED:20250105T161358Z
UID:6170-1737525600-1737527400@sjuhcrichmond.org
SUMMARY:6 am Early Morning Prayer
DESCRIPTION:Dial into the prayer line for early morning prayer Dial 716-427-1562 Enter code: 786535 then press # When dialing in\, please remember to mute yourself by pressing *6
URL:https://sjuhcrichmond.org/event/6-am-early-morning-prayer-57/
CATEGORIES:Church
END:VEVENT
BEGIN:VEVENT
DTSTART;TZID=UTC:20250122T090000
DTEND;TZID=UTC:20250122T093000
DTSTAMP:20260423T205427
CREATED:20241222T173050Z
LAST-MODIFIED:20241229T163629Z
UID:6123-1737536400-1737538200@sjuhcrichmond.org
SUMMARY:9 am Daily Morning Prayer
DESCRIPTION:Dial into the prayer line for early morning prayer Dial 716-427-1562 Enter code: 786535 then press # When dialing in\, please remember to mute yourself by pressing *6
URL:https://sjuhcrichmond.org/event/9-am-daily-morning-prayer-309/
CATEGORIES:Church
END:VEVENT
BEGIN:VEVENT
DTSTART;TZID=UTC:20250122T183000
DTEND;TZID=UTC:20250122T200000
DTSTAMP:20260423T205427
CREATED:20250105T163928Z
LAST-MODIFIED:20250105T163928Z
UID:6192-1737570600-1737576000@sjuhcrichmond.org
SUMMARY:Wednesday Bible Study
DESCRIPTION:You can join in Bible Study via Zoom. \nGo to www.sjuhcrichmond.org and scroll down and select the yellow “Watch” button and then select the “Zoom link for services” button to join bible study or any service.
URL:https://sjuhcrichmond.org/event/wednesday-bible-study-49/
CATEGORIES:Church
END:VEVENT
BEGIN:VEVENT
DTSTART;TZID=UTC:20250123T090000
DTEND;TZID=UTC:20250123T093000
DTSTAMP:20260423T205427
CREATED:20241229T155840Z
LAST-MODIFIED:20241229T163708Z
UID:6140-1737622800-1737624600@sjuhcrichmond.org
SUMMARY:9am Daily Morning Prayer
DESCRIPTION:Dial into the prayer line for early morning prayer Dial 716-427-1562 Enter code: 786535 then press # When dialing in\, please remember to mute yourself by pressing *6
URL:https://sjuhcrichmond.org/event/9am-daily-morning-prayer-2/
CATEGORIES:Church
END:VEVENT
BEGIN:VEVENT
DTSTART;TZID=UTC:20250124T090000
DTEND;TZID=UTC:20250124T213000
DTSTAMP:20260423T205427
CREATED:20241229T164303Z
LAST-MODIFIED:20241229T164303Z
UID:6146-1737709200-1737754200@sjuhcrichmond.org
SUMMARY:9 am Daily Morning Prayer
DESCRIPTION:Dial into the prayer line for early morning prayer Dial 716-427-1562 Enter code: 786535 then press # When dialing in\, please remember to mute yourself by pressing *6
URL:https://sjuhcrichmond.org/event/9-am-daily-morning-prayer-318/
CATEGORIES:Church
END:VEVENT
BEGIN:VEVENT
DTSTART;TZID=UTC:20250125T090000
DTEND;TZID=UTC:20250125T093000
DTSTAMP:20260423T205427
CREATED:20241229T164416Z
LAST-MODIFIED:20241229T164416Z
UID:6148-1737795600-1737797400@sjuhcrichmond.org
SUMMARY:9 am Daily Morning Prayer
DESCRIPTION:Dial into the prayer line for early morning prayer Dial 716-427-1562 Enter code: 786535 then press # When dialing in\, please remember to mute yourself by pressing *6
URL:https://sjuhcrichmond.org/event/9-am-daily-morning-prayer-319/
CATEGORIES:Church
END:VEVENT
BEGIN:VEVENT
DTSTART;TZID=UTC:20250127T090000
DTEND;TZID=UTC:20250127T093000
DTSTAMP:20260423T205427
CREATED:20241229T164608Z
LAST-MODIFIED:20241229T164608Z
UID:6150-1737968400-1737970200@sjuhcrichmond.org
SUMMARY:9 am Daily Morning Prayer
DESCRIPTION:Dial into the prayer line for early morning prayer Dial 716-427-1562 Enter code: 786535 then press # When dialing in\, please remember to mute yourself by pressing *6
URL:https://sjuhcrichmond.org/event/9-am-daily-morning-prayer-320/
CATEGORIES:Church
END:VEVENT
BEGIN:VEVENT
DTSTART;TZID=UTC:20250128T090000
DTEND;TZID=UTC:20250128T093000
DTSTAMP:20260423T205427
CREATED:20241229T170355Z
LAST-MODIFIED:20241229T170355Z
UID:6152-1738054800-1738056600@sjuhcrichmond.org
SUMMARY:9 am Daily Morning Prayer
DESCRIPTION:Dial into the prayer line for early morning prayer Dial 716-427-1562 Enter code: 786535 then press # When dialing in\, please remember to mute yourself by pressing *6
URL:https://sjuhcrichmond.org/event/9-am-daily-morning-prayer-321/
CATEGORIES:Church
END:VEVENT
BEGIN:VEVENT
DTSTART;TZID=UTC:20250128T120000
DTEND;TZID=UTC:20250128T130000
DTSTAMP:20260423T205427
CREATED:20250119T213721Z
LAST-MODIFIED:20250119T213721Z
UID:6261-1738065600-1738069200@sjuhcrichmond.org
SUMMARY:Noon Day Prayer:
DESCRIPTION:Noon Day Prayer: \nNoon Day Prayer will be held in person at St. John’s.
URL:https://sjuhcrichmond.org/event/noon-day-prayer-36/
CATEGORIES:Church
END:VEVENT
BEGIN:VEVENT
DTSTART;TZID=UTC:20250129T060000
DTEND;TZID=UTC:20250129T063000
DTSTAMP:20260423T205427
CREATED:20250105T161540Z
LAST-MODIFIED:20250105T161540Z
UID:6174-1738130400-1738132200@sjuhcrichmond.org
SUMMARY:6 am Early Morning Prayer
DESCRIPTION:Dial into the prayer line for early morning prayer Dial 716-427-1562 Enter code: 786535 then press # When dialing in\, please remember to mute yourself by pressing *6
URL:https://sjuhcrichmond.org/event/6-am-early-morning-prayer-59/
CATEGORIES:Church
END:VEVENT
BEGIN:VEVENT
DTSTART;TZID=UTC:20250129T090000
DTEND;TZID=UTC:20250129T093000
DTSTAMP:20260423T205427
CREATED:20241229T170801Z
LAST-MODIFIED:20241229T170842Z
UID:6154-1738141200-1738143000@sjuhcrichmond.org
SUMMARY:9 am Daily Morning Prayer
DESCRIPTION:Dial into the prayer line for early morning prayer Dial 716-427-1562 Enter code: 786535 then press # When dialing in\, please remember to mute yourself by pressing *6
URL:https://sjuhcrichmond.org/event/9-am-daily-morning-prayer-322/
CATEGORIES:Church
END:VEVENT
BEGIN:VEVENT
DTSTART;TZID=UTC:20250129T183000
DTEND;TZID=UTC:20250129T200000
DTSTAMP:20260423T205427
CREATED:20250105T164203Z
LAST-MODIFIED:20250105T164203Z
UID:6196-1738175400-1738180800@sjuhcrichmond.org
SUMMARY:Bible Study
DESCRIPTION:You can join in Bible Study via Zoom. \nGo to www.sjuhcrichmond.org and scroll down and select the yellow “Watch” button and then select the “Zoom link for services” button to join bible study or any service.
URL:https://sjuhcrichmond.org/event/bible-study-4/
CATEGORIES:Church
END:VEVENT
BEGIN:VEVENT
DTSTART;TZID=UTC:20250130T090000
DTEND;TZID=UTC:20250130T093000
DTSTAMP:20260423T205427
CREATED:20241229T170950Z
LAST-MODIFIED:20241229T170950Z
UID:6156-1738227600-1738229400@sjuhcrichmond.org
SUMMARY:9 am Daily Morning Prayer
DESCRIPTION:Dial into the prayer line for early morning prayer Dial 716-427-1562 Enter code: 786535 then press # When dialing in\, please remember to mute yourself by pressing *6
URL:https://sjuhcrichmond.org/event/9-am-daily-morning-prayer-323/
CATEGORIES:Church
END:VEVENT
BEGIN:VEVENT
DTSTART;TZID=UTC:20250131T090000
DTEND;TZID=UTC:20250131T210000
DTSTAMP:20260423T205427
CREATED:20241229T171048Z
LAST-MODIFIED:20241229T171048Z
UID:6158-1738314000-1738357200@sjuhcrichmond.org
SUMMARY:9 am Daily Morning Prayer
DESCRIPTION:Dial into the prayer line for early morning prayer Dial 716-427-1562 Enter code: 786535 then press # When dialing in\, please remember to mute yourself by pressing *6
URL:https://sjuhcrichmond.org/event/9-am-daily-morning-prayer-324/
CATEGORIES:Church
END:VEVENT
BEGIN:VEVENT
DTSTART;TZID=UTC:20250201T090000
DTEND;TZID=UTC:20250201T093000
DTSTAMP:20260423T205427
CREATED:20241229T171201Z
LAST-MODIFIED:20241229T171201Z
UID:6160-1738400400-1738402200@sjuhcrichmond.org
SUMMARY:9 am Daily Morning Prayer
DESCRIPTION:Dial into the prayer line for early morning prayer Dial 716-427-1562 Enter code: 786535 then press # When dialing in\, please remember to mute yourself by pressing *6
URL:https://sjuhcrichmond.org/event/9-am-daily-morning-prayer-325/
CATEGORIES:Church
END:VEVENT
BEGIN:VEVENT
DTSTART;TZID=UTC:20250203T090000
DTEND;TZID=UTC:20250203T093000
DTSTAMP:20260423T205427
CREATED:20250105T165106Z
LAST-MODIFIED:20250105T171401Z
UID:6205-1738573200-1738575000@sjuhcrichmond.org
SUMMARY:9 am Daily Morning Prayer
DESCRIPTION:Dial into the prayer line for early morning prayer Dial 716-427-1562 Enter code: 786535 then press # When dialing in\, please remember to mute yourself by pressing *6
URL:https://sjuhcrichmond.org/event/9-am-daily-morning-prayer-326/
CATEGORIES:Church
END:VEVENT
BEGIN:VEVENT
DTSTART;TZID=UTC:20250204T090000
DTEND;TZID=UTC:20250204T093000
DTSTAMP:20260423T205427
CREATED:20250105T165427Z
LAST-MODIFIED:20250105T171550Z
UID:6207-1738659600-1738661400@sjuhcrichmond.org
SUMMARY:9 am Daily Morning Prayer
DESCRIPTION:Dial into the prayer line for early morning prayer Dial 716-427-1562 Enter code: 786535 then press # When dialing in\, please remember to mute yourself by pressing *6
URL:https://sjuhcrichmond.org/event/9-am-daily-morning-prayer-327/
CATEGORIES:Church
END:VEVENT
END:VCALENDAR