BEGIN:VCALENDAR
VERSION:2.0
PRODID:-//St John&#039;s United Holy Church - ECPv6.15.20//NONSGML v1.0//EN
CALSCALE:GREGORIAN
METHOD:PUBLISH
X-WR-CALNAME:St John&#039;s United Holy Church
X-ORIGINAL-URL:https://sjuhcrichmond.org
X-WR-CALDESC:Events for St John&#039;s United Holy Church
REFRESH-INTERVAL;VALUE=DURATION:PT1H
X-Robots-Tag:noindex
X-PUBLISHED-TTL:PT1H
BEGIN:VTIMEZONE
TZID:UTC
BEGIN:STANDARD
TZOFFSETFROM:+0000
TZOFFSETTO:+0000
TZNAME:UTC
DTSTART:20250101T000000
END:STANDARD
END:VTIMEZONE
BEGIN:VEVENT
DTSTART;TZID=UTC:20260320T090000
DTEND;TZID=UTC:20260320T093000
DTSTAMP:20260422T220237
CREATED:20260301T165440Z
LAST-MODIFIED:20260301T165440Z
UID:7142-1773997200-1773999000@sjuhcrichmond.org
SUMMARY:9 am Daily Morning Prayer
DESCRIPTION:Dial into the prayer line for early morning prayer Dial 716-427-1562 Enter code: 786535 then press # When dialing in\, please remember to mute yourself by pressing *6
URL:https://sjuhcrichmond.org/event/9-am-daily-morning-prayer-561/
CATEGORIES:Church
END:VEVENT
BEGIN:VEVENT
DTSTART;TZID=UTC:20260321T090000
DTEND;TZID=UTC:20260321T093000
DTSTAMP:20260422T220237
CREATED:20260301T165552Z
LAST-MODIFIED:20260301T165552Z
UID:7144-1774083600-1774085400@sjuhcrichmond.org
SUMMARY:9 am Daily Morning Prayer
DESCRIPTION:Dial into the prayer line for early morning prayer Dial 716-427-1562 Enter code: 786535 then press # When dialing in\, please remember to mute yourself by pressing *6
URL:https://sjuhcrichmond.org/event/9-am-daily-morning-prayer-562/
CATEGORIES:Church
END:VEVENT
BEGIN:VEVENT
DTSTART;TZID=UTC:20260321T100000
DTEND;TZID=UTC:20260321T120000
DTSTAMP:20260422T220237
CREATED:20260308T154531Z
LAST-MODIFIED:20260308T154531Z
UID:7202-1774087200-1774094400@sjuhcrichmond.org
SUMMARY:FeedMore Distribution
DESCRIPTION:Volunteers please arrive at 9 am.
URL:https://sjuhcrichmond.org/event/feedmore-distribution/
CATEGORIES:Church
END:VEVENT
BEGIN:VEVENT
DTSTART;TZID=UTC:20260323T090000
DTEND;TZID=UTC:20260323T093000
DTSTAMP:20260422T220237
CREATED:20260301T165908Z
LAST-MODIFIED:20260301T165908Z
UID:7146-1774256400-1774258200@sjuhcrichmond.org
SUMMARY:9 am Daily Morning Prayer
DESCRIPTION:Dial into the prayer line for early morning prayer Dial 716-427-1562 Enter code: 786535 then press # When dialing in\, please remember to mute yourself by pressing *6
URL:https://sjuhcrichmond.org/event/9-am-daily-morning-prayer-563/
CATEGORIES:Church
END:VEVENT
BEGIN:VEVENT
DTSTART;TZID=UTC:20260324T090000
DTEND;TZID=UTC:20260324T093000
DTSTAMP:20260422T220237
CREATED:20260301T170538Z
LAST-MODIFIED:20260301T170538Z
UID:7150-1774342800-1774344600@sjuhcrichmond.org
SUMMARY:9 am Daily Morning Prayer
DESCRIPTION:Dial into the prayer line for early morning prayer Dial 716-427-1562 Enter code: 786535 then press # When dialing in\, please remember to mute yourself by pressing *6
URL:https://sjuhcrichmond.org/event/9-am-daily-morning-prayer-565/
CATEGORIES:Church
END:VEVENT
BEGIN:VEVENT
DTSTART;TZID=UTC:20260324T120000
DTEND;TZID=UTC:20260324T140000
DTSTAMP:20260422T220237
CREATED:20260104T161318Z
LAST-MODIFIED:20260104T161319Z
UID:7025-1774353600-1774360800@sjuhcrichmond.org
SUMMARY:Noon Day Prayer
DESCRIPTION:Noon Day Prayer will be held in person at St. John’s.
URL:https://sjuhcrichmond.org/event/noon-day-prayer-55/
CATEGORIES:Church
END:VEVENT
BEGIN:VEVENT
DTSTART;TZID=UTC:20260325T060000
DTEND;TZID=UTC:20260325T063000
DTSTAMP:20260422T220237
CREATED:20260104T162146Z
LAST-MODIFIED:20260104T162146Z
UID:7041-1774418400-1774420200@sjuhcrichmond.org
SUMMARY:6 am Early Morning Prayer
DESCRIPTION:Dial into the prayer line for early morning prayer Dial 716-427-1562 Enter code: 786535 then press # When dialing in\, please remember to mute yourself by pressing *6
URL:https://sjuhcrichmond.org/event/6-am-early-morning-prayer-90/
CATEGORIES:Church
END:VEVENT
BEGIN:VEVENT
DTSTART;TZID=UTC:20260325T090000
DTEND;TZID=UTC:20260325T093000
DTSTAMP:20260422T220237
CREATED:20260301T170728Z
LAST-MODIFIED:20260301T170728Z
UID:7152-1774429200-1774431000@sjuhcrichmond.org
SUMMARY:9 am Daily Morning Prayer
DESCRIPTION:Dial into the prayer line for early morning prayer Dial 716-427-1562 Enter code: 786535 then press # When dialing in\, please remember to mute yourself by pressing *6
URL:https://sjuhcrichmond.org/event/9-am-daily-morning-prayer-566/
CATEGORIES:Church
END:VEVENT
BEGIN:VEVENT
DTSTART;TZID=UTC:20260325T183000
DTEND;TZID=UTC:20260325T200000
DTSTAMP:20260422T220237
CREATED:20260322T142818Z
LAST-MODIFIED:20260322T142818Z
UID:7210-1774463400-1774468800@sjuhcrichmond.org
SUMMARY:Virtual Bible Study - "Growing in Faith - Raising awareness to neglected faith"
DESCRIPTION:You can join in Bible Study via Zoom. \nGo to www.sjuhcrichmond.org and scroll down and select the yellow “Watch” button and then select the “Zoom link for services” button to join bible study or any service. \nBible Study Notes \n \nGrowing in Faith \nRaising awareness to neglected faith \nFaith is the foundation of our relationship with Christ\, but it doesn’t stop at simply knowing Him.  Growing in faith is a continuous journey that deepens our connection with God and transforms our lives. After embracing the gospel\, let’s focus on nurturing that faith and helping it grow deeper and more resilient. \n  \nWhat Does It Mean to Grow in Faith? \n “You must grow in the grace and knowledge of our Lord and Savior Jesus Christ.”    2 Peter 3:18 (NLT)  \nWe are called to continuously grow in faith.  Faith growth happens when we spend time with God\, study His Word\, and apply His truths to our lives. \nFaith is a daily journey.  Like a muscle\, the more you use it\, the more it is strengthened.  \nJames 1:22 (NLT)  “But don’t just listen to God’s word. You must do what it says. Otherwise\, you are only fooling yourselves.”  \nEvery decision we make to trust God\, and to rely on Him in prayer\, and to seek His wisdom in His Word brings new opportunities to deepen our faith. \nGrowing in faith means more than just believing in God.   \n\nIt’s an active and ongoing process that strengthens our trust in God’s promises and helps us live out His will.\nIt’s building a deeper relationship with Him \nIt’s continually relying on His guidance for the everyday things of life. \n\nFaith requires intentional and continual maintenance. \nWhat are some of the warning signs that your faith needs maintenance? \nSome Steps to Strengthen Faith                                                    Here are some ways to strengthen your faith daily and develop a deeper spiritual connection with Christ: \nDaily Bible Reading and Prayer                                                                                             Romans 10:17 (NLT) “So faith comes from hearing\, that is\, hearing the Good News about Christ.”  \n\nConsistency is key. \n\n\nMake a habit of reading the Bible and praying every day. Regular engagement with God’s Word helps your faith grow stronger. Try starting your day with Bible reading and praying for day-to-day guidance.  \n\nMemorize Scripture                                                                                                     Philippians 4:6-7 and  Isaiah 41:10  \n\nSolidify your faith is by memorizing verses that strengthen your trust in God’s promises. \nBible verses can be daily reminders of God’s faithfulness during times of uncertainty.\n\nFellowship with Other Believers \nHebrews 10:25 (NLT) “And let us not neglect our meeting together\, as some people do\, but encourage one another.”  \n\nSurrounding yourself with a Christian community encourages growth. \nAttending and participating in church services\, and joining small groups\, promote accountability.  \nGrowing your faith with the help of others allows you to learn\, share\, and grow collectively\n\nServe Other and Live Out Your Faith \nJames 2:17 (NLT) says\, “So you see\, faith by itself isn’t enough. Unless it produces good deeds\, it is dead and useless.” \n\nPutting your faith into action is one of the most effective ways to grow spiritually. Look for opportunities to serve others—whether it’s through ministry\, volunteering\, or sharing your testimony. \n Living out your faith not only blesses others but also strengthens your own.\n\nOvercoming Challenges to Growing Your Faith \nFaith growth comes with challenges. Identifying common barriers and learning how to overcome them is crucial to your spiritual development.  \nSome major obstacles to growing your faith and how to overcome them. \nDealing with Doubt and Uncertainty          Mark 9:24 (NLT) \n\nDoubt is a natural part of the faith journey; don’t let it hinder your growth. \nWhen you encounter doubt\, immediately bring it before God in prayer. \nSurround yourself with scriptures that reinforce your faith\, such as Proverbs 3:5-6 (NLT): “Trust in the Lord with all your heart; do not depend on your own understanding.\n\nOvercoming Discouragement and Setbacks    Galatians 6:9 \n\nTrials and hardships can leave us feeling discouraged in our faith. \nWhether you’re facing unanswered prayers\, personal struggles\, or spiritual dryness\, perseverance is key.  \nGrowth often comes during challenging times\, so trust in God’s timing and God’s plan. \nDon’t give up!\n\nThe world is a distraction.  Stay focused.   Matthew 6:33 (NLT) \n\nWe live in a world full of distractions – social media\, work\, and personal obligations can pull us away from focusing on our faith. \nIt’s important to prioritize time with God above everything else.  \nEstablish a routine that includes daily Bible reading\, prayer\, and time away from distractions to focus on your relationship with Christ.\n\nSpiritual Warfare      Ephesians 6:12 \n\nGrowing in faith often attracts spiritual opposition. \n Equip yourself with the “armor of God” (Ephesians 6:13-18) to stand firm in faith when spiritual battles arise.\nBy recognizing and addressing these obstacles\, you will continue to grow in faith and become more deeply rooted in Christ\, even when challenges arise.\n\nConclusion: Growing in Faith is a Lifelong Journey \nGrowing in faith is an ongoing\, intentional process that requires daily commitment and trust in God. As you deepen your relationship with Him\, you’ll learn how to navigate doubts\, overcome obstacles\, and live out your faith in practical ways. By applying practical steps to grow your faith and overcoming challenges\, you’ll find yourself closer to God and more confident in His promises. \n 
URL:https://sjuhcrichmond.org/event/virtual-bible-study-growing-in-faith-raising-awareness-to-neglected-faith/
CATEGORIES:Church
END:VEVENT
BEGIN:VEVENT
DTSTART;TZID=UTC:20260326T090000
DTEND;TZID=UTC:20260326T093000
DTSTAMP:20260422T220237
CREATED:20260301T170006Z
LAST-MODIFIED:20260301T170006Z
UID:7148-1774515600-1774517400@sjuhcrichmond.org
SUMMARY:9 am Daily Morning Prayer
DESCRIPTION:Dial into the prayer line for early morning prayer Dial 716-427-1562 Enter code: 786535 then press # When dialing in\, please remember to mute yourself by pressing *6
URL:https://sjuhcrichmond.org/event/9-am-daily-morning-prayer-564/
CATEGORIES:Church
END:VEVENT
BEGIN:VEVENT
DTSTART;TZID=UTC:20260327T090000
DTEND;TZID=UTC:20260327T093000
DTSTAMP:20260422T220237
CREATED:20260104T165102Z
LAST-MODIFIED:20260104T165102Z
UID:7085-1774602000-1774603800@sjuhcrichmond.org
SUMMARY:9 am Daily Morning Prayer
DESCRIPTION:Dial into the prayer line for early morning prayer Dial 716-427-1562 Enter code: 786535 then press # When dialing in\, please remember to mute yourself by pressing *6
URL:https://sjuhcrichmond.org/event/9-am-daily-morning-prayer-545/
CATEGORIES:Church
END:VEVENT
BEGIN:VEVENT
DTSTART;TZID=UTC:20260328T090000
DTEND;TZID=UTC:20260328T093000
DTSTAMP:20260422T220237
CREATED:20260301T171217Z
LAST-MODIFIED:20260301T171217Z
UID:7154-1774688400-1774690200@sjuhcrichmond.org
SUMMARY:9 am Daily Morning Prayer
DESCRIPTION:Dial into the prayer line for early morning prayer Dial 716-427-1562 Enter code: 786535 then press # When dialing in\, please remember to mute yourself by pressing *6
URL:https://sjuhcrichmond.org/event/9-am-daily-morning-prayer-567/
CATEGORIES:Church
END:VEVENT
BEGIN:VEVENT
DTSTART;TZID=UTC:20260330T090000
DTEND;TZID=UTC:20260330T093000
DTSTAMP:20260422T220237
CREATED:20260301T171425Z
LAST-MODIFIED:20260301T171425Z
UID:7156-1774861200-1774863000@sjuhcrichmond.org
SUMMARY:9 am Daily Morning Prayer
DESCRIPTION:Dial into the prayer line for early morning prayer Dial 716-427-1562 Enter code: 786535 then press # When dialing in\, please remember to mute yourself by pressing *6
URL:https://sjuhcrichmond.org/event/9-am-daily-morning-prayer-568/
CATEGORIES:Church
END:VEVENT
BEGIN:VEVENT
DTSTART;TZID=UTC:20260331T090000
DTEND;TZID=UTC:20260331T093000
DTSTAMP:20260422T220237
CREATED:20260301T171641Z
LAST-MODIFIED:20260301T171641Z
UID:7158-1774947600-1774949400@sjuhcrichmond.org
SUMMARY:9 am Daily Morning Prayer
DESCRIPTION:Dial into the prayer line for early morning prayer Dial 716-427-1562 Enter code: 786535 then press # When dialing in\, please remember to mute yourself by pressing *6
URL:https://sjuhcrichmond.org/event/9-am-daily-morning-prayer-569/
CATEGORIES:Church
END:VEVENT
BEGIN:VEVENT
DTSTART;TZID=UTC:20260331T120000
DTEND;TZID=UTC:20260331T140000
DTSTAMP:20260422T220237
CREATED:20260104T161211Z
LAST-MODIFIED:20260104T161211Z
UID:7023-1774958400-1774965600@sjuhcrichmond.org
SUMMARY:Noon Day Prayer
DESCRIPTION:Noon Day Prayer will be held in person at St. John’s.
URL:https://sjuhcrichmond.org/event/noon-day-prayer-54/
CATEGORIES:Church
END:VEVENT
BEGIN:VEVENT
DTSTART;TZID=UTC:20260401T060000
DTEND;TZID=UTC:20260401T063000
DTSTAMP:20260422T220237
CREATED:20260104T162327Z
LAST-MODIFIED:20260104T162327Z
UID:7043-1775023200-1775025000@sjuhcrichmond.org
SUMMARY:6 am Early Morning Prayer
DESCRIPTION:Dial into the prayer line for early morning prayer Dial 716-427-1562 Enter code: 786535 then press # When dialing in\, please remember to mute yourself by pressing *6
URL:https://sjuhcrichmond.org/event/6-am-early-morning-prayer-91/
CATEGORIES:Church
END:VEVENT
BEGIN:VEVENT
DTSTART;TZID=UTC:20260401T090000
DTEND;TZID=UTC:20260401T093000
DTSTAMP:20260422T220237
CREATED:20260308T152715Z
LAST-MODIFIED:20260308T152715Z
UID:7184-1775034000-1775035800@sjuhcrichmond.org
SUMMARY:9 am Daily Prayer
DESCRIPTION:Dial into the prayer line for early morning prayer Dial 716-427-1562 Enter code: 786535 then press # When dialing in\, please remember to mute yourself by pressing *6
URL:https://sjuhcrichmond.org/event/9-am-daily-prayer/
CATEGORIES:Church
END:VEVENT
BEGIN:VEVENT
DTSTART;TZID=UTC:20260401T193000
DTEND;TZID=UTC:20260401T210000
DTSTAMP:20260422T220237
CREATED:20260322T154246Z
LAST-MODIFIED:20260322T160321Z
UID:7212-1775071800-1775077200@sjuhcrichmond.org
SUMMARY:Annual Passion Week Revival
DESCRIPTION:Join us for Passion Week Revival as we reflect on this week in Christ’s journey to the cross and resurrection. \nClick here to join us \nUse meeting ID: 3570391690 \n \n 
URL:https://sjuhcrichmond.org/event/annual-passion-week-revival/
CATEGORIES:Church
END:VEVENT
BEGIN:VEVENT
DTSTART;TZID=UTC:20260402T090000
DTEND;TZID=UTC:20260402T093000
DTSTAMP:20260422T220237
CREATED:20260329T154940Z
LAST-MODIFIED:20260329T154940Z
UID:7229-1775120400-1775122200@sjuhcrichmond.org
SUMMARY:9 am Daily Morning Prayer
DESCRIPTION: Dial into the prayer line for early morning prayer Dial 716-427-1562 Enter code: 786535 then press # When dialing in\, please remember to mute yourself by pressing *6
URL:https://sjuhcrichmond.org/event/9-am-daily-morning-prayer-572/
CATEGORIES:Church
END:VEVENT
BEGIN:VEVENT
DTSTART;TZID=UTC:20260402T193000
DTEND;TZID=UTC:20260402T210000
DTSTAMP:20260422T220237
CREATED:20260322T154834Z
LAST-MODIFIED:20260322T160527Z
UID:7215-1775158200-1775163600@sjuhcrichmond.org
SUMMARY:Annual Passion Week Revival
DESCRIPTION:Join us for Passion Week Revival as we reflect on this week in Christ’s journey to the cross and resurrection. \nClick here to join us \nUse meeting ID: 3570391690 \n 
URL:https://sjuhcrichmond.org/event/annual-passion-week-revival-2/
CATEGORIES:Church
END:VEVENT
BEGIN:VEVENT
DTSTART;TZID=UTC:20260403T090000
DTEND;TZID=UTC:20260403T093000
DTSTAMP:20260422T220237
CREATED:20260329T154753Z
LAST-MODIFIED:20260329T154753Z
UID:7227-1775206800-1775208600@sjuhcrichmond.org
SUMMARY:9 am Daily Morning Prayer
DESCRIPTION: Dial into the prayer line for early morning prayer Dial 716-427-1562 Enter code: 786535 then press # When dialing in\, please remember to mute yourself by pressing *6
URL:https://sjuhcrichmond.org/event/9-am-daily-morning-prayer-571/
CATEGORIES:Church
END:VEVENT
BEGIN:VEVENT
DTSTART;TZID=UTC:20260403T193000
DTEND;TZID=UTC:20260403T210000
DTSTAMP:20260422T220237
CREATED:20260322T155156Z
LAST-MODIFIED:20260322T160647Z
UID:7217-1775244600-1775250000@sjuhcrichmond.org
SUMMARY:Annual Passion Week Revival
DESCRIPTION:Join us for Passion Week Revival as we reflect on this week in Christ’s journey to the cross and resurrection. \nClick here to join us \nUse meeting ID: 3570391690
URL:https://sjuhcrichmond.org/event/annual-passion-week-revival-3/
CATEGORIES:Church
END:VEVENT
BEGIN:VEVENT
DTSTART;TZID=UTC:20260404T090000
DTEND;TZID=UTC:20260404T093000
DTSTAMP:20260422T220237
CREATED:20260329T155042Z
LAST-MODIFIED:20260329T155042Z
UID:7231-1775293200-1775295000@sjuhcrichmond.org
SUMMARY:9 am Daily Morning Prayer
DESCRIPTION:Dial into the prayer line for early morning prayer Dial 716-427-1562 Enter code: 786535 then press # When dialing in\, please remember to mute yourself by pressing *6
URL:https://sjuhcrichmond.org/event/9-am-daily-morning-prayer-573/
CATEGORIES:Church
END:VEVENT
BEGIN:VEVENT
DTSTART;TZID=UTC:20260404T100000
DTEND;TZID=UTC:20260404T120000
DTSTAMP:20260422T220237
CREATED:20260308T154638Z
LAST-MODIFIED:20260412T155151Z
UID:7204-1775296800-1775304000@sjuhcrichmond.org
SUMMARY:FeedMore Distribution
DESCRIPTION:FeedMore Distribution Schedule \n1st and 3rd Saturday of each month \n(weather permitting)
URL:https://sjuhcrichmond.org/event/feedmore-distribution-2/
CATEGORIES:Church
END:VEVENT
BEGIN:VEVENT
DTSTART;TZID=UTC:20260406T090000
DTEND;TZID=UTC:20260406T093000
DTSTAMP:20260422T220237
CREATED:20260329T155140Z
LAST-MODIFIED:20260329T155140Z
UID:7233-1775466000-1775467800@sjuhcrichmond.org
SUMMARY:9 am Daily Morning Prayer
DESCRIPTION:Dial into the prayer line for early morning prayer Dial 716-427-1562 Enter code: 786535 then press # When dialing in\, please remember to mute yourself by pressing *6
URL:https://sjuhcrichmond.org/event/9-am-daily-morning-prayer-574/
CATEGORIES:Church
END:VEVENT
BEGIN:VEVENT
DTSTART;TZID=UTC:20260407T090000
DTEND;TZID=UTC:20260407T093000
DTSTAMP:20260422T220237
CREATED:20260329T155346Z
LAST-MODIFIED:20260329T155346Z
UID:7235-1775552400-1775554200@sjuhcrichmond.org
SUMMARY:9 am Daily Morning Prayer
DESCRIPTION:Dial into the prayer line for early morning prayer Dial 716-427-1562 Enter code: 786535 then press # When dialing in\, please remember to mute yourself by pressing *6
URL:https://sjuhcrichmond.org/event/9-am-daily-morning-prayer-575/
CATEGORIES:Church
END:VEVENT
BEGIN:VEVENT
DTSTART;TZID=UTC:20260408T060000
DTEND;TZID=UTC:20260408T063000
DTSTAMP:20260422T220237
CREATED:20260308T144055Z
LAST-MODIFIED:20260308T144055Z
UID:7162-1775628000-1775629800@sjuhcrichmond.org
SUMMARY:6 am Early Morning Prayer
DESCRIPTION:Dial into the prayer line for early morning prayer Dial 716-427-1562 Enter code: 786535 then press # When dialing in\, please remember to mute yourself by pressing *6
URL:https://sjuhcrichmond.org/event/6-am-early-morning-prayer-92/
CATEGORIES:Church
END:VEVENT
BEGIN:VEVENT
DTSTART;TZID=UTC:20260408T090000
DTEND;TZID=UTC:20260408T093000
DTSTAMP:20260422T220237
CREATED:20260329T155435Z
LAST-MODIFIED:20260329T155435Z
UID:7237-1775638800-1775640600@sjuhcrichmond.org
SUMMARY:9 am Daily Morning Prayer
DESCRIPTION:Dial into the prayer line for early morning prayer Dial 716-427-1562 Enter code: 786535 then press # When dialing in\, please remember to mute yourself by pressing *6
URL:https://sjuhcrichmond.org/event/9-am-daily-morning-prayer-576/
CATEGORIES:Church
END:VEVENT
BEGIN:VEVENT
DTSTART;TZID=UTC:20260408T183000
DTEND;TZID=UTC:20260408T200000
DTSTAMP:20260422T220237
CREATED:20260308T153447Z
LAST-MODIFIED:20260308T153447Z
UID:7190-1775673000-1775678400@sjuhcrichmond.org
SUMMARY:Virtual Bible Study
DESCRIPTION:Go to www.sjuhcrichmond.org and scroll down and select the yellow “Watch” button and then select the “Zoom link for services” button to join bible study or any service.
URL:https://sjuhcrichmond.org/event/virtual-bible-study-6/
CATEGORIES:Church
END:VEVENT
BEGIN:VEVENT
DTSTART;TZID=UTC:20260409T090000
DTEND;TZID=UTC:20260409T093000
DTSTAMP:20260422T220237
CREATED:20260329T155534Z
LAST-MODIFIED:20260329T155534Z
UID:7239-1775725200-1775727000@sjuhcrichmond.org
SUMMARY:9 am Daily Morning Prayer
DESCRIPTION:Dial into the prayer line for early morning prayer Dial 716-427-1562 Enter code: 786535 then press # When dialing in\, please remember to mute yourself by pressing *6
URL:https://sjuhcrichmond.org/event/9-am-daily-morning-prayer-577/
CATEGORIES:Church
END:VEVENT
END:VCALENDAR