BEGIN:VCALENDAR
VERSION:2.0
PRODID:-//St John&#039;s United Holy Church - ECPv6.15.20//NONSGML v1.0//EN
CALSCALE:GREGORIAN
METHOD:PUBLISH
X-WR-CALNAME:St John&#039;s United Holy Church
X-ORIGINAL-URL:https://sjuhcrichmond.org
X-WR-CALDESC:Events for St John&#039;s United Holy Church
REFRESH-INTERVAL;VALUE=DURATION:PT1H
X-Robots-Tag:noindex
X-PUBLISHED-TTL:PT1H
BEGIN:VTIMEZONE
TZID:UTC
BEGIN:STANDARD
TZOFFSETFROM:+0000
TZOFFSETTO:+0000
TZNAME:UTC
DTSTART:20240101T000000
END:STANDARD
END:VTIMEZONE
BEGIN:VEVENT
DTSTART;TZID=UTC:20250526T090000
DTEND;TZID=UTC:20250526T093000
DTSTAMP:20260423T113238
CREATED:20250525T141811Z
LAST-MODIFIED:20250525T141811Z
UID:6580-1748250000-1748251800@sjuhcrichmond.org
SUMMARY:9 am Daily Morning Prayer
DESCRIPTION:Dial into the prayer line for early morning prayer Dial 716-427-1562 Enter code: 786535 then press # When dialing in\, please remember to mute yourself by pressing *6
URL:https://sjuhcrichmond.org/event/9-am-daily-morning-prayer-406/
CATEGORIES:Church
END:VEVENT
BEGIN:VEVENT
DTSTART;TZID=UTC:20250527T090000
DTEND;TZID=UTC:20250527T093000
DTSTAMP:20260423T113238
CREATED:20250525T141932Z
LAST-MODIFIED:20250525T141932Z
UID:6582-1748336400-1748338200@sjuhcrichmond.org
SUMMARY:9 am Daily Morning Prayer
DESCRIPTION:Dial into the prayer line for early morning prayer Dial 716-427-1562 Enter code: 786535 then press # When dialing in\, please remember to mute yourself by pressing *6
URL:https://sjuhcrichmond.org/event/9-am-daily-morning-prayer-407/
CATEGORIES:Church
END:VEVENT
BEGIN:VEVENT
DTSTART;TZID=UTC:20250528T060000
DTEND;TZID=UTC:20250528T063000
DTSTAMP:20260423T113238
CREATED:20250406T144249Z
LAST-MODIFIED:20250406T144249Z
UID:6444-1748412000-1748413800@sjuhcrichmond.org
SUMMARY:6 am Early Morning Prayer
DESCRIPTION:Dial into the prayer line for early morning prayer Dial 716-427-1562 Enter code: 786535 then press # When dialing in\, please remember to mute yourself by pressing *6
URL:https://sjuhcrichmond.org/event/6-am-early-morning-prayer-73/
CATEGORIES:Church
END:VEVENT
BEGIN:VEVENT
DTSTART;TZID=UTC:20250528T090000
DTEND;TZID=UTC:20250528T093000
DTSTAMP:20260423T113238
CREATED:20250525T142028Z
LAST-MODIFIED:20250525T142028Z
UID:6584-1748422800-1748424600@sjuhcrichmond.org
SUMMARY:9 am Daily Morning Prayer
DESCRIPTION:Dial into the prayer line for early morning prayer Dial 716-427-1562 Enter code: 786535 then press # When dialing in\, please remember to mute yourself by pressing *6
URL:https://sjuhcrichmond.org/event/9-am-daily-morning-prayer-408/
CATEGORIES:Church
END:VEVENT
BEGIN:VEVENT
DTSTART;TZID=UTC:20250528T183000
DTEND;TZID=UTC:20250528T200000
DTSTAMP:20260423T113238
CREATED:20250406T150824Z
LAST-MODIFIED:20250525T145557Z
UID:6462-1748457000-1748462400@sjuhcrichmond.org
SUMMARY:Wednesday Bible Study
DESCRIPTION:Study of the Book of Ephesians \nContinuation of Chapter 3; Chapter 4 \n  \nYou can join in Bible Study via Zoom. \nGo to www.sjuhcrichmond.org and scroll down and select the yellow “Watch” button and then select the “Zoom link for services” button to join bible study or any service.
URL:https://sjuhcrichmond.org/event/wednesday-bible-study-58/
CATEGORIES:Church
END:VEVENT
BEGIN:VEVENT
DTSTART;TZID=UTC:20250529T090000
DTEND;TZID=UTC:20250529T093000
DTSTAMP:20260423T113238
CREATED:20250525T142139Z
LAST-MODIFIED:20250525T142139Z
UID:6586-1748509200-1748511000@sjuhcrichmond.org
SUMMARY:9 am Daily Morning Prayer
DESCRIPTION:9 am Daily Morning Prayer: Dial into the prayer line for early morning prayer Dial 716-427-1562 Enter code: 786535 then press # When dialing in\, please remember to mute yourself by pressing *6
URL:https://sjuhcrichmond.org/event/9-am-daily-morning-prayer-409/
CATEGORIES:Church
END:VEVENT
BEGIN:VEVENT
DTSTART;TZID=UTC:20250530T090000
DTEND;TZID=UTC:20250530T093000
DTSTAMP:20260423T113238
CREATED:20250525T142331Z
LAST-MODIFIED:20250525T142331Z
UID:6588-1748595600-1748597400@sjuhcrichmond.org
SUMMARY:9 am Daily Morning Prayer
DESCRIPTION:9 am Daily Morning Prayer: Dial into the prayer line for early morning prayer Dial 716-427-1562 Enter code: 786535 then press # When dialing in\, please remember to mute yourself by pressing *6
URL:https://sjuhcrichmond.org/event/9-am-daily-morning-prayer-410/
CATEGORIES:Church
END:VEVENT
BEGIN:VEVENT
DTSTART;TZID=UTC:20250531T090000
DTEND;TZID=UTC:20250531T093000
DTSTAMP:20260423T113238
CREATED:20250525T142439Z
LAST-MODIFIED:20250525T142439Z
UID:6590-1748682000-1748683800@sjuhcrichmond.org
SUMMARY:9 am Daily Morning Prayer
DESCRIPTION:9 am Daily Morning Prayer: Dial into the prayer line for early morning prayer Dial 716-427-1562 Enter code: 786535 then press # When dialing in\, please remember to mute yourself by pressing *6
URL:https://sjuhcrichmond.org/event/9-am-daily-morning-prayer-411/
CATEGORIES:Church
END:VEVENT
BEGIN:VEVENT
DTSTART;TZID=UTC:20250531T100000
DTEND;TZID=UTC:20250531T160000
DTSTAMP:20260423T113238
CREATED:20250525T145920Z
LAST-MODIFIED:20250525T145920Z
UID:6622-1748685600-1748707200@sjuhcrichmond.org
SUMMARY:Tidewater/Central Sub District Union
DESCRIPTION:Tidewater/Central Sub District Union will be held at St. John’s.
URL:https://sjuhcrichmond.org/event/tidewater-central-sub-district-union-3/
CATEGORIES:Church
END:VEVENT
BEGIN:VEVENT
DTSTART;TZID=UTC:20250601T160000
DTEND;TZID=UTC:20250601T180000
DTSTAMP:20260423T113238
CREATED:20250525T150838Z
LAST-MODIFIED:20250525T151303Z
UID:6624-1748793600-1748800800@sjuhcrichmond.org
SUMMARY:Mt. Calvary Family & Friends Reunion Celebration
DESCRIPTION:This service is sponsored by the daughters of \nDeacon Robert Humphrey & Mother Nancy Humphrey Augson \n“Come and experience a joyous time in the Lord”
URL:https://sjuhcrichmond.org/event/mt-calvary-family-friends-reunion-celebration/
CATEGORIES:Church
END:VEVENT
BEGIN:VEVENT
DTSTART;TZID=UTC:20250602T090000
DTEND;TZID=UTC:20250602T093000
DTSTAMP:20260423T113238
CREATED:20250525T142557Z
LAST-MODIFIED:20250525T142557Z
UID:6592-1748854800-1748856600@sjuhcrichmond.org
SUMMARY:9 am Daily Morning Prayer
DESCRIPTION:9 am Daily Morning Prayer: Dial into the prayer line for early morning prayer Dial 716-427-1562 Enter code: 786535 then press # When dialing in\, please remember to mute yourself by pressing *6
URL:https://sjuhcrichmond.org/event/9-am-daily-morning-prayer-412/
CATEGORIES:Church
END:VEVENT
BEGIN:VEVENT
DTSTART;TZID=UTC:20250603T090000
DTEND;TZID=UTC:20250603T093000
DTSTAMP:20260423T113238
CREATED:20250525T142752Z
LAST-MODIFIED:20250525T142752Z
UID:6594-1748941200-1748943000@sjuhcrichmond.org
SUMMARY:9 am Daily Morning Prayer
DESCRIPTION:9 am Daily Morning Prayer: Dial into the prayer line for early morning prayer Dial 716-427-1562 Enter code: 786535 then press # When dialing in\, please remember to mute yourself by pressing *6
URL:https://sjuhcrichmond.org/event/9-am-daily-morning-prayer-413/
CATEGORIES:Church
END:VEVENT
BEGIN:VEVENT
DTSTART;TZID=UTC:20250604T060000
DTEND;TZID=UTC:20250604T063000
DTSTAMP:20260423T113238
CREATED:20250406T144432Z
LAST-MODIFIED:20250406T144432Z
UID:6446-1749016800-1749018600@sjuhcrichmond.org
SUMMARY:6 am Early Morning Prayer
DESCRIPTION:Dial into the prayer line for early morning prayer Dial 716-427-1562 Enter code: 786535 then press # When dialing in\, please remember to mute yourself by pressing *6
URL:https://sjuhcrichmond.org/event/6-am-early-morning-prayer-74/
CATEGORIES:Church
END:VEVENT
BEGIN:VEVENT
DTSTART;TZID=UTC:20250604T090000
DTEND;TZID=UTC:20250604T093000
DTSTAMP:20260423T113238
CREATED:20250525T142846Z
LAST-MODIFIED:20250525T142846Z
UID:6596-1749027600-1749029400@sjuhcrichmond.org
SUMMARY:9 am Daily Morning Prayer
DESCRIPTION:9 am Daily Morning Prayer: Dial into the prayer line for early morning prayer Dial 716-427-1562 Enter code: 786535 then press # When dialing in\, please remember to mute yourself by pressing *6
URL:https://sjuhcrichmond.org/event/9-am-daily-morning-prayer-414/
CATEGORIES:Church
END:VEVENT
BEGIN:VEVENT
DTSTART;TZID=UTC:20250604T183000
DTEND;TZID=UTC:20250604T200000
DTSTAMP:20260423T113238
CREATED:20250406T150501Z
LAST-MODIFIED:20250406T150501Z
UID:6460-1749061800-1749067200@sjuhcrichmond.org
SUMMARY:Wednesday Bible Study
DESCRIPTION:You can join in Bible Study via Zoom. \nGo to www.sjuhcrichmond.org and scroll down and select the yellow “Watch” button and then select the “Zoom link for services” button to join bible study or any service.
URL:https://sjuhcrichmond.org/event/wednesday-bible-study-57/
CATEGORIES:Church
END:VEVENT
BEGIN:VEVENT
DTSTART;TZID=UTC:20250605T090000
DTEND;TZID=UTC:20250605T093000
DTSTAMP:20260423T113238
CREATED:20250525T143013Z
LAST-MODIFIED:20250525T143013Z
UID:6598-1749114000-1749115800@sjuhcrichmond.org
SUMMARY:9 am Daily Morning Prayer
DESCRIPTION:9 am Daily Morning Prayer: Dial into the prayer line for early morning prayer Dial 716-427-1562 Enter code: 786535 then press # When dialing in\, please remember to mute yourself by pressing *6
URL:https://sjuhcrichmond.org/event/9-am-daily-morning-prayer-415/
CATEGORIES:Church
END:VEVENT
BEGIN:VEVENT
DTSTART;TZID=UTC:20250606T090000
DTEND;TZID=UTC:20250606T093000
DTSTAMP:20260423T113238
CREATED:20250525T143214Z
LAST-MODIFIED:20250525T143214Z
UID:6600-1749200400-1749202200@sjuhcrichmond.org
SUMMARY:9 am Daily Morning Prayer
DESCRIPTION:9 am Daily Morning Prayer: Dial into the prayer line for early morning prayer Dial 716-427-1562 Enter code: 786535 then press # When dialing in\, please remember to mute yourself by pressing *6
URL:https://sjuhcrichmond.org/event/9-am-daily-morning-prayer-416/
CATEGORIES:Church
END:VEVENT
BEGIN:VEVENT
DTSTART;TZID=UTC:20250607T090000
DTEND;TZID=UTC:20250607T093000
DTSTAMP:20260423T113238
CREATED:20250525T143305Z
LAST-MODIFIED:20250525T143305Z
UID:6602-1749286800-1749288600@sjuhcrichmond.org
SUMMARY:9 am Daily Morning Prayer
DESCRIPTION:9 am Daily Morning Prayer: Dial into the prayer line for early morning prayer Dial 716-427-1562 Enter code: 786535 then press # When dialing in\, please remember to mute yourself by pressing *6
URL:https://sjuhcrichmond.org/event/9-am-daily-morning-prayer-417/
CATEGORIES:Church
END:VEVENT
BEGIN:VEVENT
DTSTART;TZID=UTC:20250608T100000
DTEND;TZID=UTC:20250608T120000
DTSTAMP:20260423T113238
CREATED:20250525T153925Z
LAST-MODIFIED:20250525T153925Z
UID:6656-1749376800-1749384000@sjuhcrichmond.org
SUMMARY:Annual Youth Day
DESCRIPTION:Theme:
URL:https://sjuhcrichmond.org/event/annual-youth-day-3/
CATEGORIES:Church
END:VEVENT
BEGIN:VEVENT
DTSTART;TZID=UTC:20250609T090000
DTEND;TZID=UTC:20250609T093000
DTSTAMP:20260423T113238
CREATED:20250525T143702Z
LAST-MODIFIED:20250525T143702Z
UID:6604-1749459600-1749461400@sjuhcrichmond.org
SUMMARY:9 am Daily Morning Prayer
DESCRIPTION:9 am Daily Morning Prayer: Dial into the prayer line for early morning prayer Dial 716-427-1562 Enter code: 786535 then press # When dialing in\, please remember to mute yourself by pressing *6
URL:https://sjuhcrichmond.org/event/9-am-daily-morning-prayer-418/
CATEGORIES:Church
END:VEVENT
BEGIN:VEVENT
DTSTART;TZID=UTC:20250610T090000
DTEND;TZID=UTC:20250610T093000
DTSTAMP:20260423T113238
CREATED:20250525T143749Z
LAST-MODIFIED:20250525T143749Z
UID:6606-1749546000-1749547800@sjuhcrichmond.org
SUMMARY:9 am Daily Morning Prayer
DESCRIPTION:9 am Daily Morning Prayer: Dial into the prayer line for early morning prayer Dial 716-427-1562 Enter code: 786535 then press # When dialing in\, please remember to mute yourself by pressing *6
URL:https://sjuhcrichmond.org/event/9-am-daily-morning-prayer-419/
CATEGORIES:Church
END:VEVENT
BEGIN:VEVENT
DTSTART;TZID=UTC:20250611T060000
DTEND;TZID=UTC:20250611T063000
DTSTAMP:20260423T113238
CREATED:20250406T144551Z
LAST-MODIFIED:20250406T144551Z
UID:6448-1749621600-1749623400@sjuhcrichmond.org
SUMMARY:6 am Early Morning Prayer
DESCRIPTION:Dial into the prayer line for early morning prayer Dial 716-427-1562 Enter code: 786535 then press # When dialing in\, please remember to mute yourself by pressing *6
URL:https://sjuhcrichmond.org/event/6-am-early-morning-prayer-75/
CATEGORIES:Church
END:VEVENT
BEGIN:VEVENT
DTSTART;TZID=UTC:20250611T183000
DTEND;TZID=UTC:20250611T200000
DTSTAMP:20260423T113238
CREATED:20250406T150105Z
LAST-MODIFIED:20250406T150105Z
UID:6458-1749666600-1749672000@sjuhcrichmond.org
SUMMARY:Wednesday Bible Study
DESCRIPTION:You can join in Bible Study via Zoom. \nGo to www.sjuhcrichmond.org and scroll down and select the yellow “Watch” button and then select the “Zoom link for services” button to join bible study or any service.
URL:https://sjuhcrichmond.org/event/wednesday-bible-study-56/
CATEGORIES:Church
END:VEVENT
BEGIN:VEVENT
DTSTART;TZID=UTC:20250612T090000
DTEND;TZID=UTC:20250612T093000
DTSTAMP:20260423T113238
CREATED:20250525T143846Z
LAST-MODIFIED:20250525T143846Z
UID:6608-1749718800-1749720600@sjuhcrichmond.org
SUMMARY:9 am Daily Morning Prayer
DESCRIPTION:9 am Daily Morning Prayer: Dial into the prayer line for early morning prayer Dial 716-427-1562 Enter code: 786535 then press # When dialing in\, please remember to mute yourself by pressing *6
URL:https://sjuhcrichmond.org/event/9-am-daily-morning-prayer-420/
CATEGORIES:Church
END:VEVENT
BEGIN:VEVENT
DTSTART;TZID=UTC:20250613T090000
DTEND;TZID=UTC:20250613T093000
DTSTAMP:20260423T113238
CREATED:20250525T143935Z
LAST-MODIFIED:20250525T143935Z
UID:6610-1749805200-1749807000@sjuhcrichmond.org
SUMMARY:9 am Daily Morning Prayer
DESCRIPTION:9 am Daily Morning Prayer: Dial into the prayer line for early morning prayer Dial 716-427-1562 Enter code: 786535 then press # When dialing in\, please remember to mute yourself by pressing *6
URL:https://sjuhcrichmond.org/event/9-am-daily-morning-prayer-421/
CATEGORIES:Church
END:VEVENT
BEGIN:VEVENT
DTSTART;TZID=UTC:20250614T080000
DTEND;TZID=UTC:20250614T170000
DTSTAMP:20260423T113238
CREATED:20250525T144008Z
LAST-MODIFIED:20250525T144008Z
UID:6612-1749888000-1749920400@sjuhcrichmond.org
SUMMARY:9 am Daily Morning Prayer
DESCRIPTION:9 am Daily Morning Prayer: Dial into the prayer line for early morning prayer Dial 716-427-1562 Enter code: 786535 then press # When dialing in\, please remember to mute yourself by pressing *6
URL:https://sjuhcrichmond.org/event/9-am-daily-morning-prayer-422/
CATEGORIES:Church
END:VEVENT
BEGIN:VEVENT
DTSTART;TZID=UTC:20250616T090000
DTEND;TZID=UTC:20250616T093000
DTSTAMP:20260423T113238
CREATED:20250525T144059Z
LAST-MODIFIED:20250525T144059Z
UID:6614-1750064400-1750066200@sjuhcrichmond.org
SUMMARY:9 am Daily Morning Prayer
DESCRIPTION:9 am Daily Morning Prayer: Dial into the prayer line for early morning prayer Dial 716-427-1562 Enter code: 786535 then press # When dialing in\, please remember to mute yourself by pressing *6
URL:https://sjuhcrichmond.org/event/9-am-daily-morning-prayer-423/
CATEGORIES:Church
END:VEVENT
BEGIN:VEVENT
DTSTART;TZID=UTC:20250617T090000
DTEND;TZID=UTC:20250617T093000
DTSTAMP:20260423T113238
CREATED:20250525T144158Z
LAST-MODIFIED:20250525T144158Z
UID:6616-1750150800-1750152600@sjuhcrichmond.org
SUMMARY:9 am Daily Morning Prayer
DESCRIPTION:9 am Daily Morning Prayer: Dial into the prayer line for early morning prayer Dial 716-427-1562 Enter code: 786535 then press # When dialing in\, please remember to mute yourself by pressing *6
URL:https://sjuhcrichmond.org/event/9-am-daily-morning-prayer-424/
CATEGORIES:Church
END:VEVENT
BEGIN:VEVENT
DTSTART;TZID=UTC:20250618T060000
DTEND;TZID=UTC:20250618T063000
DTSTAMP:20260423T113238
CREATED:20250406T144909Z
LAST-MODIFIED:20250406T144909Z
UID:6452-1750226400-1750228200@sjuhcrichmond.org
SUMMARY:6 am Early Morning Prayer
DESCRIPTION:Dial into the prayer line for early morning prayer Dial 716-427-1562 Enter code: 786535 then press # When dialing in\, please remember to mute yourself by pressing *6
URL:https://sjuhcrichmond.org/event/6-am-early-morning-prayer-77/
CATEGORIES:Church
END:VEVENT
BEGIN:VEVENT
DTSTART;TZID=UTC:20250618T183000
DTEND;TZID=UTC:20250618T200000
DTSTAMP:20260423T113238
CREATED:20250406T145839Z
LAST-MODIFIED:20250406T145839Z
UID:6456-1750271400-1750276800@sjuhcrichmond.org
SUMMARY:Wednesday Bible Study
DESCRIPTION:You can join in Bible Study via Zoom. \nGo to www.sjuhcrichmond.org and scroll down and select the yellow “Watch” button and then select the “Zoom link for services” button to join bible study or any service.
URL:https://sjuhcrichmond.org/event/wednesday-bible-study-55/
CATEGORIES:Church
END:VEVENT
END:VCALENDAR