BEGIN:VCALENDAR
VERSION:2.0
PRODID:-//St John&#039;s United Holy Church - ECPv6.15.20//NONSGML v1.0//EN
CALSCALE:GREGORIAN
METHOD:PUBLISH
X-WR-CALNAME:St John&#039;s United Holy Church
X-ORIGINAL-URL:https://sjuhcrichmond.org
X-WR-CALDESC:Events for St John&#039;s United Holy Church
REFRESH-INTERVAL;VALUE=DURATION:PT1H
X-Robots-Tag:noindex
X-PUBLISHED-TTL:PT1H
BEGIN:VTIMEZONE
TZID:UTC
BEGIN:STANDARD
TZOFFSETFROM:+0000
TZOFFSETTO:+0000
TZNAME:UTC
DTSTART:20240101T000000
END:STANDARD
END:VTIMEZONE
BEGIN:VEVENT
DTSTART;TZID=UTC:20250203T090000
DTEND;TZID=UTC:20250203T093000
DTSTAMP:20260423T205604
CREATED:20250105T165106Z
LAST-MODIFIED:20250105T171401Z
UID:6205-1738573200-1738575000@sjuhcrichmond.org
SUMMARY:9 am Daily Morning Prayer
DESCRIPTION:Dial into the prayer line for early morning prayer Dial 716-427-1562 Enter code: 786535 then press # When dialing in\, please remember to mute yourself by pressing *6
URL:https://sjuhcrichmond.org/event/9-am-daily-morning-prayer-326/
CATEGORIES:Church
END:VEVENT
BEGIN:VEVENT
DTSTART;TZID=UTC:20250204T090000
DTEND;TZID=UTC:20250204T093000
DTSTAMP:20260423T205604
CREATED:20250105T165427Z
LAST-MODIFIED:20250105T171550Z
UID:6207-1738659600-1738661400@sjuhcrichmond.org
SUMMARY:9 am Daily Morning Prayer
DESCRIPTION:Dial into the prayer line for early morning prayer Dial 716-427-1562 Enter code: 786535 then press # When dialing in\, please remember to mute yourself by pressing *6
URL:https://sjuhcrichmond.org/event/9-am-daily-morning-prayer-327/
CATEGORIES:Church
END:VEVENT
BEGIN:VEVENT
DTSTART;TZID=UTC:20250204T120000
DTEND;TZID=UTC:20250204T130000
DTSTAMP:20260423T205604
CREATED:20250119T213540Z
LAST-MODIFIED:20250119T213540Z
UID:6259-1738670400-1738674000@sjuhcrichmond.org
SUMMARY:Noon Day Prayer
DESCRIPTION:Noon Day Prayer will be held in person at St. John’s.
URL:https://sjuhcrichmond.org/event/noon-day-prayer-35/
CATEGORIES:Church
END:VEVENT
BEGIN:VEVENT
DTSTART;TZID=UTC:20250205T060000
DTEND;TZID=UTC:20250205T063000
DTSTAMP:20260423T205604
CREATED:20250105T161639Z
LAST-MODIFIED:20250105T161639Z
UID:6176-1738735200-1738737000@sjuhcrichmond.org
SUMMARY:6 am Early Morning Prayer
DESCRIPTION:Dial into the prayer line for early morning prayer Dial 716-427-1562 Enter code: 786535 then press # When dialing in\, please remember to mute yourself by pressing *6
URL:https://sjuhcrichmond.org/event/6-am-early-morning-prayer-60/
CATEGORIES:Church
END:VEVENT
BEGIN:VEVENT
DTSTART;TZID=UTC:20250205T090000
DTEND;TZID=UTC:20250205T093000
DTSTAMP:20260423T205604
CREATED:20250126T153611Z
LAST-MODIFIED:20250126T153611Z
UID:6285-1738746000-1738747800@sjuhcrichmond.org
SUMMARY:9 am Daily Morning Prayer
DESCRIPTION:Dial into the prayer line for early morning prayer Dial 716-427-1562 Enter code: 786535 then press # When dialing in\, please remember to mute yourself by pressing *6
URL:https://sjuhcrichmond.org/event/9-am-daily-morning-prayer-353/
CATEGORIES:Church
END:VEVENT
BEGIN:VEVENT
DTSTART;TZID=UTC:20250205T183000
DTEND;TZID=UTC:20250205T200000
DTSTAMP:20260423T205604
CREATED:20250105T164257Z
LAST-MODIFIED:20250202T162750Z
UID:6198-1738780200-1738785600@sjuhcrichmond.org
SUMMARY:Bible Study
DESCRIPTION:Continued study of our church motto\, \n“Growing Disciples\, Building Ministries\, Transforming Lives & Making a Difference” \nPlease come prepared to discuss and share your observations. \n  \nYou can join in Bible Study via Zoom. \nGo to www.sjuhcrichmond.org and scroll down and select the yellow “Watch” button and then select the “Zoom link for services” button to join bible study or any service.
URL:https://sjuhcrichmond.org/event/bible-study-5/
CATEGORIES:Church
END:VEVENT
BEGIN:VEVENT
DTSTART;TZID=UTC:20250206T090000
DTEND;TZID=UTC:20250206T093000
DTSTAMP:20260423T205604
CREATED:20250105T165530Z
LAST-MODIFIED:20250105T171720Z
UID:6209-1738832400-1738834200@sjuhcrichmond.org
SUMMARY:9 am Daily Morning Prayer
DESCRIPTION:Dial into the prayer line for early morning prayer Dial 716-427-1562 Enter code: 786535 then press # When dialing in\, please remember to mute yourself by pressing *6
URL:https://sjuhcrichmond.org/event/9-am-daily-morning-prayer-328/
CATEGORIES:Church
END:VEVENT
BEGIN:VEVENT
DTSTART;TZID=UTC:20250207T090000
DTEND;TZID=UTC:20250207T093000
DTSTAMP:20260423T205604
CREATED:20250105T165625Z
LAST-MODIFIED:20250126T152955Z
UID:6211-1738918800-1738920600@sjuhcrichmond.org
SUMMARY:9 am Daily Morning Prayer
DESCRIPTION:Dial into the prayer line for early morning prayer Dial 716-427-1562 Enter code: 786535 then press # When dialing in\, please remember to mute yourself by pressing *6
URL:https://sjuhcrichmond.org/event/9-am-daily-morning-prayer-329/
CATEGORIES:Church
END:VEVENT
BEGIN:VEVENT
DTSTART;TZID=UTC:20250207T090000
DTEND;TZID=UTC:20250207T093000
DTSTAMP:20260423T205604
CREATED:20250126T154348Z
LAST-MODIFIED:20250126T154348Z
UID:6289-1738918800-1738920600@sjuhcrichmond.org
SUMMARY:9 am Daily Morning Prayer
DESCRIPTION:Dial into the prayer line for early morning prayer Dial 716-427-1562 Enter code: 786535 then press # When dialing in\, please remember to mute yourself by pressing *6
URL:https://sjuhcrichmond.org/event/9-am-daily-morning-prayer-355/
CATEGORIES:Church
END:VEVENT
BEGIN:VEVENT
DTSTART;TZID=UTC:20250208T090000
DTEND;TZID=UTC:20250208T093000
DTSTAMP:20260423T205604
CREATED:20250105T171212Z
LAST-MODIFIED:20250105T171212Z
UID:6213-1739005200-1739007000@sjuhcrichmond.org
SUMMARY:9 am Daily Morning Prayer
DESCRIPTION:Dial into the prayer line for early morning prayer Dial 716-427-1562 Enter code: 786535 then press # When dialing in\, please remember to mute yourself by pressing *6
URL:https://sjuhcrichmond.org/event/9-am-daily-morning-prayer-330/
CATEGORIES:Church
END:VEVENT
BEGIN:VEVENT
DTSTART;TZID=UTC:20250208T090000
DTEND;TZID=UTC:20250208T093000
DTSTAMP:20260423T205604
CREATED:20250126T154744Z
LAST-MODIFIED:20250126T154744Z
UID:6293-1739005200-1739007000@sjuhcrichmond.org
SUMMARY:9 am Daily Morning Prayer
DESCRIPTION:Dial into the prayer line for early morning prayer Dial 716-427-1562 Enter code: 786535 then press # When dialing in\, please remember to mute yourself by pressing *6
URL:https://sjuhcrichmond.org/event/9-am-daily-morning-prayer-357/
CATEGORIES:Church
END:VEVENT
BEGIN:VEVENT
DTSTART;TZID=UTC:20250209T120000
DTEND;TZID=UTC:20250209T130000
DTSTAMP:20260423T205604
CREATED:20250202T161900Z
LAST-MODIFIED:20250202T161900Z
UID:6360-1739102400-1739106000@sjuhcrichmond.org
SUMMARY:Sweetheart Tea
DESCRIPTION:The Sweetheart Tea 2025 \nIn the Lower Auditorium Immediately following morning worship \nSponsored by Youth Department
URL:https://sjuhcrichmond.org/event/sweetheart-tea-2/
CATEGORIES:Church
END:VEVENT
BEGIN:VEVENT
DTSTART;TZID=UTC:20250210T090000
DTEND;TZID=UTC:20250210T093000
DTSTAMP:20260423T205604
CREATED:20250119T161736Z
LAST-MODIFIED:20250119T161736Z
UID:6223-1739178000-1739179800@sjuhcrichmond.org
SUMMARY:9  am Daily Morning Prayer
DESCRIPTION:Dial into the prayer line for early morning prayer Dial 716-427-1562 Enter code: 786535 then press # When dialing in\, please remember to mute yourself by pressing *6
URL:https://sjuhcrichmond.org/event/9-am-daily-morning-prayer-334/
CATEGORIES:Church
END:VEVENT
BEGIN:VEVENT
DTSTART;TZID=UTC:20250211T090000
DTEND;TZID=UTC:20250211T093000
DTSTAMP:20260423T205604
CREATED:20250119T160656Z
LAST-MODIFIED:20250119T160656Z
UID:6217-1739264400-1739266200@sjuhcrichmond.org
SUMMARY:9 am Daily Morning Prayer
DESCRIPTION:Dial into the prayer line for early morning prayer Dial 716-427-1562 Enter code: 786535 then press # When dialing in\, please remember to mute yourself by pressing *6.
URL:https://sjuhcrichmond.org/event/9-am-daily-morning-prayer-331/
CATEGORIES:Church
END:VEVENT
BEGIN:VEVENT
DTSTART;TZID=UTC:20250211T120000
DTEND;TZID=UTC:20250211T130000
DTSTAMP:20260423T205604
CREATED:20250119T213759Z
LAST-MODIFIED:20250119T213759Z
UID:6263-1739275200-1739278800@sjuhcrichmond.org
SUMMARY:Noon Day Prayer
DESCRIPTION:Noon Day Prayer: \nNoon Day Prayer will be held in person at St. John’s.
URL:https://sjuhcrichmond.org/event/noon-day-prayer-37/
CATEGORIES:Church
END:VEVENT
BEGIN:VEVENT
DTSTART;TZID=UTC:20250212T060000
DTEND;TZID=UTC:20250212T063000
DTSTAMP:20260423T205604
CREATED:20250105T161724Z
LAST-MODIFIED:20250105T161724Z
UID:6178-1739340000-1739341800@sjuhcrichmond.org
SUMMARY:6 am Early Morning Prayer
DESCRIPTION:Dial into the prayer line for early morning prayer Dial 716-427-1562 Enter code: 786535 then press # When dialing in\, please remember to mute yourself by pressing *6
URL:https://sjuhcrichmond.org/event/6-am-early-morning-prayer-61/
CATEGORIES:Church
END:VEVENT
BEGIN:VEVENT
DTSTART;TZID=UTC:20250212T090000
DTEND;TZID=UTC:20250212T093000
DTSTAMP:20260423T205604
CREATED:20250119T161204Z
LAST-MODIFIED:20250119T161204Z
UID:6219-1739350800-1739352600@sjuhcrichmond.org
SUMMARY:9  am Daily Morning Prayer
DESCRIPTION:Dial into the prayer line for early morning prayer Dial 716-427-1562 Enter code: 786535 then press # When dialing in\, please remember to mute yourself by pressing *6
URL:https://sjuhcrichmond.org/event/9-am-daily-morning-prayer-332/
CATEGORIES:Church
END:VEVENT
BEGIN:VEVENT
DTSTART;TZID=UTC:20250212T183000
DTEND;TZID=UTC:20250212T200000
DTSTAMP:20260423T205604
CREATED:20250105T164408Z
LAST-MODIFIED:20250105T164408Z
UID:6200-1739385000-1739390400@sjuhcrichmond.org
SUMMARY:Bible Study
DESCRIPTION:You can join in Bible Study via Zoom. \nGo to www.sjuhcrichmond.org and scroll down and select the yellow “Watch” button and then select the “Zoom link for services” button to join bible study or any service.
URL:https://sjuhcrichmond.org/event/bible-study-6/
CATEGORIES:Church
END:VEVENT
BEGIN:VEVENT
DTSTART;TZID=UTC:20250213T090000
DTEND;TZID=UTC:20250213T093000
DTSTAMP:20260423T205604
CREATED:20250119T161627Z
LAST-MODIFIED:20250119T161627Z
UID:6221-1739437200-1739439000@sjuhcrichmond.org
SUMMARY:9  am Daily Morning Prayer
DESCRIPTION:Dial into the prayer line for early morning prayer Dial 716-427-1562 Enter code: 786535 then press # When dialing in\, please remember to mute yourself by pressing *6.
URL:https://sjuhcrichmond.org/event/9-am-daily-morning-prayer-333/
CATEGORIES:Church
END:VEVENT
BEGIN:VEVENT
DTSTART;TZID=UTC:20250214T090000
DTEND;TZID=UTC:20250214T093000
DTSTAMP:20260423T205604
CREATED:20250119T161846Z
LAST-MODIFIED:20250119T161846Z
UID:6225-1739523600-1739525400@sjuhcrichmond.org
SUMMARY:9  am Daily Morning Prayer
DESCRIPTION: Dial into the prayer line for early morning prayer Dial 716-427-1562 Enter code: 786535 then press # When dialing in\, please remember to mute yourself by pressing *6
URL:https://sjuhcrichmond.org/event/9-am-daily-morning-prayer-335/
CATEGORIES:Church
END:VEVENT
BEGIN:VEVENT
DTSTART;TZID=UTC:20250215T090000
DTEND;TZID=UTC:20250215T093000
DTSTAMP:20260423T205604
CREATED:20250119T162354Z
LAST-MODIFIED:20250119T162354Z
UID:6227-1739610000-1739611800@sjuhcrichmond.org
SUMMARY:9  am Daily Morning Prayer
DESCRIPTION:Dial into the prayer line for early morning prayer Dial 716-427-1562 Enter code: 786535 then press # When dialing in\, please remember to mute yourself by pressing *6
URL:https://sjuhcrichmond.org/event/9-am-daily-morning-prayer-336/
CATEGORIES:Church
END:VEVENT
BEGIN:VEVENT
DTSTART;TZID=UTC:20250217T090000
DTEND;TZID=UTC:20250217T093000
DTSTAMP:20260423T205604
CREATED:20250119T163445Z
LAST-MODIFIED:20250119T163445Z
UID:6229-1739782800-1739784600@sjuhcrichmond.org
SUMMARY:9  am Daily Morning Prayer
DESCRIPTION: Dial into the prayer line for early morning prayer Dial 716-427-1562 Enter code: 786535 then press # When dialing in\, please remember to mute yourself by pressing *6
URL:https://sjuhcrichmond.org/event/9-am-daily-morning-prayer-337/
CATEGORIES:Church
END:VEVENT
BEGIN:VEVENT
DTSTART;TZID=UTC:20250218T090000
DTEND;TZID=UTC:20250218T093000
DTSTAMP:20260423T205604
CREATED:20250119T205907Z
LAST-MODIFIED:20250119T205907Z
UID:6231-1739869200-1739871000@sjuhcrichmond.org
SUMMARY: 9 am Daily Morning Prayer
DESCRIPTION:Dial into the prayer line for early morning prayer Dial 716-427-1562 Enter code: 786535 then press # When dialing in\, please remember to mute yourself by pressing *6
URL:https://sjuhcrichmond.org/event/9-am-daily-morning-prayer-338/
CATEGORIES:Church
END:VEVENT
BEGIN:VEVENT
DTSTART;TZID=UTC:20250218T120000
DTEND;TZID=UTC:20250218T130000
DTSTAMP:20260423T205604
CREATED:20250119T213901Z
LAST-MODIFIED:20250119T213901Z
UID:6265-1739880000-1739883600@sjuhcrichmond.org
SUMMARY:Noon Day Prayer
DESCRIPTION:Noon Day Prayer: \nNoon Day Prayer will be held in person at St. John’s.
URL:https://sjuhcrichmond.org/event/noon-day-prayer-38/
CATEGORIES:Church
END:VEVENT
BEGIN:VEVENT
DTSTART;TZID=UTC:20250219T060000
DTEND;TZID=UTC:20250219T063000
DTSTAMP:20260423T205604
CREATED:20250105T161806Z
LAST-MODIFIED:20250105T161806Z
UID:6180-1739944800-1739946600@sjuhcrichmond.org
SUMMARY:6 am Early Morning Prayer
DESCRIPTION:Dial into the prayer line for early morning prayer Dial 716-427-1562 Enter code: 786535 then press # When dialing in\, please remember to mute yourself by pressing *6
URL:https://sjuhcrichmond.org/event/6-am-early-morning-prayer-62/
CATEGORIES:Church
END:VEVENT
BEGIN:VEVENT
DTSTART;TZID=UTC:20250219T090000
DTEND;TZID=UTC:20250219T093000
DTSTAMP:20260423T205604
CREATED:20250119T222843Z
LAST-MODIFIED:20250119T222843Z
UID:6283-1739955600-1739957400@sjuhcrichmond.org
SUMMARY:9 am Daily Morning Prayer
DESCRIPTION:Dial into the prayer line for early morning prayer Dial 716-427-1562 Enter code: 786535 then press # When dialing in\, please remember to mute yourself by pressing *6
URL:https://sjuhcrichmond.org/event/9-am-daily-morning-prayer-352/
CATEGORIES:Church
END:VEVENT
BEGIN:VEVENT
DTSTART;TZID=UTC:20250219T183000
DTEND;TZID=UTC:20250219T200000
DTSTAMP:20260423T205604
CREATED:20250105T164013Z
LAST-MODIFIED:20250105T164554Z
UID:6194-1739989800-1739995200@sjuhcrichmond.org
SUMMARY:Bible Study
DESCRIPTION:You can join in Bible Study via Zoom. \nGo to www.sjuhcrichmond.org and scroll down and select the yellow “Watch” button and then select the “Zoom link for services” button to join bible study or any service.
URL:https://sjuhcrichmond.org/event/bible-study-3/
CATEGORIES:Church
END:VEVENT
BEGIN:VEVENT
DTSTART;TZID=UTC:20250220T090000
DTEND;TZID=UTC:20250220T093000
DTSTAMP:20260423T205604
CREATED:20250119T210050Z
LAST-MODIFIED:20250119T210050Z
UID:6233-1740042000-1740043800@sjuhcrichmond.org
SUMMARY:9 am Daily Morning Prayer
DESCRIPTION:Dial into the prayer line for early morning prayer Dial 716-427-1562 Enter code: 786535 then press # When dialing in\, please remember to mute yourself by pressing *6
URL:https://sjuhcrichmond.org/event/9-am-daily-morning-prayer-339/
END:VEVENT
BEGIN:VEVENT
DTSTART;TZID=UTC:20250220T090000
DTEND;TZID=UTC:20250220T093000
DTSTAMP:20260423T205604
CREATED:20250119T210538Z
LAST-MODIFIED:20250119T210538Z
UID:6239-1740042000-1740043800@sjuhcrichmond.org
SUMMARY:9 am Daily Morning Prayer
DESCRIPTION: Dial into the prayer line for early morning prayer Dial 716-427-1562 Enter code: 786535 then press # When dialing in\, please remember to mute yourself by pressing *6
URL:https://sjuhcrichmond.org/event/9-am-daily-morning-prayer-342/
CATEGORIES:Church
END:VEVENT
BEGIN:VEVENT
DTSTART;TZID=UTC:20250221T090000
DTEND;TZID=UTC:20250221T093000
DTSTAMP:20260423T205604
CREATED:20250119T210214Z
LAST-MODIFIED:20250119T210214Z
UID:6235-1740128400-1740130200@sjuhcrichmond.org
SUMMARY:9 am Daily Morning Prayer
DESCRIPTION:Dial into the prayer line for early morning prayer Dial 716-427-1562 Enter code: 786535 then press # When dialing in\, please remember to mute yourself by pressing *6
URL:https://sjuhcrichmond.org/event/9-am-daily-morning-prayer-340/
CATEGORIES:Church
END:VEVENT
END:VCALENDAR