BEGIN:VCALENDAR
VERSION:2.0
PRODID:-//St John&#039;s United Holy Church - ECPv6.15.20//NONSGML v1.0//EN
CALSCALE:GREGORIAN
METHOD:PUBLISH
X-WR-CALNAME:St John&#039;s United Holy Church
X-ORIGINAL-URL:https://sjuhcrichmond.org
X-WR-CALDESC:Events for St John&#039;s United Holy Church
REFRESH-INTERVAL;VALUE=DURATION:PT1H
X-Robots-Tag:noindex
X-PUBLISHED-TTL:PT1H
BEGIN:VTIMEZONE
TZID:UTC
BEGIN:STANDARD
TZOFFSETFROM:+0000
TZOFFSETTO:+0000
TZNAME:UTC
DTSTART:20240101T000000
END:STANDARD
END:VTIMEZONE
BEGIN:VEVENT
DTSTART;TZID=UTC:20250312T183000
DTEND;TZID=UTC:20250312T200000
DTSTAMP:20260423T205425
CREATED:20250126T170930Z
LAST-MODIFIED:20250126T170930Z
UID:6352-1741804200-1741809600@sjuhcrichmond.org
SUMMARY:Wednesday Bible Study
DESCRIPTION:
URL:https://sjuhcrichmond.org/event/wednesday-bible-study-51/
CATEGORIES:Church
END:VEVENT
BEGIN:VEVENT
DTSTART;TZID=UTC:20250312T090000
DTEND;TZID=UTC:20250312T093000
DTSTAMP:20260423T205425
CREATED:20250126T161747Z
LAST-MODIFIED:20250126T161747Z
UID:6301-1741770000-1741771800@sjuhcrichmond.org
SUMMARY:9 am Daily Morning Prayer
DESCRIPTION:Dial into the prayer line for early morning prayer Dial 716-427-1562 Enter code: 786535 then press # When dialing in\, please remember to mute yourself by pressing *6
URL:https://sjuhcrichmond.org/event/9-am-daily-morning-prayer-361/
CATEGORIES:Church
END:VEVENT
BEGIN:VEVENT
DTSTART;TZID=UTC:20250312T060000
DTEND;TZID=UTC:20250312T063000
DTSTAMP:20260423T205425
CREATED:20250126T165110Z
LAST-MODIFIED:20250126T165110Z
UID:6344-1741759200-1741761000@sjuhcrichmond.org
SUMMARY:6 am Early Morning Prayer
DESCRIPTION:Dial into the prayer line for early morning prayer Dial 716-427-1562 Enter code: 786535 then press # When dialing in\, please remember to mute yourself by pressing *6
URL:https://sjuhcrichmond.org/event/6-am-early-morning-prayer-65/
CATEGORIES:Church
END:VEVENT
BEGIN:VEVENT
DTSTART;TZID=UTC:20250311T120000
DTEND;TZID=UTC:20250311T130000
DTSTAMP:20260423T205425
CREATED:20250119T215400Z
LAST-MODIFIED:20250119T215400Z
UID:6277-1741694400-1741698000@sjuhcrichmond.org
SUMMARY:Noon Day Prayer
DESCRIPTION:Noon Day Prayer will be held in person at St. John’s.
URL:https://sjuhcrichmond.org/event/noon-day-prayer-44/
CATEGORIES:Church
END:VEVENT
BEGIN:VEVENT
DTSTART;TZID=UTC:20250311T090000
DTEND;TZID=UTC:20250311T093000
DTSTAMP:20260423T205425
CREATED:20250126T160631Z
LAST-MODIFIED:20250126T160631Z
UID:6299-1741683600-1741685400@sjuhcrichmond.org
SUMMARY:9 am Daily Morning Prayer
DESCRIPTION:Dial into the prayer line for early morning prayer Dial 716-427-1562 Enter code: 786535 then press # When dialing in\, please remember to mute yourself by pressing *6
URL:https://sjuhcrichmond.org/event/9-am-daily-morning-prayer-360/
CATEGORIES:Church
END:VEVENT
BEGIN:VEVENT
DTSTART;TZID=UTC:20250310T090000
DTEND;TZID=UTC:20250310T093000
DTSTAMP:20260423T205425
CREATED:20250126T160410Z
LAST-MODIFIED:20250126T160410Z
UID:6297-1741597200-1741599000@sjuhcrichmond.org
SUMMARY:9 am Daily Morning Prayer
DESCRIPTION:Dial into the prayer line for early morning prayer Dial 716-427-1562 Enter code: 786535 then press # When dialing in\, please remember to mute yourself by pressing *6
URL:https://sjuhcrichmond.org/event/9-am-daily-morning-prayer-359/
CATEGORIES:Church
END:VEVENT
BEGIN:VEVENT
DTSTART;TZID=UTC:20250308T090000
DTEND;TZID=UTC:20250308T093000
DTSTAMP:20260423T205425
CREATED:20250126T160115Z
LAST-MODIFIED:20250126T160115Z
UID:6295-1741424400-1741426200@sjuhcrichmond.org
SUMMARY:9 am Daily Morning Prayer
DESCRIPTION:Dial into the prayer line for early morning prayer Dial 716-427-1562 Enter code: 786535 then press # When dialing in\, please remember to mute yourself by pressing *6
URL:https://sjuhcrichmond.org/event/9-am-daily-morning-prayer-358/
CATEGORIES:Church
END:VEVENT
BEGIN:VEVENT
DTSTART;TZID=UTC:20250307T090000
DTEND;TZID=UTC:20250307T093000
DTSTAMP:20260423T205425
CREATED:20250126T154530Z
LAST-MODIFIED:20250126T154530Z
UID:6291-1741338000-1741339800@sjuhcrichmond.org
SUMMARY:9 am Daily Morning Prayer
DESCRIPTION:Dial into the prayer line for early morning prayer Dial 716-427-1562 Enter code: 786535 then press # When dialing in\, please remember to mute yourself by pressing *6
URL:https://sjuhcrichmond.org/event/9-am-daily-morning-prayer-356/
CATEGORIES:Church
END:VEVENT
BEGIN:VEVENT
DTSTART;TZID=UTC:20250306T090000
DTEND;TZID=UTC:20250306T093000
DTSTAMP:20260423T205425
CREATED:20250119T212532Z
LAST-MODIFIED:20250119T212532Z
UID:6257-1741251600-1741253400@sjuhcrichmond.org
SUMMARY:9 am Daily Morning Prayer
DESCRIPTION:Dial into the prayer line for early morning prayer Dial 716-427-1562 Enter code: 786535 then press # When dialing in\, please remember to mute yourself by pressing *6
URL:https://sjuhcrichmond.org/event/9-am-daily-morning-prayer-351/
CATEGORIES:Church
END:VEVENT
BEGIN:VEVENT
DTSTART;TZID=UTC:20250305T183000
DTEND;TZID=UTC:20250305T200000
DTSTAMP:20260423T205425
CREATED:20250126T170812Z
LAST-MODIFIED:20250126T170812Z
UID:6350-1741199400-1741204800@sjuhcrichmond.org
SUMMARY:Wednesday Bible Study
DESCRIPTION:
URL:https://sjuhcrichmond.org/event/wednesday-bible-study-50/
CATEGORIES:Church
END:VEVENT
BEGIN:VEVENT
DTSTART;TZID=UTC:20250305T090000
DTEND;TZID=UTC:20250305T093000
DTSTAMP:20260423T205425
CREATED:20250119T211750Z
LAST-MODIFIED:20250119T211750Z
UID:6255-1741165200-1741167000@sjuhcrichmond.org
SUMMARY:9 am Daily Morning Prayer
DESCRIPTION:Dial into the prayer line for early morning prayer Dial 716-427-1562 Enter code: 786535 then press # When dialing in\, please remember to mute yourself by pressing *6
URL:https://sjuhcrichmond.org/event/9-am-daily-morning-prayer-350/
CATEGORIES:Church
END:VEVENT
BEGIN:VEVENT
DTSTART;TZID=UTC:20250305T060000
DTEND;TZID=UTC:20250305T063000
DTSTAMP:20260423T205425
CREATED:20250105T162101Z
LAST-MODIFIED:20250105T162101Z
UID:6184-1741154400-1741156200@sjuhcrichmond.org
SUMMARY:6 am Early Morning Prayer
DESCRIPTION:Dial into the prayer line for early morning prayer Dial 716-427-1562 Enter code: 786535 then press # When dialing in\, please remember to mute yourself by pressing *6
URL:https://sjuhcrichmond.org/event/6-am-early-morning-prayer-64/
CATEGORIES:Church
END:VEVENT
BEGIN:VEVENT
DTSTART;TZID=UTC:20250304T120000
DTEND;TZID=UTC:20250304T130000
DTSTAMP:20260423T205425
CREATED:20250119T214803Z
LAST-MODIFIED:20250119T214803Z
UID:6269-1741089600-1741093200@sjuhcrichmond.org
SUMMARY:Noon Day Prayer
DESCRIPTION:Noon Day Prayer will be held in person at St. John’s.
URL:https://sjuhcrichmond.org/event/noon-day-prayer-40/
CATEGORIES:Church
END:VEVENT
BEGIN:VEVENT
DTSTART;TZID=UTC:20250304T090000
DTEND;TZID=UTC:20250304T093000
DTSTAMP:20260423T205425
CREATED:20250126T154045Z
LAST-MODIFIED:20250126T154045Z
UID:6287-1741078800-1741080600@sjuhcrichmond.org
SUMMARY:9 am Daily Morning Prayer
DESCRIPTION:Dial into the prayer line for early morning prayer Dial 716-427-1562 Enter code: 786535 then press # When dialing in\, please remember to mute yourself by pressing *6
URL:https://sjuhcrichmond.org/event/9-am-daily-morning-prayer-354/
CATEGORIES:Church
END:VEVENT
BEGIN:VEVENT
DTSTART;TZID=UTC:20250303T090000
DTEND;TZID=UTC:20250303T093000
DTSTAMP:20260423T205425
CREATED:20250119T211700Z
LAST-MODIFIED:20250119T211700Z
UID:6253-1740992400-1740994200@sjuhcrichmond.org
SUMMARY:9 am Daily Morning Prayer
DESCRIPTION:Dial into the prayer line for early morning prayer Dial 716-427-1562 Enter code: 786535 then press # When dialing in\, please remember to mute yourself by pressing *6
URL:https://sjuhcrichmond.org/event/9-am-daily-morning-prayer-349/
CATEGORIES:Church
END:VEVENT
BEGIN:VEVENT
DTSTART;TZID=UTC:20250302T100000
DTEND;TZID=UTC:20250302T120000
DTSTAMP:20260423T205425
CREATED:20250223T162103Z
LAST-MODIFIED:20250223T162103Z
UID:6379-1740909600-1740916800@sjuhcrichmond.org
SUMMARY:Men's Day Service
DESCRIPTION:
URL:https://sjuhcrichmond.org/event/mens-day-service/
CATEGORIES:Church
END:VEVENT
BEGIN:VEVENT
DTSTART;TZID=UTC:20250301T090000
DTEND;TZID=UTC:20250301T120000
DTSTAMP:20260423T205425
CREATED:20250223T161952Z
LAST-MODIFIED:20250223T161952Z
UID:6376-1740819600-1740830400@sjuhcrichmond.org
SUMMARY:Men's Day Workshop
DESCRIPTION:
URL:https://sjuhcrichmond.org/event/mens-day-workshop/
CATEGORIES:Church
END:VEVENT
BEGIN:VEVENT
DTSTART;TZID=UTC:20250301T090000
DTEND;TZID=UTC:20250301T093000
DTSTAMP:20260423T205425
CREATED:20250119T211555Z
LAST-MODIFIED:20250119T211555Z
UID:6251-1740819600-1740821400@sjuhcrichmond.org
SUMMARY:9 am Daily Morning Prayer
DESCRIPTION:Dial into the prayer line for early morning prayer Dial 716-427-1562 Enter code: 786535 then press # When dialing in\, please remember to mute yourself by pressing *6
URL:https://sjuhcrichmond.org/event/9-am-daily-morning-prayer-348/
CATEGORIES:Church
END:VEVENT
BEGIN:VEVENT
DTSTART;TZID=UTC:20250228T090000
DTEND;TZID=UTC:20250228T093000
DTSTAMP:20260423T205425
CREATED:20250119T211449Z
LAST-MODIFIED:20250119T211449Z
UID:6249-1740733200-1740735000@sjuhcrichmond.org
SUMMARY:9 am Daily Morning Prayer
DESCRIPTION:Dial into the prayer line for early morning prayer Dial 716-427-1562 Enter code: 786535 then press # When dialing in\, please remember to mute yourself by pressing *6
URL:https://sjuhcrichmond.org/event/9-am-daily-morning-prayer-347/
CATEGORIES:Church
END:VEVENT
BEGIN:VEVENT
DTSTART;TZID=UTC:20250227T090000
DTEND;TZID=UTC:20250227T093000
DTSTAMP:20260423T205425
CREATED:20250119T211401Z
LAST-MODIFIED:20250119T211401Z
UID:6247-1740646800-1740648600@sjuhcrichmond.org
SUMMARY:9 am Daily Morning Prayer
DESCRIPTION:9 am Daily Morning Prayer: Dial into the prayer line for early morning prayer Dial 716-427-1562 Enter code: 786535 then press # When dialing in\, please remember to mute yourself by pressing *6
URL:https://sjuhcrichmond.org/event/9-am-daily-morning-prayer-346/
CATEGORIES:Church
END:VEVENT
BEGIN:VEVENT
DTSTART;TZID=UTC:20250226T183000
DTEND;TZID=UTC:20250226T200000
DTSTAMP:20260423T205425
CREATED:20250105T164848Z
LAST-MODIFIED:20250119T222456Z
UID:6203-1740594600-1740600000@sjuhcrichmond.org
SUMMARY:Bible Study
DESCRIPTION:You can join in Bible Study via Zoom. \nContinued study of our church motto\, “ \nGrowing Disciples\, Building Ministries\, Transforming Lives & Making a Difference” \nPlease come prepared to discuss and share your observations \nGo to www.sjuhcrichmond.org and scroll down and select the yellow “Watch” button and then select the “Zoom link for services” button to join bible study or any service.
URL:https://sjuhcrichmond.org/event/bible-study-7/
CATEGORIES:Church
END:VEVENT
BEGIN:VEVENT
DTSTART;TZID=UTC:20250226T090000
DTEND;TZID=UTC:20250226T093000
DTSTAMP:20260423T205425
CREATED:20250119T211004Z
LAST-MODIFIED:20250119T221511Z
UID:6245-1740560400-1740562200@sjuhcrichmond.org
SUMMARY:9 am Daily Morning Prayer
DESCRIPTION:Dial into the prayer line for early morning prayer Dial 716-427-1562 Enter code: 786535 then press # When dialing in\, please remember to mute yourself by pressing *6
URL:https://sjuhcrichmond.org/event/9-am-daily-morning-prayer-345/
CATEGORIES:Church
END:VEVENT
BEGIN:VEVENT
DTSTART;TZID=UTC:20250226T060000
DTEND;TZID=UTC:20250226T063000
DTSTAMP:20260423T205425
CREATED:20250105T161845Z
LAST-MODIFIED:20250105T161845Z
UID:6182-1740549600-1740551400@sjuhcrichmond.org
SUMMARY:6 am Early Morning Prayer
DESCRIPTION:Dial into the prayer line for early morning prayer Dial 716-427-1562 Enter code: 786535 then press # When dialing in\, please remember to mute yourself by pressing *6
URL:https://sjuhcrichmond.org/event/6-am-early-morning-prayer-63/
CATEGORIES:Church
END:VEVENT
BEGIN:VEVENT
DTSTART;TZID=UTC:20250225T120000
DTEND;TZID=UTC:20250225T130000
DTSTAMP:20260423T205425
CREATED:20250119T214243Z
LAST-MODIFIED:20250119T214243Z
UID:6267-1740484800-1740488400@sjuhcrichmond.org
SUMMARY:Noon Day Prayer
DESCRIPTION:Noon Day Prayer will be held in person at St. John’s.
URL:https://sjuhcrichmond.org/event/noon-day-prayer-39/
CATEGORIES:Church
END:VEVENT
BEGIN:VEVENT
DTSTART;TZID=UTC:20250225T090000
DTEND;TZID=UTC:20250225T093000
DTSTAMP:20260423T205425
CREATED:20250119T210907Z
LAST-MODIFIED:20250119T210907Z
UID:6243-1740474000-1740475800@sjuhcrichmond.org
SUMMARY:9 am Daily Morning Prayer:
DESCRIPTION:Dial into the prayer line for early morning prayer Dial 716-427-1562 Enter code: 786535 then press # When dialing in\, please remember to mute yourself by pressing *6
URL:https://sjuhcrichmond.org/event/9-am-daily-morning-prayer-344/
CATEGORIES:Church
END:VEVENT
BEGIN:VEVENT
DTSTART;TZID=UTC:20250224T090000
DTEND;TZID=UTC:20250224T093000
DTSTAMP:20260423T205425
CREATED:20250119T210653Z
LAST-MODIFIED:20250119T210653Z
UID:6241-1740387600-1740389400@sjuhcrichmond.org
SUMMARY:9 am Daily Morning Prayer
DESCRIPTION:Dial into the prayer line for early morning prayer Dial 716-427-1562 Enter code: 786535 then press # When dialing in\, please remember to mute yourself by pressing *6
URL:https://sjuhcrichmond.org/event/9-am-daily-morning-prayer-343/
CATEGORIES:Church
END:VEVENT
BEGIN:VEVENT
DTSTART;TZID=UTC:20250222T100000
DTEND;TZID=UTC:20250222T180000
DTSTAMP:20260423T205425
CREATED:20250202T162359Z
LAST-MODIFIED:20250202T162359Z
UID:6364-1740218400-1740247200@sjuhcrichmond.org
SUMMARY:Central Sub-District YPHA Winter Session
DESCRIPTION:Sessions will be held at Love Joy Peace UHC
URL:https://sjuhcrichmond.org/event/central-sub-district-ypha-winter-session-2/
CATEGORIES:Church
END:VEVENT
BEGIN:VEVENT
DTSTART;TZID=UTC:20250222T090000
DTEND;TZID=UTC:20250222T093000
DTSTAMP:20260423T205425
CREATED:20250119T210334Z
LAST-MODIFIED:20250119T210334Z
UID:6237-1740214800-1740216600@sjuhcrichmond.org
SUMMARY:9 am Daily Morning Prayer
DESCRIPTION:Dial into the prayer line for early morning prayer Dial 716-427-1562 Enter code: 786535 then press # When dialing in\, please remember to mute yourself by pressing *6.
URL:https://sjuhcrichmond.org/event/9-am-daily-morning-prayer-341/
CATEGORIES:Church
END:VEVENT
BEGIN:VEVENT
DTSTART;TZID=UTC:20250221T180000
DTEND;TZID=UTC:20250221T210000
DTSTAMP:20260423T205425
CREATED:20250202T162232Z
LAST-MODIFIED:20250202T162510Z
UID:6362-1740160800-1740171600@sjuhcrichmond.org
SUMMARY:Central Sub-District YPHA Winter Session
DESCRIPTION:Sessions will be held at Love Joy Peace UHC
URL:https://sjuhcrichmond.org/event/central-sub-district-ypha-winter-session/
CATEGORIES:Church
END:VEVENT
BEGIN:VEVENT
DTSTART;TZID=UTC:20250221T090000
DTEND;TZID=UTC:20250221T093000
DTSTAMP:20260423T205425
CREATED:20250119T210214Z
LAST-MODIFIED:20250119T210214Z
UID:6235-1740128400-1740130200@sjuhcrichmond.org
SUMMARY:9 am Daily Morning Prayer
DESCRIPTION:Dial into the prayer line for early morning prayer Dial 716-427-1562 Enter code: 786535 then press # When dialing in\, please remember to mute yourself by pressing *6
URL:https://sjuhcrichmond.org/event/9-am-daily-morning-prayer-340/
CATEGORIES:Church
END:VEVENT
END:VCALENDAR