BEGIN:VCALENDAR
VERSION:2.0
PRODID:-//St John&#039;s United Holy Church - ECPv6.15.20//NONSGML v1.0//EN
CALSCALE:GREGORIAN
METHOD:PUBLISH
X-ORIGINAL-URL:https://sjuhcrichmond.org
X-WR-CALDESC:Events for St John&#039;s United Holy Church
REFRESH-INTERVAL;VALUE=DURATION:PT1H
X-Robots-Tag:noindex
X-PUBLISHED-TTL:PT1H
BEGIN:VTIMEZONE
TZID:UTC
BEGIN:STANDARD
TZOFFSETFROM:+0000
TZOFFSETTO:+0000
TZNAME:UTC
DTSTART:20250101T000000
END:STANDARD
END:VTIMEZONE
BEGIN:VEVENT
DTSTART;TZID=UTC:20260316T090000
DTEND;TZID=UTC:20260316T093000
DTSTAMP:20260422T222756
CREATED:20260301T164407Z
LAST-MODIFIED:20260301T164407Z
UID:7136-1773651600-1773653400@sjuhcrichmond.org
SUMMARY:9 am Daily Morning Prayer
DESCRIPTION:Dial into the prayer line for early morning prayer Dial 716-427-1562 Enter code: 786535 then press # When dialing in\, please remember to mute yourself by pressing *6
URL:https://sjuhcrichmond.org/event/9-am-daily-morning-prayer-558/
CATEGORIES:Church
END:VEVENT
BEGIN:VEVENT
DTSTART;TZID=UTC:20260314T090000
DTEND;TZID=UTC:20260314T093000
DTSTAMP:20260422T222756
CREATED:20260301T163104Z
LAST-MODIFIED:20260301T163104Z
UID:7132-1773478800-1773480600@sjuhcrichmond.org
SUMMARY:9 am Daily Morning Prayer
DESCRIPTION:Dial into the prayer line for early morning prayer Dial 716-427-1562 Enter code: 786535 then press # When dialing in\, please remember to mute yourself by pressing *6
URL:https://sjuhcrichmond.org/event/9-am-daily-morning-prayer-556/
CATEGORIES:Church
END:VEVENT
BEGIN:VEVENT
DTSTART;TZID=UTC:20260313T090000
DTEND;TZID=UTC:20260313T093000
DTSTAMP:20260422T222756
CREATED:20260301T160315Z
LAST-MODIFIED:20260301T160315Z
UID:7130-1773392400-1773394200@sjuhcrichmond.org
SUMMARY:9 am Daily Morning Prayer
DESCRIPTION:Dial into the prayer line for early morning prayer Dial 716-427-1562 Enter code: 786535 then press # When dialing in\, please remember to mute yourself by pressing *6
URL:https://sjuhcrichmond.org/event/9-am-daily-morning-prayer-555/
CATEGORIES:Church
END:VEVENT
BEGIN:VEVENT
DTSTART;TZID=UTC:20260312T090000
DTEND;TZID=UTC:20260312T093000
DTSTAMP:20260422T222756
CREATED:20260301T160013Z
LAST-MODIFIED:20260301T160013Z
UID:7128-1773306000-1773307800@sjuhcrichmond.org
SUMMARY:9 am Daily Morning Prayer
DESCRIPTION:Dial into the prayer line for early morning prayer Dial 716-427-1562 Enter code: 786535 then press # When dialing in\, please remember to mute yourself by pressing *6
URL:https://sjuhcrichmond.org/event/9-am-daily-morning-prayer-554/
CATEGORIES:Church
END:VEVENT
BEGIN:VEVENT
DTSTART;TZID=UTC:20260311T183000
DTEND;TZID=UTC:20260311T200000
DTSTAMP:20260422T222756
CREATED:20260308T154229Z
LAST-MODIFIED:20260308T154229Z
UID:7200-1773253800-1773259200@sjuhcrichmond.org
SUMMARY:Virtual Bible Study -  Growing in Faith
DESCRIPTION:Go to www.sjuhcrichmond.org and scroll down and select the yellow “Watch” button and then select the “Zoom link for services” button to join bible study or any service. \n \n 
URL:https://sjuhcrichmond.org/event/virtual-bible-study-growing-in-faith/
CATEGORIES:Church
END:VEVENT
BEGIN:VEVENT
DTSTART;TZID=UTC:20260311T090000
DTEND;TZID=UTC:20260311T093000
DTSTAMP:20260422T222756
CREATED:20260301T155846Z
LAST-MODIFIED:20260301T155846Z
UID:7126-1773219600-1773221400@sjuhcrichmond.org
SUMMARY:9 am Daily Morning Prayer
DESCRIPTION:Dial into the prayer line for early morning prayer Dial 716-427-1562 Enter code: 786535 then press # When dialing in\, please remember to mute yourself by pressing *6
URL:https://sjuhcrichmond.org/event/9-am-daily-morning-prayer-553/
CATEGORIES:Church
END:VEVENT
BEGIN:VEVENT
DTSTART;TZID=UTC:20260311T060000
DTEND;TZID=UTC:20260311T063000
DTSTAMP:20260422T222756
CREATED:20260104T161934Z
LAST-MODIFIED:20260104T161934Z
UID:7037-1773208800-1773210600@sjuhcrichmond.org
SUMMARY:6 am Early Morning Prayer
DESCRIPTION:Dial into the prayer line for early morning prayer Dial 716-427-1562 Enter code: 786535 then press # When dialing in\, please remember to mute yourself by pressing *6
URL:https://sjuhcrichmond.org/event/6-am-early-morning-prayer-88/
CATEGORIES:Church
END:VEVENT
BEGIN:VEVENT
DTSTART;TZID=UTC:20260310T120000
DTEND;TZID=UTC:20260310T140000
DTSTAMP:20260422T222756
CREATED:20260104T161056Z
LAST-MODIFIED:20260104T161056Z
UID:7019-1773144000-1773151200@sjuhcrichmond.org
SUMMARY:Noon Day Prayer
DESCRIPTION:Noon Day Prayer will be held in person at St. John’s.
URL:https://sjuhcrichmond.org/event/noon-day-prayer-52/
CATEGORIES:Church
END:VEVENT
BEGIN:VEVENT
DTSTART;TZID=UTC:20260310T090000
DTEND;TZID=UTC:20260310T093000
DTSTAMP:20260422T222756
CREATED:20260301T155532Z
LAST-MODIFIED:20260301T155532Z
UID:7124-1773133200-1773135000@sjuhcrichmond.org
SUMMARY:9 am Daily Morning Prayer
DESCRIPTION:Dial into the prayer line for early morning prayer Dial 716-427-1562 Enter code: 786535 then press # When dialing in\, please remember to mute yourself by pressing *6
URL:https://sjuhcrichmond.org/event/9-am-daily-morning-prayer-552/
CATEGORIES:Church
END:VEVENT
BEGIN:VEVENT
DTSTART;TZID=UTC:20260309T090000
DTEND;TZID=UTC:20260309T093000
DTSTAMP:20260422T222756
CREATED:20260301T155204Z
LAST-MODIFIED:20260301T155204Z
UID:7122-1773046800-1773048600@sjuhcrichmond.org
SUMMARY:9 am Daily Morning Prayer
DESCRIPTION:Dial into the prayer line for early morning prayer Dial 716-427-1562 Enter code: 786535 then press # When dialing in\, please remember to mute yourself by pressing *6
URL:https://sjuhcrichmond.org/event/9-am-daily-morning-prayer-551/
CATEGORIES:Church
END:VEVENT
BEGIN:VEVENT
DTSTART;TZID=UTC:20260307T100000
DTEND;TZID=UTC:20260307T120000
DTSTAMP:20260422T222756
CREATED:20260222T173604Z
LAST-MODIFIED:20260222T173604Z
UID:7111-1772877600-1772884800@sjuhcrichmond.org
SUMMARY:FeedMore Food Distribution
DESCRIPTION:
URL:https://sjuhcrichmond.org/event/feedmore-food-distribution/
CATEGORIES:Church
END:VEVENT
BEGIN:VEVENT
DTSTART;TZID=UTC:20260307T090000
DTEND;TZID=UTC:20260307T093000
DTSTAMP:20260422T222756
CREATED:20260301T154656Z
LAST-MODIFIED:20260301T154656Z
UID:7120-1772874000-1772875800@sjuhcrichmond.org
SUMMARY:9 am Daily Morning Prayer
DESCRIPTION:Dial into the prayer line for early morning prayer Dial 716-427-1562 Enter code: 786535 then press # When dialing in\, please remember to mute yourself by pressing *6
URL:https://sjuhcrichmond.org/event/9-am-daily-morning-prayer-550/
CATEGORIES:Church
END:VEVENT
BEGIN:VEVENT
DTSTART;TZID=UTC:20260306T090000
DTEND;TZID=UTC:20260306T093000
DTSTAMP:20260422T222756
CREATED:20260301T154507Z
LAST-MODIFIED:20260301T154605Z
UID:7118-1772787600-1772789400@sjuhcrichmond.org
SUMMARY:9 am Daily Morning Prayer
DESCRIPTION:Dial into the prayer line for early morning prayer Dial 716-427-1562 Enter code: 786535 then press # When dialing in\, please remember to mute yourself by pressing *6
URL:https://sjuhcrichmond.org/event/9-am-daily-morning-prayer-549/
CATEGORIES:Church
END:VEVENT
BEGIN:VEVENT
DTSTART;TZID=UTC:20260305T090000
DTEND;TZID=UTC:20260305T093000
DTSTAMP:20260422T222756
CREATED:20260301T153834Z
LAST-MODIFIED:20260301T153834Z
UID:7116-1772701200-1772703000@sjuhcrichmond.org
SUMMARY:9 am Daily Morning Prayer
DESCRIPTION:Dial into the prayer line for early morning prayer Dial 716-427-1562 Enter code: 786535 then press # When dialing in\, please remember to mute yourself by pressing *6
URL:https://sjuhcrichmond.org/event/9-am-daily-morning-prayer-548/
CATEGORIES:Church
END:VEVENT
BEGIN:VEVENT
DTSTART;TZID=UTC:20260304T060000
DTEND;TZID=UTC:20260304T063000
DTSTAMP:20260422T222756
CREATED:20260104T161837Z
LAST-MODIFIED:20260104T161837Z
UID:7035-1772604000-1772605800@sjuhcrichmond.org
SUMMARY:6 am Early Morning Prayer
DESCRIPTION:Dial into the prayer line for early morning prayer Dial 716-427-1562 Enter code: 786535 then press # When dialing in\, please remember to mute yourself by pressing *6
URL:https://sjuhcrichmond.org/event/6-am-early-morning-prayer-87/
CATEGORIES:Church
END:VEVENT
BEGIN:VEVENT
DTSTART;TZID=UTC:20260303T120000
DTEND;TZID=UTC:20260303T140000
DTSTAMP:20260422T222756
CREATED:20260104T161013Z
LAST-MODIFIED:20260104T161013Z
UID:7017-1772539200-1772546400@sjuhcrichmond.org
SUMMARY:Noon Day Prayer
DESCRIPTION:Noon Day Prayer will be held in person at St. John’s.
URL:https://sjuhcrichmond.org/event/noon-day-prayer-51/
CATEGORIES:Church
END:VEVENT
BEGIN:VEVENT
DTSTART;TZID=UTC:20260301T100000
DTEND;TZID=UTC:20260301T120000
DTSTAMP:20260422T222756
CREATED:20260222T173750Z
LAST-MODIFIED:20260301T153936Z
UID:7113-1772359200-1772366400@sjuhcrichmond.org
SUMMARY:Men's Day 2026
DESCRIPTION:
URL:https://sjuhcrichmond.org/event/mens-day-2026/
CATEGORIES:Church
END:VEVENT
BEGIN:VEVENT
DTSTART;TZID=UTC:20260228T090000
DTEND;TZID=UTC:20260228T093000
DTSTAMP:20260422T222756
CREATED:20260104T165322Z
LAST-MODIFIED:20260104T165829Z
UID:7087-1772269200-1772271000@sjuhcrichmond.org
SUMMARY:9 am Daily Morning Prayer
DESCRIPTION:Dial into the prayer line for early morning prayer Dial 716-427-1562 Enter code: 786535 then press # When dialing in\, please remember to mute yourself by pressing *6
URL:https://sjuhcrichmond.org/event/7087/
CATEGORIES:Church
END:VEVENT
BEGIN:VEVENT
DTSTART;TZID=UTC:20260227T090000
DTEND;TZID=UTC:20260227T093000
DTSTAMP:20260422T222756
CREATED:20260104T165619Z
LAST-MODIFIED:20260104T165619Z
UID:7089-1772182800-1772184600@sjuhcrichmond.org
SUMMARY:9 am Daily Morning Prayer
DESCRIPTION:Dial into the prayer line for early morning prayer Dial 716-427-1562 Enter code: 786535 then press # When dialing in\, please remember to mute yourself by pressing *6
URL:https://sjuhcrichmond.org/event/9-am-daily-morning-prayer-546/
CATEGORIES:Church
END:VEVENT
BEGIN:VEVENT
DTSTART;TZID=UTC:20260226T090000
DTEND;TZID=UTC:20260226T093000
DTSTAMP:20260422T222756
CREATED:20260104T165009Z
LAST-MODIFIED:20260104T165009Z
UID:7083-1772096400-1772098200@sjuhcrichmond.org
SUMMARY:9 am Daily Morning Prayer
DESCRIPTION:Dial into the prayer line for early morning prayer Dial 716-427-1562 Enter code: 786535 then press # When dialing in\, please remember to mute yourself by pressing *6
URL:https://sjuhcrichmond.org/event/9-am-daily-morning-prayer-544/
CATEGORIES:Church
END:VEVENT
BEGIN:VEVENT
DTSTART;TZID=UTC:20260225T183000
DTEND;TZID=UTC:20260225T200000
DTSTAMP:20260422T222756
CREATED:20260219T024237Z
LAST-MODIFIED:20260219T024237Z
UID:7109-1772044200-1772049600@sjuhcrichmond.org
SUMMARY:Bible Study
DESCRIPTION:You can join in Bible Study via Zoom. \nGo to www.sjuhcrichmond.org and scroll down and select the yellow “Watch” button and then select the “Zoom link for services” button to join bible study or any service.
URL:https://sjuhcrichmond.org/event/bible-study-23/
CATEGORIES:Church
END:VEVENT
BEGIN:VEVENT
DTSTART;TZID=UTC:20260225T060000
DTEND;TZID=UTC:20260225T063000
DTSTAMP:20260422T222756
CREATED:20260104T161750Z
LAST-MODIFIED:20260104T161750Z
UID:7033-1771999200-1772001000@sjuhcrichmond.org
SUMMARY:6 am Early Morning Prayer
DESCRIPTION:Dial into the prayer line for early morning prayer Dial 716-427-1562 Enter code: 786535 then press # When dialing in\, please remember to mute yourself by pressing *6
URL:https://sjuhcrichmond.org/event/6-am-early-morning-prayer-86/
CATEGORIES:Church
END:VEVENT
BEGIN:VEVENT
DTSTART;TZID=UTC:20260224T120000
DTEND;TZID=UTC:20260224T140000
DTSTAMP:20260422T222756
CREATED:20260104T160931Z
LAST-MODIFIED:20260104T160931Z
UID:7015-1771934400-1771941600@sjuhcrichmond.org
SUMMARY:Noon Day Prayer
DESCRIPTION:Noon Day Prayer will be held in person at St. John’s.
URL:https://sjuhcrichmond.org/event/noon-day-prayer-50/
CATEGORIES:Church
END:VEVENT
BEGIN:VEVENT
DTSTART;TZID=UTC:20260224T090000
DTEND;TZID=UTC:20260224T093000
DTSTAMP:20260422T222756
CREATED:20260104T170347Z
LAST-MODIFIED:20260104T170347Z
UID:7092-1771923600-1771925400@sjuhcrichmond.org
SUMMARY:9 am Daily Morning Prayer
DESCRIPTION:Dial into the prayer line for early morning prayer Dial 716-427-1562 Enter code: 786535 then press # When dialing in\, please remember to mute yourself by pressing *6
URL:https://sjuhcrichmond.org/event/9-am-daily-morning-prayer-547/
CATEGORIES:Church
END:VEVENT
BEGIN:VEVENT
DTSTART;TZID=UTC:20260223T090000
DTEND;TZID=UTC:20260223T093000
DTSTAMP:20260422T222756
CREATED:20260104T164904Z
LAST-MODIFIED:20260104T164904Z
UID:7081-1771837200-1771839000@sjuhcrichmond.org
SUMMARY:9 am Daily Morning Prayer
DESCRIPTION:Dial into the prayer line for early morning prayer Dial 716-427-1562 Enter code: 786535 then press # When dialing in\, please remember to mute yourself by pressing *6
URL:https://sjuhcrichmond.org/event/9-am-daily-morning-prayer-543/
CATEGORIES:Church
END:VEVENT
BEGIN:VEVENT
DTSTART;TZID=UTC:20260221T090000
DTEND;TZID=UTC:20260221T093000
DTSTAMP:20260422T222756
CREATED:20260104T164337Z
LAST-MODIFIED:20260104T164337Z
UID:7079-1771664400-1771666200@sjuhcrichmond.org
SUMMARY:9 am Daily Morning Prayer
DESCRIPTION:Dial into the prayer line for early morning prayer Dial 716-427-1562 Enter code: 786535 then press # When dialing in\, please remember to mute yourself by pressing *6
URL:https://sjuhcrichmond.org/event/9-am-daily-morning-prayer-542/
CATEGORIES:Church
END:VEVENT
BEGIN:VEVENT
DTSTART;TZID=UTC:20260220T090000
DTEND;TZID=UTC:20260220T093000
DTSTAMP:20260422T222756
CREATED:20260104T164206Z
LAST-MODIFIED:20260104T164206Z
UID:7077-1771578000-1771579800@sjuhcrichmond.org
SUMMARY:9 am Daily Morning Prayer
DESCRIPTION:Dial into the prayer line for early morning prayer Dial 716-427-1562 Enter code: 786535 then press # When dialing in\, please remember to mute yourself by pressing *6
URL:https://sjuhcrichmond.org/event/9-am-daily-morning-prayer-541/
CATEGORIES:Church
END:VEVENT
BEGIN:VEVENT
DTSTART;TZID=UTC:20260219T090000
DTEND;TZID=UTC:20260219T093000
DTSTAMP:20260422T222756
CREATED:20260104T164118Z
LAST-MODIFIED:20260104T164118Z
UID:7075-1771491600-1771493400@sjuhcrichmond.org
SUMMARY:9 am Daily Morning Prayer
DESCRIPTION:Dial into the prayer line for early morning prayer Dial 716-427-1562 Enter code: 786535 then press # When dialing in\, please remember to mute yourself by pressing *6
URL:https://sjuhcrichmond.org/event/9-am-daily-morning-prayer-540/
CATEGORIES:Church
END:VEVENT
BEGIN:VEVENT
DTSTART;TZID=UTC:20260218T183000
DTEND;TZID=UTC:20260218T200000
DTSTAMP:20260422T222756
CREATED:20260219T024123Z
LAST-MODIFIED:20260219T024123Z
UID:7106-1771439400-1771444800@sjuhcrichmond.org
SUMMARY:Bible Study
DESCRIPTION:You can join in Bible Study via Zoom. \nGo to www.sjuhcrichmond.org and scroll down and select the yellow “Watch” button and then select the “Zoom link for services” button to join bible study or any service. \n \nBible Study – February 18\, 2026 \nLenten Lesson \n  \nThe season of Lent is a forty-day period (not including Sundays) of Christian observance dedicated to repentance\, fasting\, prayer and preparation. \nThis time reflects the forty days Jesus spent fasting in the desert\, enduring temptation before beginning his public ministry.  This emphasizes sacrifice\, self-discipline\, and spiritual stamina.  \nDuring this time Christians are collectively intentional about remembering our conversion – our turning away from sin and toward God. \nThe Christian community seeks spiritual growth.  We reflect on who Jesus is and all He did to redeem us from sin and prepare us for presentation to the Father.   (Jude 24-25) \nTraditionally\, on Ash Wednesday\, ashes from the burned palm branches of the previous year were placed on the foreheads of the people in the shape of the cross. \nThese ashes were used to remind us of our mortality.   We have come from dust and we will return to dust.   Human life is fragile.  We are not self-sufficient.  (Genesis 3:19) \n  \nAshes also symbolize remorse and repentance.  In the Old Testament\, people would sit in ashes as a sign of sorrow for sin and a desire to change (Job 2:8; Esther 4:1).  The external sign expressed an internal movement of the heart. \n  \nThree traditional practices are observed during Lent – Prayer   Fasting   Almsgiving \nThese are not random spiritual exercises.  They correspond to our relationship with God\, with ourselves\, and with others. \n  \nPrayer strengthens our relationship with God. \nWe increase personal devotion\, scripture study\, and worship to deepen the relationship. \n\nPrayer develops the personal relationship with God\nPrayer provides guidance and wisdom\nPrayer brings peace and comfort\nPrayer increases faith and trust in God\nPrayer allows intercession for others\nPrayer helps resist temptation\nPrayer aligns our will with God’s Will\n\n  \nFasting disciplines our desire toward God. \nMany believers give up foods or habits\, reflecting on Jesus’ fasting in the wilderness and practicing self-discipline.  Fasting promotes spiritual clarity and insight; it secures our spiritual focus. \nMoses on Mt. Sinai – Exodus  34:38        \nJehoshaphat during threat of war – II Chronicles 20:1-3  \nQueen Esther fasted before going to the king – Esther 4:15-16 \n  \nAlmsgiving directs our love for others. \nActs of charity\, such as donations or service to others are good ways to show compassion for community. \n\nAlmsgiving promotes spiritual growth by developing compassion\, selflessness\, and a sense of purpose.\n\n  \n\nAlmsgiving is biblical.  It is seen as an expression of love and commitment to God.\n\n  \n\nAlmsgiving gives a sense of social responsibility. It encourages believers to care for the less fortunate.\n\n  \n\nAlmsgiving is fulfilling.  It leads to gratitude and fulfillment.  It helps us to acknowledge the blessings in our own lives.\n\n 
URL:https://sjuhcrichmond.org/event/bible-study-22/
CATEGORIES:Church
END:VEVENT
BEGIN:VEVENT
DTSTART;TZID=UTC:20260218T090000
DTEND;TZID=UTC:20260218T093000
DTSTAMP:20260422T222756
CREATED:20260104T164016Z
LAST-MODIFIED:20260104T164016Z
UID:7073-1771405200-1771407000@sjuhcrichmond.org
SUMMARY:9 am Daily Morning Prayer
DESCRIPTION:Dial into the prayer line for early morning prayer Dial 716-427-1562 Enter code: 786535 then press # When dialing in\, please remember to mute yourself by pressing *6
URL:https://sjuhcrichmond.org/event/9-am-daily-morning-prayer-539/
CATEGORIES:Church
END:VEVENT
END:VCALENDAR