BEGIN:VCALENDAR
VERSION:2.0
PRODID:-//St John&#039;s United Holy Church - ECPv6.15.20//NONSGML v1.0//EN
CALSCALE:GREGORIAN
METHOD:PUBLISH
X-ORIGINAL-URL:https://sjuhcrichmond.org
X-WR-CALDESC:Events for St John&#039;s United Holy Church
REFRESH-INTERVAL;VALUE=DURATION:PT1H
X-Robots-Tag:noindex
X-PUBLISHED-TTL:PT1H
BEGIN:VTIMEZONE
TZID:UTC
BEGIN:STANDARD
TZOFFSETFROM:+0000
TZOFFSETTO:+0000
TZNAME:UTC
DTSTART:20250101T000000
END:STANDARD
END:VTIMEZONE
BEGIN:VEVENT
DTSTART;TZID=UTC:20260504T090000
DTEND;TZID=UTC:20260504T093000
DTSTAMP:20260422T220805
CREATED:20260419T153603Z
LAST-MODIFIED:20260419T153603Z
UID:7280-1777885200-1777887000@sjuhcrichmond.org
SUMMARY:9 am Daily Morning Prayer:
DESCRIPTION:Dial into the prayer line for early morning prayer Dial 716-427-1562 Enter code: 786535 then press # When dialing in\, please remember to mute yourself by pressing *6
URL:https://sjuhcrichmond.org/event/9-am-daily-morning-prayer-595/
CATEGORIES:Church
END:VEVENT
BEGIN:VEVENT
DTSTART;TZID=UTC:20260505T090000
DTEND;TZID=UTC:20260505T093000
DTSTAMP:20260422T220805
CREATED:20260419T153649Z
LAST-MODIFIED:20260419T153649Z
UID:7282-1777971600-1777973400@sjuhcrichmond.org
SUMMARY:9 am Daily Morning Prayer
DESCRIPTION:Dial into the prayer line for early morning prayer Dial 716-427-1562 Enter code: 786535 then press # When dialing in\, please remember to mute yourself by pressing *6
URL:https://sjuhcrichmond.org/event/9-am-daily-morning-prayer-596/
CATEGORIES:Church
END:VEVENT
BEGIN:VEVENT
DTSTART;TZID=UTC:20260506T060000
DTEND;TZID=UTC:20260506T063000
DTSTAMP:20260422T220805
CREATED:20260308T144750Z
LAST-MODIFIED:20260308T144750Z
UID:7172-1778047200-1778049000@sjuhcrichmond.org
SUMMARY:6 am Early Morning Prayer
DESCRIPTION:Dial into the prayer line for early morning prayer Dial 716-427-1562 Enter code: 786535 then press # When dialing in\, please remember to mute yourself by pressing *6
URL:https://sjuhcrichmond.org/event/6-am-early-morning-prayer-97/
CATEGORIES:Church
END:VEVENT
BEGIN:VEVENT
DTSTART;TZID=UTC:20260506T090000
DTEND;TZID=UTC:20260506T093000
DTSTAMP:20260422T220805
CREATED:20260419T153731Z
LAST-MODIFIED:20260419T153731Z
UID:7284-1778058000-1778059800@sjuhcrichmond.org
SUMMARY:9 am Daily Morning Prayer
DESCRIPTION:Dial into the prayer line for early morning prayer Dial 716-427-1562 Enter code: 786535 then press # When dialing in\, please remember to mute yourself by pressing *6
URL:https://sjuhcrichmond.org/event/9-am-daily-morning-prayer-597/
CATEGORIES:Church
END:VEVENT
BEGIN:VEVENT
DTSTART;TZID=UTC:20260506T183000
DTEND;TZID=UTC:20260506T200000
DTSTAMP:20260422T220805
CREATED:20260308T153935Z
LAST-MODIFIED:20260308T153935Z
UID:7198-1778092200-1778097600@sjuhcrichmond.org
SUMMARY:Virtual Bible Study
DESCRIPTION:Go to www.sjuhcrichmond.org and scroll down and select the yellow “Watch” button and then select the “Zoom link for services” button to join bible study or any service.
URL:https://sjuhcrichmond.org/event/virtual-bible-study-10/
CATEGORIES:Church
END:VEVENT
BEGIN:VEVENT
DTSTART;TZID=UTC:20260507T090000
DTEND;TZID=UTC:20260507T093000
DTSTAMP:20260422T220805
CREATED:20260419T153813Z
LAST-MODIFIED:20260419T153813Z
UID:7286-1778144400-1778146200@sjuhcrichmond.org
SUMMARY:9 am Daily Morning Prayer
DESCRIPTION:Dial into the prayer line for early morning prayer Dial 716-427-1562 Enter code: 786535 then press # When dialing in\, please remember to mute yourself by pressing *6
URL:https://sjuhcrichmond.org/event/9-am-daily-morning-prayer-598/
CATEGORIES:Church
END:VEVENT
BEGIN:VEVENT
DTSTART;TZID=UTC:20260508T090000
DTEND;TZID=UTC:20260508T093000
DTSTAMP:20260422T220805
CREATED:20260419T153932Z
LAST-MODIFIED:20260419T153932Z
UID:7290-1778230800-1778232600@sjuhcrichmond.org
SUMMARY:9 am Daily Morning Prayer
DESCRIPTION:Dial into the prayer line for early morning prayer Dial 716-427-1562 Enter code: 786535 then press # When dialing in\, please remember to mute yourself by pressing *6
URL:https://sjuhcrichmond.org/event/9-am-daily-morning-prayer-600/
CATEGORIES:Church
END:VEVENT
BEGIN:VEVENT
DTSTART;TZID=UTC:20260509T090000
DTEND;TZID=UTC:20260509T093000
DTSTAMP:20260422T220805
CREATED:20260419T154021Z
LAST-MODIFIED:20260419T154038Z
UID:7292-1778317200-1778319000@sjuhcrichmond.org
SUMMARY:9 am Daily Morning Prayer
DESCRIPTION:Dial into the prayer line for early morning prayer Dial 716-427-1562 Enter code: 786535 then press # When dialing in\, please remember to mute yourself by pressing *6
URL:https://sjuhcrichmond.org/event/9-am-daily-morning-prayer-601/
CATEGORIES:Church
END:VEVENT
BEGIN:VEVENT
DTSTART;TZID=UTC:20260511T090000
DTEND;TZID=UTC:20260511T093000
DTSTAMP:20260422T220805
CREATED:20260419T153445Z
LAST-MODIFIED:20260419T154637Z
UID:7278-1778490000-1778491800@sjuhcrichmond.org
SUMMARY:9 am Daily Morning Prayer
DESCRIPTION:Dial into the prayer line for early morning prayer Dial 716-427-1562 Enter code: 786535 then press # When dialing in\, please remember to mute yourself by pressing *6
URL:https://sjuhcrichmond.org/event/9-am-daily-morning-prayer-594/
CATEGORIES:Church
END:VEVENT
BEGIN:VEVENT
DTSTART;TZID=UTC:20260512T090000
DTEND;TZID=UTC:20260512T093000
DTSTAMP:20260422T220805
CREATED:20260419T153850Z
LAST-MODIFIED:20260419T154749Z
UID:7288-1778576400-1778578200@sjuhcrichmond.org
SUMMARY:9 am Daily Morning Prayer
DESCRIPTION:Dial into the prayer line for early morning prayer Dial 716-427-1562 Enter code: 786535 then press # When dialing in\, please remember to mute yourself by pressing *6
URL:https://sjuhcrichmond.org/event/9-am-daily-morning-prayer-599/
CATEGORIES:Church
END:VEVENT
BEGIN:VEVENT
DTSTART;TZID=UTC:20260513T060000
DTEND;TZID=UTC:20260513T063000
DTSTAMP:20260422T220805
CREATED:20260308T144948Z
LAST-MODIFIED:20260308T144948Z
UID:7174-1778652000-1778653800@sjuhcrichmond.org
SUMMARY:6 am Early Morning Prayer
DESCRIPTION:Dial into the prayer line for early morning prayer Dial 716-427-1562 Enter code: 786535 then press # When dialing in\, please remember to mute yourself by pressing *6
URL:https://sjuhcrichmond.org/event/6-am-early-morning-prayer-98/
CATEGORIES:Church
END:VEVENT
BEGIN:VEVENT
DTSTART;TZID=UTC:20260513T183000
DTEND;TZID=UTC:20260513T200000
DTSTAMP:20260422T220805
CREATED:20260308T153333Z
LAST-MODIFIED:20260329T145446Z
UID:7188-1778697000-1778702400@sjuhcrichmond.org
SUMMARY:Virtual Bible Study
DESCRIPTION:Go to www.sjuhcrichmond.org and scroll down and select the yellow “Watch” button and then select the “Zoom link for services” button to join bible study or any service.
URL:https://sjuhcrichmond.org/event/virtual-bible-study-5/
CATEGORIES:Church
END:VEVENT
BEGIN:VEVENT
DTSTART;TZID=UTC:20260514T090000
DTEND;TZID=UTC:20260514T093000
DTSTAMP:20260422T220805
CREATED:20260419T155324Z
LAST-MODIFIED:20260419T155324Z
UID:7296-1778749200-1778751000@sjuhcrichmond.org
SUMMARY:9 am Daily Morning Prayer
DESCRIPTION:Dial into the prayer line for early morning prayer Dial 716-427-1562 Enter code: 786535 then press # When dialing in\, please remember to mute yourself by pressing *6
URL:https://sjuhcrichmond.org/event/9-am-daily-morning-prayer-603/
CATEGORIES:Church
END:VEVENT
BEGIN:VEVENT
DTSTART;TZID=UTC:20260515T090000
DTEND;TZID=UTC:20260515T093000
DTSTAMP:20260422T220805
CREATED:20260419T155632Z
LAST-MODIFIED:20260419T155632Z
UID:7298-1778835600-1778837400@sjuhcrichmond.org
SUMMARY:9 am Daily Morning Prayer
DESCRIPTION:Dial into the prayer line for early morning prayer Dial 716-427-1562 Enter code: 786535 then press # When dialing in\, please remember to mute yourself by pressing *6
URL:https://sjuhcrichmond.org/event/9-am-daily-morning-prayer-604/
CATEGORIES:Church
END:VEVENT
BEGIN:VEVENT
DTSTART;TZID=UTC:20260516T090000
DTEND;TZID=UTC:20260516T093000
DTSTAMP:20260422T220805
CREATED:20260419T155854Z
LAST-MODIFIED:20260419T155854Z
UID:7300-1778922000-1778923800@sjuhcrichmond.org
SUMMARY:9 am Daily Morning Prayer
DESCRIPTION:Dial into the prayer line for early morning prayer Dial 716-427-1562 Enter code: 786535 then press # When dialing in\, please remember to mute yourself by pressing *6
URL:https://sjuhcrichmond.org/event/9-am-daily-morning-prayer-605/
CATEGORIES:Church
END:VEVENT
BEGIN:VEVENT
DTSTART;TZID=UTC:20260518T090000
DTEND;TZID=UTC:20260518T093000
DTSTAMP:20260422T220805
CREATED:20260419T160432Z
LAST-MODIFIED:20260419T160432Z
UID:7302-1779094800-1779096600@sjuhcrichmond.org
SUMMARY:9 am Daily Morning Prayer
DESCRIPTION:Dial into the prayer line for early morning prayer Dial 716-427-1562 Enter code: 786535 then press # When dialing in\, please remember to mute yourself by pressing *6
URL:https://sjuhcrichmond.org/event/9-am-daily-morning-prayer-606/
CATEGORIES:Church
END:VEVENT
BEGIN:VEVENT
DTSTART;TZID=UTC:20260520T060000
DTEND;TZID=UTC:20260520T063000
DTSTAMP:20260422T220805
CREATED:20260308T150533Z
LAST-MODIFIED:20260308T150533Z
UID:7178-1779256800-1779258600@sjuhcrichmond.org
SUMMARY:6 am Early Morning Prayer
DESCRIPTION:Dial into the prayer line for early morning prayer Dial 716-427-1562 Enter code: 786535 then press # When dialing in\, please remember to mute yourself by pressing *6
URL:https://sjuhcrichmond.org/event/6-am-early-morning-prayer-100/
CATEGORIES:Church
END:VEVENT
BEGIN:VEVENT
DTSTART;TZID=UTC:20260520T183000
DTEND;TZID=UTC:20260520T200000
DTSTAMP:20260422T220805
CREATED:20260308T153142Z
LAST-MODIFIED:20260329T145535Z
UID:7186-1779301800-1779307200@sjuhcrichmond.org
SUMMARY:Virtual Bible Study
DESCRIPTION:Go to www.sjuhcrichmond.org and scroll down and select the yellow “Watch” button and then select the “Zoom link for services” button to join bible study or any service.
URL:https://sjuhcrichmond.org/event/virtual-bible-study-4/
CATEGORIES:Church
END:VEVENT
BEGIN:VEVENT
DTSTART;TZID=UTC:20260527T060000
DTEND;TZID=UTC:20260527T063000
DTSTAMP:20260422T220805
CREATED:20260308T150713Z
LAST-MODIFIED:20260308T150713Z
UID:7180-1779861600-1779863400@sjuhcrichmond.org
SUMMARY:6 am Early Morning Prayer
DESCRIPTION:Dial into the prayer line for early morning prayer Dial 716-427-1562 Enter code: 786535 then press # When dialing in\, please remember to mute yourself by pressing *6
URL:https://sjuhcrichmond.org/event/6-am-early-morning-prayer-101/
CATEGORIES:Church
END:VEVENT
BEGIN:VEVENT
DTSTART;TZID=UTC:20260603T060000
DTEND;TZID=UTC:20260603T063000
DTSTAMP:20260422T220805
CREATED:20260308T151419Z
LAST-MODIFIED:20260308T151419Z
UID:7182-1780466400-1780468200@sjuhcrichmond.org
SUMMARY:6 am Early Morning Prayer
DESCRIPTION:Dial into the prayer line for early morning prayer Dial 716-427-1562 Enter code: 786535 then press # When dialing in\, please remember to mute yourself by pressing *6
URL:https://sjuhcrichmond.org/event/6-am-early-morning-prayer-102/
CATEGORIES:Church
END:VEVENT
BEGIN:VEVENT
DTSTART;TZID=UTC:20260610T060000
DTEND;TZID=UTC:20260610T063000
DTSTAMP:20260422T220805
CREATED:20260308T144157Z
LAST-MODIFIED:20260308T152047Z
UID:7164-1781071200-1781073000@sjuhcrichmond.org
SUMMARY:6 am Early Morning Prayer
DESCRIPTION:Dial into the prayer line for early morning prayer Dial 716-427-1562 Enter code: 786535 then press # When dialing in\, please remember to mute yourself by pressing *6
URL:https://sjuhcrichmond.org/event/6-am-early-morning-prayer-93/
CATEGORIES:Church
END:VEVENT
BEGIN:VEVENT
DTSTART;TZID=UTC:20260617T060000
DTEND;TZID=UTC:20260617T063000
DTSTAMP:20260422T220805
CREATED:20260308T145941Z
LAST-MODIFIED:20260308T152116Z
UID:7176-1781676000-1781677800@sjuhcrichmond.org
SUMMARY:6 am Early Morning Prayer
DESCRIPTION:Dial into the prayer line for early morning prayer Dial 716-427-1562 Enter code: 786535 then press # When dialing in\, please remember to mute yourself by pressing *6
URL:https://sjuhcrichmond.org/event/6-am-early-morning-prayer-99/
CATEGORIES:Church
END:VEVENT
END:VCALENDAR