BEGIN:VCALENDAR
VERSION:2.0
PRODID:-//St John&#039;s United Holy Church - ECPv6.15.20//NONSGML v1.0//EN
CALSCALE:GREGORIAN
METHOD:PUBLISH
X-ORIGINAL-URL:https://sjuhcrichmond.org
X-WR-CALDESC:Events for St John&#039;s United Holy Church
REFRESH-INTERVAL;VALUE=DURATION:PT1H
X-Robots-Tag:noindex
X-PUBLISHED-TTL:PT1H
BEGIN:VTIMEZONE
TZID:UTC
BEGIN:STANDARD
TZOFFSETFROM:+0000
TZOFFSETTO:+0000
TZNAME:UTC
DTSTART:20240101T000000
END:STANDARD
END:VTIMEZONE
BEGIN:VEVENT
DTSTART;TZID=UTC:20250910T183000
DTEND;TZID=UTC:20250910T200000
DTSTAMP:20260423T054213
CREATED:20250824T153039Z
LAST-MODIFIED:20250907T144554Z
UID:6698-1757529000-1757534400@sjuhcrichmond.org
SUMMARY:Wednesday Bible Study - The Book of Ezekiel
DESCRIPTION:You can join in Bible Study via Zoom. \nGo to www.sjuhcrichmond.org and scroll down and select the yellow “Watch” button and then select the “Zoom link for services” button to join bible study or any service.
URL:https://sjuhcrichmond.org/event/wednesday-bible-study-68/
CATEGORIES:Church
END:VEVENT
BEGIN:VEVENT
DTSTART;TZID=UTC:20250911T090000
DTEND;TZID=UTC:20250911T093000
DTSTAMP:20260423T054213
CREATED:20250907T142154Z
LAST-MODIFIED:20250907T142154Z
UID:6712-1757581200-1757583000@sjuhcrichmond.org
SUMMARY:9 am Daily Morning Prayer
DESCRIPTION:Dial into the prayer line for early morning prayer Dial 716-427-1562 Enter code: 786535 then press # When dialing in\, please remember to mute yourself by pressing *6
URL:https://sjuhcrichmond.org/event/9-am-daily-morning-prayer-456/
CATEGORIES:Church
END:VEVENT
BEGIN:VEVENT
DTSTART;TZID=UTC:20250912T090000
DTEND;TZID=UTC:20250912T093000
DTSTAMP:20260423T054213
CREATED:20250907T143352Z
LAST-MODIFIED:20250907T143352Z
UID:6714-1757667600-1757669400@sjuhcrichmond.org
SUMMARY:9 am Daily Morning Prayer
DESCRIPTION:Dial into the prayer line for early morning prayer Dial 716-427-1562 Enter code: 786535 then press # When dialing in\, please remember to mute yourself by pressing *6
URL:https://sjuhcrichmond.org/event/9-am-daily-morning-prayer-457/
CATEGORIES:Church
END:VEVENT
BEGIN:VEVENT
DTSTART;TZID=UTC:20250913T090000
DTEND;TZID=UTC:20250913T093000
DTSTAMP:20260423T054213
CREATED:20250907T144004Z
LAST-MODIFIED:20250907T144004Z
UID:6718-1757754000-1757755800@sjuhcrichmond.org
SUMMARY:9 am Daily Morning Prayer
DESCRIPTION:Dial into the prayer line for early morning prayer Dial 716-427-1562 Enter code: 786535 then press # When dialing in\, please remember to mute yourself by pressing *6
URL:https://sjuhcrichmond.org/event/9-am-daily-morning-prayer-459/
CATEGORIES:Church
END:VEVENT
BEGIN:VEVENT
DTSTART;TZID=UTC:20250914T140000
DTEND;TZID=UTC:20250914T170000
DTSTAMP:20260423T054213
CREATED:20250824T223351Z
LAST-MODIFIED:20250824T223351Z
UID:6706-1757858400-1757869200@sjuhcrichmond.org
SUMMARY:Family and Friends Day at Rock of Ages
DESCRIPTION:St. John’s will render service with Rock of Ages “Family and Friends Day”. \nImmediately following morning worship
URL:https://sjuhcrichmond.org/event/family-and-friends-day-at-rock-of-ages/
CATEGORIES:Church
END:VEVENT
BEGIN:VEVENT
DTSTART;TZID=UTC:20250915T090000
DTEND;TZID=UTC:20250915T093000
DTSTAMP:20260423T054213
CREATED:20250907T143507Z
LAST-MODIFIED:20250907T143839Z
UID:6716-1757926800-1757928600@sjuhcrichmond.org
SUMMARY:9 am Daily Morning Prayer
DESCRIPTION:Dial into the prayer line for early morning prayer Dial 716-427-1562 Enter code: 786535 then press # When dialing in\, please remember to mute yourself by pressing *6
URL:https://sjuhcrichmond.org/event/9-am-daily-morning-prayer-458/
CATEGORIES:Church
END:VEVENT
BEGIN:VEVENT
DTSTART;TZID=UTC:20250916T090000
DTEND;TZID=UTC:20250916T093000
DTSTAMP:20260423T054213
CREATED:20250907T144344Z
LAST-MODIFIED:20250907T144344Z
UID:6720-1758013200-1758015000@sjuhcrichmond.org
SUMMARY:9 am Daily Morning Prayer
DESCRIPTION:Dial into the prayer line for early morning prayer Dial 716-427-1562 Enter code: 786535 then press # When dialing in\, please remember to mute yourself by pressing *6
URL:https://sjuhcrichmond.org/event/9-am-daily-morning-prayer-460/
CATEGORIES:Church
END:VEVENT
BEGIN:VEVENT
DTSTART;TZID=UTC:20250917T183000
DTEND;TZID=UTC:20250917T200000
DTSTAMP:20260423T054213
CREATED:20250824T153221Z
LAST-MODIFIED:20250824T153221Z
UID:6700-1758133800-1758139200@sjuhcrichmond.org
SUMMARY:Wednesday Bible Study
DESCRIPTION:You can join in Bible Study via Zoom. \nGo to www.sjuhcrichmond.org and scroll down and select the yellow “Watch” button and then select the “Zoom link for services” button to join bible study or any service.
URL:https://sjuhcrichmond.org/event/wednesday-bible-study-69/
CATEGORIES:Church
END:VEVENT
BEGIN:VEVENT
DTSTART;TZID=UTC:20250918T090000
DTEND;TZID=UTC:20250918T093000
DTSTAMP:20260423T054213
CREATED:20250907T151654Z
LAST-MODIFIED:20250907T151654Z
UID:6731-1758186000-1758187800@sjuhcrichmond.org
SUMMARY:9 am Daily Morning Prayer
DESCRIPTION:Dial into the prayer line for early morning prayer Dial 716-427-1562 Enter code: 786535 then press # When dialing in\, please remember to mute yourself by pressing *6
URL:https://sjuhcrichmond.org/event/9-am-daily-morning-prayer-461/
CATEGORIES:Church
END:VEVENT
BEGIN:VEVENT
DTSTART;TZID=UTC:20250919T090000
DTEND;TZID=UTC:20250919T093000
DTSTAMP:20260423T054213
CREATED:20250907T151806Z
LAST-MODIFIED:20250907T151806Z
UID:6733-1758272400-1758274200@sjuhcrichmond.org
SUMMARY:9 am Daily Morning Prayer
DESCRIPTION:Dial into the prayer line for early morning prayer Dial 716-427-1562 Enter code: 786535 then press # When dialing in\, please remember to mute yourself by pressing *6
URL:https://sjuhcrichmond.org/event/9-am-daily-morning-prayer-462/
CATEGORIES:Church
END:VEVENT
BEGIN:VEVENT
DTSTART;VALUE=DATE:20250920
DTEND;VALUE=DATE:20250921
DTSTAMP:20260423T054213
CREATED:20250907T144910Z
LAST-MODIFIED:20250907T144910Z
UID:6724-1758326400-1758412799@sjuhcrichmond.org
SUMMARY:Senior Citizens Activity - "Air Show"
DESCRIPTION:Contact Mother Constance Talley for additional information
URL:https://sjuhcrichmond.org/event/senior-citizens-activity-air-show/
CATEGORIES:Church
END:VEVENT
BEGIN:VEVENT
DTSTART;TZID=UTC:20250920T090000
DTEND;TZID=UTC:20250920T093000
DTSTAMP:20260423T054213
CREATED:20250907T152029Z
LAST-MODIFIED:20250907T152029Z
UID:6735-1758358800-1758360600@sjuhcrichmond.org
SUMMARY:9 am Daily Morning Prayer
DESCRIPTION:Dial into the prayer line for early morning prayer Dial 716-427-1562 Enter code: 786535 then press # When dialing in\, please remember to mute yourself by pressing *6
URL:https://sjuhcrichmond.org/event/9-am-daily-morning-prayer-463/
CATEGORIES:Church
END:VEVENT
BEGIN:VEVENT
DTSTART;TZID=UTC:20250922T090000
DTEND;TZID=UTC:20250922T093000
DTSTAMP:20260423T054213
CREATED:20250907T152116Z
LAST-MODIFIED:20250907T152116Z
UID:6737-1758531600-1758533400@sjuhcrichmond.org
SUMMARY:9 am Daily Morning Prayer
DESCRIPTION:Dial into the prayer line for early morning prayer Dial 716-427-1562 Enter code: 786535 then press # When dialing in\, please remember to mute yourself by pressing *6
URL:https://sjuhcrichmond.org/event/9-am-daily-morning-prayer-464/
CATEGORIES:Church
END:VEVENT
BEGIN:VEVENT
DTSTART;TZID=UTC:20250923T090000
DTEND;TZID=UTC:20250923T093000
DTSTAMP:20260423T054213
CREATED:20250907T152430Z
LAST-MODIFIED:20250907T152430Z
UID:6739-1758618000-1758619800@sjuhcrichmond.org
SUMMARY:9 am Daily Morning Prayer
DESCRIPTION:Dial into the prayer line for early morning prayer Dial 716-427-1562 Enter code: 786535 then press # When dialing in\, please remember to mute yourself by pressing *6
URL:https://sjuhcrichmond.org/event/9-am-daily-morning-prayer-465/
CATEGORIES:Church
END:VEVENT
BEGIN:VEVENT
DTSTART;TZID=UTC:20250924T090000
DTEND;TZID=UTC:20250924T093000
DTSTAMP:20260423T054213
CREATED:20250907T152844Z
LAST-MODIFIED:20250907T152844Z
UID:6741-1758704400-1758706200@sjuhcrichmond.org
SUMMARY:9 am Daily Morning Prayer
DESCRIPTION:Dial into the prayer line for early morning prayer Dial 716-427-1562 Enter code: 786535 then press # When dialing in\, please remember to mute yourself by pressing *6
URL:https://sjuhcrichmond.org/event/9-am-daily-morning-prayer-466/
CATEGORIES:Church
END:VEVENT
BEGIN:VEVENT
DTSTART;TZID=UTC:20250924T090000
DTEND;TZID=UTC:20250924T093000
DTSTAMP:20260423T054213
CREATED:20250925T000041Z
LAST-MODIFIED:20250925T000041Z
UID:6761-1758704400-1758706200@sjuhcrichmond.org
SUMMARY:9 am Daily Morning Prayer
DESCRIPTION:Dial into the prayer line for early morning prayer Dial 716-427-1562 Enter code: 786535 then press # When dialing in\, please remember to mute yourself by pressing *6
URL:https://sjuhcrichmond.org/event/9-am-daily-morning-prayer-475/
CATEGORIES:Church
END:VEVENT
BEGIN:VEVENT
DTSTART;TZID=UTC:20250924T193000
DTEND;TZID=UTC:20250926T210000
DTSTAMP:20260423T054213
CREATED:20250824T225754Z
LAST-MODIFIED:20250907T145402Z
UID:6708-1758742200-1758920400@sjuhcrichmond.org
SUMMARY:Fall Revival 2025
DESCRIPTION:St. John’s will have Fall Revival with guest revivalist Pastor Barney Wiggins\, Living Faith Church\, Portsmouth\, VA.
URL:https://sjuhcrichmond.org/event/fall-revival-2025/
CATEGORIES:Church
END:VEVENT
BEGIN:VEVENT
DTSTART;TZID=UTC:20250925T090000
DTEND;TZID=UTC:20250925T093000
DTSTAMP:20260423T054213
CREATED:20250907T152930Z
LAST-MODIFIED:20250907T152930Z
UID:6743-1758790800-1758792600@sjuhcrichmond.org
SUMMARY:9 am Daily Morning Prayer
DESCRIPTION:Dial into the prayer line for early morning prayer Dial 716-427-1562 Enter code: 786535 then press # When dialing in\, please remember to mute yourself by pressing *6
URL:https://sjuhcrichmond.org/event/9-am-daily-morning-prayer-467/
CATEGORIES:Church
END:VEVENT
BEGIN:VEVENT
DTSTART;TZID=UTC:20250926T090000
DTEND;TZID=UTC:20250926T093000
DTSTAMP:20260423T054213
CREATED:20250907T153313Z
LAST-MODIFIED:20250907T153313Z
UID:6745-1758877200-1758879000@sjuhcrichmond.org
SUMMARY:9 am Daily Morning Prayer
DESCRIPTION:Dial into the prayer line for early morning prayer Dial 716-427-1562 Enter code: 786535 then press # When dialing in\, please remember to mute yourself by pressing *6
URL:https://sjuhcrichmond.org/event/9-am-daily-morning-prayer-468/
CATEGORIES:Church
END:VEVENT
BEGIN:VEVENT
DTSTART;TZID=UTC:20250929T090000
DTEND;TZID=UTC:20250929T093000
DTSTAMP:20260423T054213
CREATED:20250924T235202Z
LAST-MODIFIED:20250924T235202Z
UID:6749-1759136400-1759138200@sjuhcrichmond.org
SUMMARY:9 am Daily Morning Prayer
DESCRIPTION:Dial into the prayer line for early morning prayer Dial 716-427-1562 Enter code: 786535 then press # When dialing in\, please remember to mute yourself by pressing *6
URL:https://sjuhcrichmond.org/event/9-am-daily-morning-prayer-469/
CATEGORIES:Church
END:VEVENT
BEGIN:VEVENT
DTSTART;TZID=UTC:20250930T090000
DTEND;TZID=UTC:20250930T093000
DTSTAMP:20260423T054213
CREATED:20250924T235407Z
LAST-MODIFIED:20250924T235407Z
UID:6751-1759222800-1759224600@sjuhcrichmond.org
SUMMARY:9 am Daily Morning Prayer
DESCRIPTION:Dial into the prayer line for early morning prayer Dial 716-427-1562 Enter code: 786535 then press # When dialing in\, please remember to mute yourself by pressing *6
URL:https://sjuhcrichmond.org/event/9-am-daily-morning-prayer-470/
CATEGORIES:Church
END:VEVENT
BEGIN:VEVENT
DTSTART;TZID=UTC:20251001T090000
DTEND;TZID=UTC:20251001T093000
DTSTAMP:20260423T054213
CREATED:20250924T235510Z
LAST-MODIFIED:20250924T235510Z
UID:6753-1759309200-1759311000@sjuhcrichmond.org
SUMMARY:9 am Daily Morning Prayer
DESCRIPTION:Dial into the prayer line for early morning prayer Dial 716-427-1562 Enter code: 786535 then press # When dialing in\, please remember to mute yourself by pressing *6
URL:https://sjuhcrichmond.org/event/9-am-daily-morning-prayer-471/
CATEGORIES:Church
END:VEVENT
BEGIN:VEVENT
DTSTART;TZID=UTC:20251002T090000
DTEND;TZID=UTC:20251002T093000
DTSTAMP:20260423T054213
CREATED:20250924T235558Z
LAST-MODIFIED:20250924T235558Z
UID:6755-1759395600-1759397400@sjuhcrichmond.org
SUMMARY:9 am Daily Morning Prayer
DESCRIPTION:Dial into the prayer line for early morning prayer Dial 716-427-1562 Enter code: 786535 then press # When dialing in\, please remember to mute yourself by pressing *6
URL:https://sjuhcrichmond.org/event/9-am-daily-morning-prayer-472/
CATEGORIES:Church
END:VEVENT
BEGIN:VEVENT
DTSTART;TZID=UTC:20251003T090000
DTEND;TZID=UTC:20251003T093000
DTSTAMP:20260423T054213
CREATED:20250924T235706Z
LAST-MODIFIED:20250924T235706Z
UID:6757-1759482000-1759483800@sjuhcrichmond.org
SUMMARY:9 am Daily Morning Prayer
DESCRIPTION:Dial into the prayer line for early morning prayer Dial 716-427-1562 Enter code: 786535 then press # When dialing in\, please remember to mute yourself by pressing *6
URL:https://sjuhcrichmond.org/event/9-am-daily-morning-prayer-473/
CATEGORIES:Church
END:VEVENT
BEGIN:VEVENT
DTSTART;TZID=UTC:20251004T110000
DTEND;TZID=UTC:20251004T130000
DTSTAMP:20260423T054213
CREATED:20250907T151526Z
LAST-MODIFIED:20250907T151526Z
UID:6729-1759575600-1759582800@sjuhcrichmond.org
SUMMARY:Women's Day Rehearsal
DESCRIPTION:Welcoming All Ladies to rehearsal for the Women’s Day Choir
URL:https://sjuhcrichmond.org/event/womens-day-rehearsal/
CATEGORIES:Church
END:VEVENT
BEGIN:VEVENT
DTSTART;TZID=UTC:20251005T100000
DTEND;TZID=UTC:20251005T120000
DTSTAMP:20260423T054213
CREATED:20250831T160112Z
LAST-MODIFIED:20250907T153909Z
UID:6710-1759658400-1759665600@sjuhcrichmond.org
SUMMARY:Annual Women's Day
DESCRIPTION:Guest Preacher: Elder Rosalind Christian\, Associate Minister\, Cornerstone UHC \nTheme: “Women of Faith Declaring God’s Plan” – Luke 1:38a
URL:https://sjuhcrichmond.org/event/annuarl-womens-day/
CATEGORIES:Church
END:VEVENT
BEGIN:VEVENT
DTSTART;TZID=UTC:20251006T090000
DTEND;TZID=UTC:20251006T093000
DTSTAMP:20260423T054213
CREATED:20250924T235844Z
LAST-MODIFIED:20250924T235844Z
UID:6759-1759741200-1759743000@sjuhcrichmond.org
SUMMARY:9 am Daily Morning Prayer
DESCRIPTION:Dial into the prayer line for early morning prayer Dial 716-427-1562 Enter code: 786535 then press # When dialing in\, please remember to mute yourself by pressing *6
URL:https://sjuhcrichmond.org/event/9-am-daily-morning-prayer-474/
CATEGORIES:Church
END:VEVENT
BEGIN:VEVENT
DTSTART;TZID=UTC:20251007T090000
DTEND;TZID=UTC:20251007T093000
DTSTAMP:20260423T054213
CREATED:20250925T000249Z
LAST-MODIFIED:20250925T000249Z
UID:6763-1759827600-1759829400@sjuhcrichmond.org
SUMMARY:9 am Daily Morning Prayer
DESCRIPTION:Dial into the prayer line for early morning prayer Dial 716-427-1562 Enter code: 786535 then press # When dialing in\, please remember to mute yourself by pressing *6
URL:https://sjuhcrichmond.org/event/9-am-daily-morning-prayer-476/
CATEGORIES:Church
END:VEVENT
BEGIN:VEVENT
DTSTART;TZID=UTC:20251008T090000
DTEND;TZID=UTC:20251008T093000
DTSTAMP:20260423T054213
CREATED:20250925T000404Z
LAST-MODIFIED:20250925T000404Z
UID:6765-1759914000-1759915800@sjuhcrichmond.org
SUMMARY:9 am Daily Morning Prayer
DESCRIPTION:Dial into the prayer line for early morning prayer Dial 716-427-1562 Enter code: 786535 then press # When dialing in\, please remember to mute yourself by pressing *6
URL:https://sjuhcrichmond.org/event/9-am-daily-morning-prayer-477/
CATEGORIES:Church
END:VEVENT
BEGIN:VEVENT
DTSTART;TZID=UTC:20251008T183000
DTEND;TZID=UTC:20251008T200000
DTSTAMP:20260423T054213
CREATED:20251005T144507Z
LAST-MODIFIED:20251005T144507Z
UID:6800-1759948200-1759953600@sjuhcrichmond.org
SUMMARY:Bible Study - Lamentations Chapter 1
DESCRIPTION:You can join in Bible Study via Zoom. \nGo to www.sjuhcrichmond.org and scroll down and select the yellow “Watch” button and then select the “Zoom link for services” button to join bible study or any service. \n  \nFacilitator will be Elder Charlene Mills Watkins. See the notes for bible study below: \n \nWhen we are confronted with the brokenness of the world we live in\, what can we do about it? \nN.T. Wright says\, “Complaint is an accusation against God that maligns His character\, but lament is an appeal to God based on confidence in His character.” \nRead Jeremiah 52:1-19 – Important Background for the study of Lamentations Chapter 1:1-22 \nDiscussion Questions \n\nWhat is the meaning of lament?\nHow is Jerusalem personified in verses 1-3\, and what does this comparison to a widow and a slave tell us about the city’s condition?\nHow does the text describe the depth of grief and mourning\, particularly in verses like 11 and 16?\nHow can we apply the experience of Jerusalem’s lament to our own lives when we face the consequences of our decisions?\nIn what ways can this chapter encourage a more thoughtful approach to personal sin and the need for God’s mercy?
URL:https://sjuhcrichmond.org/event/bible-study-lamentations-chapter-1/
CATEGORIES:Church
END:VEVENT
END:VCALENDAR