BEGIN:VCALENDAR
VERSION:2.0
PRODID:-//St John&#039;s United Holy Church - ECPv6.15.20//NONSGML v1.0//EN
CALSCALE:GREGORIAN
METHOD:PUBLISH
X-ORIGINAL-URL:https://sjuhcrichmond.org
X-WR-CALDESC:Events for St John&#039;s United Holy Church
REFRESH-INTERVAL;VALUE=DURATION:PT1H
X-Robots-Tag:noindex
X-PUBLISHED-TTL:PT1H
BEGIN:VTIMEZONE
TZID:UTC
BEGIN:STANDARD
TZOFFSETFROM:+0000
TZOFFSETTO:+0000
TZNAME:UTC
DTSTART:20240101T000000
END:STANDARD
END:VTIMEZONE
BEGIN:VEVENT
DTSTART;TZID=UTC:20251102T100000
DTEND;TZID=UTC:20251102T120000
DTSTAMP:20260423T004618
CREATED:20251005T152111Z
LAST-MODIFIED:20251005T152111Z
UID:6804-1762077600-1762084800@sjuhcrichmond.org
SUMMARY:Annual Senior Missionary Day
DESCRIPTION:Guest Preacher: Elder Doris Allen \nTheme: Help in Times of a Crisis” \nScripture: Matthew 25:40
URL:https://sjuhcrichmond.org/event/annual-senior-missionary-day/
CATEGORIES:Church
END:VEVENT
END:VCALENDAR