BEGIN:VCALENDAR
VERSION:2.0
PRODID:-//St John&#039;s United Holy Church - ECPv6.15.20//NONSGML v1.0//EN
CALSCALE:GREGORIAN
METHOD:PUBLISH
X-WR-CALNAME:St John&#039;s United Holy Church
X-ORIGINAL-URL:https://sjuhcrichmond.org
X-WR-CALDESC:Events for St John&#039;s United Holy Church
REFRESH-INTERVAL;VALUE=DURATION:PT1H
X-Robots-Tag:noindex
X-PUBLISHED-TTL:PT1H
BEGIN:VTIMEZONE
TZID:UTC
BEGIN:STANDARD
TZOFFSETFROM:+0000
TZOFFSETTO:+0000
TZNAME:UTC
DTSTART:20240101T000000
END:STANDARD
END:VTIMEZONE
BEGIN:VEVENT
DTSTART;TZID=UTC:20251004T110000
DTEND;TZID=UTC:20251004T130000
DTSTAMP:20260423T023345
CREATED:20250907T151526Z
LAST-MODIFIED:20250907T151526Z
UID:6729-1759575600-1759582800@sjuhcrichmond.org
SUMMARY:Women's Day Rehearsal
DESCRIPTION:Welcoming All Ladies to rehearsal for the Women’s Day Choir
URL:https://sjuhcrichmond.org/event/womens-day-rehearsal/
CATEGORIES:Church
END:VEVENT
END:VCALENDAR