BEGIN:VCALENDAR
VERSION:2.0
PRODID:-//St John&#039;s United Holy Church - ECPv6.15.20//NONSGML v1.0//EN
CALSCALE:GREGORIAN
METHOD:PUBLISH
X-ORIGINAL-URL:https://sjuhcrichmond.org
X-WR-CALDESC:Events for St John&#039;s United Holy Church
REFRESH-INTERVAL;VALUE=DURATION:PT1H
X-Robots-Tag:noindex
X-PUBLISHED-TTL:PT1H
BEGIN:VTIMEZONE
TZID:UTC
BEGIN:STANDARD
TZOFFSETFROM:+0000
TZOFFSETTO:+0000
TZNAME:UTC
DTSTART:20240101T000000
END:STANDARD
END:VTIMEZONE
BEGIN:VEVENT
DTSTART;VALUE=DATE:20250920
DTEND;VALUE=DATE:20250921
DTSTAMP:20260423T035806
CREATED:20250907T144910Z
LAST-MODIFIED:20250907T144910Z
UID:6724-1758326400-1758412799@sjuhcrichmond.org
SUMMARY:Senior Citizens Activity - "Air Show"
DESCRIPTION:Contact Mother Constance Talley for additional information
URL:https://sjuhcrichmond.org/event/senior-citizens-activity-air-show/
CATEGORIES:Church
END:VEVENT
BEGIN:VEVENT
DTSTART;TZID=UTC:20250920T090000
DTEND;TZID=UTC:20250920T093000
DTSTAMP:20260423T035806
CREATED:20250907T152029Z
LAST-MODIFIED:20250907T152029Z
UID:6735-1758358800-1758360600@sjuhcrichmond.org
SUMMARY:9 am Daily Morning Prayer
DESCRIPTION:Dial into the prayer line for early morning prayer Dial 716-427-1562 Enter code: 786535 then press # When dialing in\, please remember to mute yourself by pressing *6
URL:https://sjuhcrichmond.org/event/9-am-daily-morning-prayer-463/
CATEGORIES:Church
END:VEVENT
END:VCALENDAR