BEGIN:VCALENDAR
VERSION:2.0
PRODID:-//St John&#039;s United Holy Church - ECPv6.15.20//NONSGML v1.0//EN
CALSCALE:GREGORIAN
METHOD:PUBLISH
X-WR-CALNAME:St John&#039;s United Holy Church
X-ORIGINAL-URL:https://sjuhcrichmond.org
X-WR-CALDESC:Events for St John&#039;s United Holy Church
REFRESH-INTERVAL;VALUE=DURATION:PT1H
X-Robots-Tag:noindex
X-PUBLISHED-TTL:PT1H
BEGIN:VTIMEZONE
TZID:UTC
BEGIN:STANDARD
TZOFFSETFROM:+0000
TZOFFSETTO:+0000
TZNAME:UTC
DTSTART:20240101T000000
END:STANDARD
END:VTIMEZONE
BEGIN:VEVENT
DTSTART;TZID=UTC:20250505T090000
DTEND;TZID=UTC:20250505T093000
DTSTAMP:20260423T095836
CREATED:20250406T160839Z
LAST-MODIFIED:20250406T161430Z
UID:6494-1746435600-1746437400@sjuhcrichmond.org
SUMMARY:9 am Daily Morning Prayer
DESCRIPTION:9 am Daily Morning Prayer: Dial into the prayer line for early morning prayer Dial 716-427-1562 Enter code: 786535 then press # When dialing in\, please remember to mute yourself by pressing *6
URL:https://sjuhcrichmond.org/event/9-am-daily-morning-prayer-404/
CATEGORIES:Church
END:VEVENT
BEGIN:VEVENT
DTSTART;TZID=UTC:20250505T100000
DTEND;TZID=UTC:20250505T120000
DTSTAMP:20260423T095836
CREATED:20250406T160426Z
LAST-MODIFIED:20250406T160426Z
UID:6490-1746439200-1746446400@sjuhcrichmond.org
SUMMARY:Praise on the Parking lot (weather permitting)
DESCRIPTION:Join us for this Sunday as we worship on the parking.
URL:https://sjuhcrichmond.org/event/praise-on-the-parking-lot-weather-permitting/
CATEGORIES:Church
END:VEVENT
END:VCALENDAR