BEGIN:VCALENDAR
VERSION:2.0
PRODID:-//St John&#039;s United Holy Church - ECPv6.15.20//NONSGML v1.0//EN
CALSCALE:GREGORIAN
METHOD:PUBLISH
X-ORIGINAL-URL:https://sjuhcrichmond.org
X-WR-CALDESC:Events for St John&#039;s United Holy Church
REFRESH-INTERVAL;VALUE=DURATION:PT1H
X-Robots-Tag:noindex
X-PUBLISHED-TTL:PT1H
BEGIN:VTIMEZONE
TZID:UTC
BEGIN:STANDARD
TZOFFSETFROM:+0000
TZOFFSETTO:+0000
TZNAME:UTC
DTSTART:20240101T000000
END:STANDARD
END:VTIMEZONE
BEGIN:VEVENT
DTSTART;TZID=UTC:20250416T060000
DTEND;TZID=UTC:20250416T063000
DTSTAMP:20260423T115407
CREATED:20250406T143447Z
LAST-MODIFIED:20250406T143447Z
UID:6432-1744783200-1744785000@sjuhcrichmond.org
SUMMARY:Wednesday 6 am Early Morning Prayer
DESCRIPTION:Dial into the prayer line for early morning prayer Dial 716-427-1562 Enter code: 786535 then press # When dialing in\, please remember to mute yourself by pressing *6
URL:https://sjuhcrichmond.org/event/wednesday-6-am-early-morning-prayer-14/
CATEGORIES:Church
END:VEVENT
BEGIN:VEVENT
DTSTART;TZID=UTC:20250416T090000
DTEND;TZID=UTC:20250416T093000
DTSTAMP:20260423T115407
CREATED:20250323T160217Z
LAST-MODIFIED:20250323T160217Z
UID:6416-1744794000-1744795800@sjuhcrichmond.org
SUMMARY:9 am Daily Morning Prayer
DESCRIPTION:Dial into the prayer line for early morning prayer Dial 716-427-1562 Enter code: 786535 then press # When dialing in\, please remember to mute yourself by pressing *6
URL:https://sjuhcrichmond.org/event/9-am-daily-morning-prayer-392/
CATEGORIES:Church
END:VEVENT
BEGIN:VEVENT
DTSTART;TZID=UTC:20250416T183000
DTEND;TZID=UTC:20250416T200000
DTSTAMP:20260423T115407
CREATED:20250406T153102Z
LAST-MODIFIED:20250406T153102Z
UID:6474-1744828200-1744833600@sjuhcrichmond.org
SUMMARY:Wednesday Bible Study
DESCRIPTION:You can join in Bible Study via Zoom. \nGo to www.sjuhcrichmond.org and scroll down and select the yellow “Watch” button and then select the “Zoom link for services” button to join bible study or any service.
URL:https://sjuhcrichmond.org/event/wednesday-bible-study-64/
CATEGORIES:Church
END:VEVENT
BEGIN:VEVENT
DTSTART;TZID=UTC:20250416T193000
DTEND;TZID=UTC:20250418T210000
DTSTAMP:20260423T115407
CREATED:20250223T163334Z
LAST-MODIFIED:20250223T163334Z
UID:6381-1744831800-1745010000@sjuhcrichmond.org
SUMMARY:Passion Week Revival
DESCRIPTION:
URL:https://sjuhcrichmond.org/event/passion-week-revival/
CATEGORIES:Church
END:VEVENT
END:VCALENDAR