BEGIN:VCALENDAR
VERSION:2.0
PRODID:-//St John&#039;s United Holy Church - ECPv6.15.20//NONSGML v1.0//EN
CALSCALE:GREGORIAN
METHOD:PUBLISH
X-WR-CALNAME:St John&#039;s United Holy Church
X-ORIGINAL-URL:https://sjuhcrichmond.org
X-WR-CALDESC:Events for St John&#039;s United Holy Church
REFRESH-INTERVAL;VALUE=DURATION:PT1H
X-Robots-Tag:noindex
X-PUBLISHED-TTL:PT1H
BEGIN:VTIMEZONE
TZID:UTC
BEGIN:STANDARD
TZOFFSETFROM:+0000
TZOFFSETTO:+0000
TZNAME:UTC
DTSTART:20230101T000000
END:STANDARD
END:VTIMEZONE
BEGIN:VEVENT
DTSTART;TZID=UTC:20241009T090000
DTEND;TZID=UTC:20241009T093000
DTSTAMP:20260423T211450
CREATED:20240901T152239Z
LAST-MODIFIED:20240901T152239Z
UID:5952-1728464400-1728466200@sjuhcrichmond.org
SUMMARY:9 am Daily Morning Prayer
DESCRIPTION:Dial into the prayer line for early morning prayer Dial 716-427-1562 Enter code: 786535 then press # When dialing in\, please remember to mute yourself by pressing *6
URL:https://sjuhcrichmond.org/event/9-am-daily-morning-prayer-266/
CATEGORIES:Church
END:VEVENT
BEGIN:VEVENT
DTSTART;TZID=UTC:20241009T183000
DTEND;TZID=UTC:20241009T200000
DTSTAMP:20260423T211450
CREATED:20240901T144702Z
LAST-MODIFIED:20240901T144702Z
UID:5910-1728498600-1728504000@sjuhcrichmond.org
SUMMARY:Wednesday Bible Study
DESCRIPTION:
URL:https://sjuhcrichmond.org/event/wednesday-bible-study-36/
CATEGORIES:Church
END:VEVENT
END:VCALENDAR