BEGIN:VCALENDAR
VERSION:2.0
PRODID:-//St John&#039;s United Holy Church - ECPv6.15.20//NONSGML v1.0//EN
CALSCALE:GREGORIAN
METHOD:PUBLISH
X-WR-CALNAME:St John&#039;s United Holy Church
X-ORIGINAL-URL:https://sjuhcrichmond.org
X-WR-CALDESC:Events for St John&#039;s United Holy Church
REFRESH-INTERVAL;VALUE=DURATION:PT1H
X-Robots-Tag:noindex
X-PUBLISHED-TTL:PT1H
BEGIN:VTIMEZONE
TZID:UTC
BEGIN:STANDARD
TZOFFSETFROM:+0000
TZOFFSETTO:+0000
TZNAME:UTC
DTSTART:20240101T000000
END:STANDARD
END:VTIMEZONE
BEGIN:VEVENT
DTSTART;TZID=UTC:20251001T090000
DTEND;TZID=UTC:20251001T093000
DTSTAMP:20260423T004417
CREATED:20250924T235510Z
LAST-MODIFIED:20250924T235510Z
UID:6753-1759309200-1759311000@sjuhcrichmond.org
SUMMARY:9 am Daily Morning Prayer
DESCRIPTION:Dial into the prayer line for early morning prayer Dial 716-427-1562 Enter code: 786535 then press # When dialing in\, please remember to mute yourself by pressing *6
URL:https://sjuhcrichmond.org/event/9-am-daily-morning-prayer-471/
CATEGORIES:Church
END:VEVENT
BEGIN:VEVENT
DTSTART;TZID=UTC:20251002T090000
DTEND;TZID=UTC:20251002T093000
DTSTAMP:20260423T004417
CREATED:20250924T235558Z
LAST-MODIFIED:20250924T235558Z
UID:6755-1759395600-1759397400@sjuhcrichmond.org
SUMMARY:9 am Daily Morning Prayer
DESCRIPTION:Dial into the prayer line for early morning prayer Dial 716-427-1562 Enter code: 786535 then press # When dialing in\, please remember to mute yourself by pressing *6
URL:https://sjuhcrichmond.org/event/9-am-daily-morning-prayer-472/
CATEGORIES:Church
END:VEVENT
BEGIN:VEVENT
DTSTART;TZID=UTC:20251003T090000
DTEND;TZID=UTC:20251003T093000
DTSTAMP:20260423T004417
CREATED:20250924T235706Z
LAST-MODIFIED:20250924T235706Z
UID:6757-1759482000-1759483800@sjuhcrichmond.org
SUMMARY:9 am Daily Morning Prayer
DESCRIPTION:Dial into the prayer line for early morning prayer Dial 716-427-1562 Enter code: 786535 then press # When dialing in\, please remember to mute yourself by pressing *6
URL:https://sjuhcrichmond.org/event/9-am-daily-morning-prayer-473/
CATEGORIES:Church
END:VEVENT
BEGIN:VEVENT
DTSTART;TZID=UTC:20251004T110000
DTEND;TZID=UTC:20251004T130000
DTSTAMP:20260423T004417
CREATED:20250907T151526Z
LAST-MODIFIED:20250907T151526Z
UID:6729-1759575600-1759582800@sjuhcrichmond.org
SUMMARY:Women's Day Rehearsal
DESCRIPTION:Welcoming All Ladies to rehearsal for the Women’s Day Choir
URL:https://sjuhcrichmond.org/event/womens-day-rehearsal/
CATEGORIES:Church
END:VEVENT
BEGIN:VEVENT
DTSTART;TZID=UTC:20251005T100000
DTEND;TZID=UTC:20251005T120000
DTSTAMP:20260423T004417
CREATED:20250831T160112Z
LAST-MODIFIED:20250907T153909Z
UID:6710-1759658400-1759665600@sjuhcrichmond.org
SUMMARY:Annual Women's Day
DESCRIPTION:Guest Preacher: Elder Rosalind Christian\, Associate Minister\, Cornerstone UHC \nTheme: “Women of Faith Declaring God’s Plan” – Luke 1:38a
URL:https://sjuhcrichmond.org/event/annuarl-womens-day/
CATEGORIES:Church
END:VEVENT
BEGIN:VEVENT
DTSTART;TZID=UTC:20251006T090000
DTEND;TZID=UTC:20251006T093000
DTSTAMP:20260423T004417
CREATED:20250924T235844Z
LAST-MODIFIED:20250924T235844Z
UID:6759-1759741200-1759743000@sjuhcrichmond.org
SUMMARY:9 am Daily Morning Prayer
DESCRIPTION:Dial into the prayer line for early morning prayer Dial 716-427-1562 Enter code: 786535 then press # When dialing in\, please remember to mute yourself by pressing *6
URL:https://sjuhcrichmond.org/event/9-am-daily-morning-prayer-474/
CATEGORIES:Church
END:VEVENT
BEGIN:VEVENT
DTSTART;TZID=UTC:20251007T090000
DTEND;TZID=UTC:20251007T093000
DTSTAMP:20260423T004417
CREATED:20250925T000249Z
LAST-MODIFIED:20250925T000249Z
UID:6763-1759827600-1759829400@sjuhcrichmond.org
SUMMARY:9 am Daily Morning Prayer
DESCRIPTION:Dial into the prayer line for early morning prayer Dial 716-427-1562 Enter code: 786535 then press # When dialing in\, please remember to mute yourself by pressing *6
URL:https://sjuhcrichmond.org/event/9-am-daily-morning-prayer-476/
CATEGORIES:Church
END:VEVENT
BEGIN:VEVENT
DTSTART;TZID=UTC:20251008T090000
DTEND;TZID=UTC:20251008T093000
DTSTAMP:20260423T004417
CREATED:20250925T000404Z
LAST-MODIFIED:20250925T000404Z
UID:6765-1759914000-1759915800@sjuhcrichmond.org
SUMMARY:9 am Daily Morning Prayer
DESCRIPTION:Dial into the prayer line for early morning prayer Dial 716-427-1562 Enter code: 786535 then press # When dialing in\, please remember to mute yourself by pressing *6
URL:https://sjuhcrichmond.org/event/9-am-daily-morning-prayer-477/
CATEGORIES:Church
END:VEVENT
BEGIN:VEVENT
DTSTART;TZID=UTC:20251008T183000
DTEND;TZID=UTC:20251008T200000
DTSTAMP:20260423T004417
CREATED:20251005T144507Z
LAST-MODIFIED:20251005T144507Z
UID:6800-1759948200-1759953600@sjuhcrichmond.org
SUMMARY:Bible Study - Lamentations Chapter 1
DESCRIPTION:You can join in Bible Study via Zoom. \nGo to www.sjuhcrichmond.org and scroll down and select the yellow “Watch” button and then select the “Zoom link for services” button to join bible study or any service. \n  \nFacilitator will be Elder Charlene Mills Watkins. See the notes for bible study below: \n \nWhen we are confronted with the brokenness of the world we live in\, what can we do about it? \nN.T. Wright says\, “Complaint is an accusation against God that maligns His character\, but lament is an appeal to God based on confidence in His character.” \nRead Jeremiah 52:1-19 – Important Background for the study of Lamentations Chapter 1:1-22 \nDiscussion Questions \n\nWhat is the meaning of lament?\nHow is Jerusalem personified in verses 1-3\, and what does this comparison to a widow and a slave tell us about the city’s condition?\nHow does the text describe the depth of grief and mourning\, particularly in verses like 11 and 16?\nHow can we apply the experience of Jerusalem’s lament to our own lives when we face the consequences of our decisions?\nIn what ways can this chapter encourage a more thoughtful approach to personal sin and the need for God’s mercy?
URL:https://sjuhcrichmond.org/event/bible-study-lamentations-chapter-1/
CATEGORIES:Church
END:VEVENT
BEGIN:VEVENT
DTSTART;TZID=UTC:20251009T090000
DTEND;TZID=UTC:20251009T093000
DTSTAMP:20260423T004417
CREATED:20250925T000541Z
LAST-MODIFIED:20250925T000541Z
UID:6767-1760000400-1760002200@sjuhcrichmond.org
SUMMARY:9 am Daily Morning Prayer
DESCRIPTION:Dial into the prayer line for early morning prayer Dial 716-427-1562 Enter code: 786535 then press # When dialing in\, please remember to mute yourself by pressing *6
URL:https://sjuhcrichmond.org/event/9-am-daily-morning-prayer-478/
CATEGORIES:Church
END:VEVENT
BEGIN:VEVENT
DTSTART;TZID=UTC:20251010T090000
DTEND;TZID=UTC:20251010T093000
DTSTAMP:20260423T004417
CREATED:20250925T000649Z
LAST-MODIFIED:20250925T000649Z
UID:6769-1760086800-1760088600@sjuhcrichmond.org
SUMMARY:9 am Daily Morning Prayer
DESCRIPTION:Dial into the prayer line for early morning prayer Dial 716-427-1562 Enter code: 786535 then press # When dialing in\, please remember to mute yourself by pressing *6
URL:https://sjuhcrichmond.org/event/9-am-daily-morning-prayer-479/
CATEGORIES:Church
END:VEVENT
BEGIN:VEVENT
DTSTART;TZID=UTC:20251011T090000
DTEND;TZID=UTC:20251011T093000
DTSTAMP:20260423T004417
CREATED:20250925T000804Z
LAST-MODIFIED:20250925T000804Z
UID:6771-1760173200-1760175000@sjuhcrichmond.org
SUMMARY:9 am Daily Morning Prayer
DESCRIPTION:Dial into the prayer line for early morning prayer Dial 716-427-1562 Enter code: 786535 then press # When dialing in\, please remember to mute yourself by pressing *6
URL:https://sjuhcrichmond.org/event/9-am-daily-morning-prayer-480/
CATEGORIES:Church
END:VEVENT
BEGIN:VEVENT
DTSTART;TZID=UTC:20251013T090000
DTEND;TZID=UTC:20251013T093000
DTSTAMP:20260423T004417
CREATED:20250925T000908Z
LAST-MODIFIED:20250925T000908Z
UID:6773-1760346000-1760347800@sjuhcrichmond.org
SUMMARY:9 am Daily Morning Prayer
DESCRIPTION:Dial into the prayer line for early morning prayer Dial 716-427-1562 Enter code: 786535 then press # When dialing in\, please remember to mute yourself by pressing *6
URL:https://sjuhcrichmond.org/event/9-am-daily-morning-prayer-481/
CATEGORIES:Church
END:VEVENT
BEGIN:VEVENT
DTSTART;TZID=UTC:20251014T090000
DTEND;TZID=UTC:20251014T093000
DTSTAMP:20260423T004417
CREATED:20250925T001003Z
LAST-MODIFIED:20250925T001003Z
UID:6775-1760432400-1760434200@sjuhcrichmond.org
SUMMARY:9 am Daily Morning Prayer
DESCRIPTION:Dial into the prayer line for early morning prayer Dial 716-427-1562 Enter code: 786535 then press # When dialing in\, please remember to mute yourself by pressing *6
URL:https://sjuhcrichmond.org/event/9-am-daily-morning-prayer-482/
CATEGORIES:Church
END:VEVENT
BEGIN:VEVENT
DTSTART;TZID=UTC:20251015T090000
DTEND;TZID=UTC:20251015T093000
DTSTAMP:20260423T004417
CREATED:20250925T001812Z
LAST-MODIFIED:20250925T001812Z
UID:6777-1760518800-1760520600@sjuhcrichmond.org
SUMMARY:9 am Daily Morning Prayer
DESCRIPTION:Dial into the prayer line for early morning prayer Dial 716-427-1562 Enter code: 786535 then press # When dialing in\, please remember to mute yourself by pressing *6
URL:https://sjuhcrichmond.org/event/9-am-daily-morning-prayer-483/
CATEGORIES:Church
END:VEVENT
BEGIN:VEVENT
DTSTART;TZID=UTC:20251016T090000
DTEND;TZID=UTC:20251016T093000
DTSTAMP:20260423T004417
CREATED:20250925T002014Z
LAST-MODIFIED:20250925T002014Z
UID:6779-1760605200-1760607000@sjuhcrichmond.org
SUMMARY:9 am Daily Morning Prayer
DESCRIPTION:Dial into the prayer line for early morning prayer Dial 716-427-1562 Enter code: 786535 then press # When dialing in\, please remember to mute yourself by pressing *6
URL:https://sjuhcrichmond.org/event/9-am-daily-morning-prayer-484/
CATEGORIES:Church
END:VEVENT
BEGIN:VEVENT
DTSTART;TZID=UTC:20251017T090000
DTEND;TZID=UTC:20251017T093000
DTSTAMP:20260423T004417
CREATED:20250925T004523Z
LAST-MODIFIED:20250925T004523Z
UID:6781-1760691600-1760693400@sjuhcrichmond.org
SUMMARY:9 am Daily Morning Prayer
DESCRIPTION:Dial into the prayer line for early morning prayer Dial 716-427-1562 Enter code: 786535 then press # When dialing in\, please remember to mute yourself by pressing *6
URL:https://sjuhcrichmond.org/event/9-am-daily-morning-prayer-485/
CATEGORIES:Church
END:VEVENT
BEGIN:VEVENT
DTSTART;TZID=UTC:20251017T180000
DTEND;TZID=UTC:20251017T200000
DTSTAMP:20260423T004417
CREATED:20251005T141906Z
LAST-MODIFIED:20251005T141906Z
UID:6796-1760724000-1760731200@sjuhcrichmond.org
SUMMARY:"I Am a Church Member" Book Study
DESCRIPTION:The book study will be held in St. John’s lower level. This session will cover Chapters 1\, 2\, & 3. \n 
URL:https://sjuhcrichmond.org/event/i-am-a-church-member-book-study/
CATEGORIES:Church
END:VEVENT
BEGIN:VEVENT
DTSTART;TZID=UTC:20251018T090000
DTEND;TZID=UTC:20251018T093000
DTSTAMP:20260423T004417
CREATED:20250925T004616Z
LAST-MODIFIED:20250925T004616Z
UID:6783-1760778000-1760779800@sjuhcrichmond.org
SUMMARY:9 am Daily Morning Prayer
DESCRIPTION:Dial into the prayer line for early morning prayer Dial 716-427-1562 Enter code: 786535 then press # When dialing in\, please remember to mute yourself by pressing *6
URL:https://sjuhcrichmond.org/event/9-am-daily-morning-prayer-486/
CATEGORIES:Church
END:VEVENT
BEGIN:VEVENT
DTSTART;TZID=UTC:20251018T100000
DTEND;TZID=UTC:20251018T120000
DTSTAMP:20260423T004417
CREATED:20251005T150020Z
LAST-MODIFIED:20251005T150020Z
UID:6802-1760781600-1760788800@sjuhcrichmond.org
SUMMARY:District Elder fall meeting
DESCRIPTION:
URL:https://sjuhcrichmond.org/event/district-elder-fall-meeting/
CATEGORIES:Church
END:VEVENT
BEGIN:VEVENT
DTSTART;TZID=UTC:20251020T090000
DTEND;TZID=UTC:20251020T093000
DTSTAMP:20260423T004417
CREATED:20250925T004719Z
LAST-MODIFIED:20250925T004719Z
UID:6785-1760950800-1760952600@sjuhcrichmond.org
SUMMARY:9 am Daily Morning Prayer
DESCRIPTION:Dial into the prayer line for early morning prayer Dial 716-427-1562 Enter code: 786535 then press # When dialing in\, please remember to mute yourself by pressing *6
URL:https://sjuhcrichmond.org/event/9-am-daily-morning-prayer-487/
CATEGORIES:Church
END:VEVENT
BEGIN:VEVENT
DTSTART;TZID=UTC:20251021T090000
DTEND;TZID=UTC:20251021T093000
DTSTAMP:20260423T004417
CREATED:20250925T004934Z
LAST-MODIFIED:20250925T004934Z
UID:6787-1761037200-1761039000@sjuhcrichmond.org
SUMMARY:9 am Daily Morning Prayer
DESCRIPTION:Dial into the prayer line for early morning prayer Dial 716-427-1562 Enter code: 786535 then press # When dialing in\, please remember to mute yourself by pressing *6
URL:https://sjuhcrichmond.org/event/9-am-daily-morning-prayer-488/
CATEGORIES:Church
END:VEVENT
BEGIN:VEVENT
DTSTART;TZID=UTC:20251022T090000
DTEND;TZID=UTC:20251022T093000
DTSTAMP:20260423T004417
CREATED:20250925T005119Z
LAST-MODIFIED:20250925T005119Z
UID:6789-1761123600-1761125400@sjuhcrichmond.org
SUMMARY:9 am Daily Morning Prayer
DESCRIPTION:Dial into the prayer line for early morning prayer Dial 716-427-1562 Enter code: 786535 then press # When dialing in\, please remember to mute yourself by pressing *6
URL:https://sjuhcrichmond.org/event/9-am-daily-morning-prayer-489/
CATEGORIES:Church
END:VEVENT
BEGIN:VEVENT
DTSTART;TZID=UTC:20251022T183000
DTEND;TZID=UTC:20251022T200000
DTSTAMP:20260423T004417
CREATED:20251029T005838Z
LAST-MODIFIED:20251029T005838Z
UID:6820-1761157800-1761163200@sjuhcrichmond.org
SUMMARY:Wednesday Bible Study - Lamentations 2
DESCRIPTION:Go to www.sjuhcrichmond.org and scroll down and select the yellow “Watch” button and then select the “Zoom link for services” button to join bible study or any service. \n  \n \nBible Study October 22\, 2025  \nLamentations Chapter 2 Facilitator\, Elder Charlene Mills Watkins  \nRead Lamentations 2:1-17 and Reference Scriptures Please include other translations in your reading\, in addition to KJV (for example NIV\, NLT\, Message\, and Amplified)  \nOutline  \n\n God as the enemy of Jerusalem \n (1-5) The Lord as Jerusalem’s enemy \n How the Lord has covered the daughter of Zion with a cloud of His anger (1Kings 8:10-12); Ezekiel 10:4-5; Matthew 5:35; Acts 7:40; 1 Chron. 28:2; Mt. 11:21ff \n He has thrown down in His wrath the strongholds of the daughter of Judah \n Standing like an enemy. He has bent His bow. \n (6-7) The Lord destroys His own tabernacle \n He has done violence to His tabernacle: \n The Lord has caused the appointed fests and Sabbaths to be forgotten in Zion \n They have made a noise in the house of the Lord \n A city reacts to the judgment of God. \n (8-9a) The defenses of the city react. \n The Lord has proposed to destroy the wall of the daughter of Zion: b. He has stretched out a line: \n Her gates have sunk into the ground: \n (9b-10) The people of the city react. \n Her king and her princes are among the nations: \n The Law is no more\, and her prophets find no vision from the Lord: c. The elders of the daughters of Zion sit on the ground and keep silence: \n The virgins of Jerusalem bow their heads to the ground: 3. (11-12) The prophet reacts.\n My eyes fail with tears: \n They swoon like the wounded: \n Longing to comfort a forsaken city \n (13-14) False prophets cannot comfort \n How shall I console you? \n Your prophets have seen for you false and deceptive visions: 2. (15-16) Friends and foes cannot comfort Jerusalem \n All who pass by clap their hands at you: \n We have swallowed up: \n God’s purpose on the day of the Lord’s anger. \n (17) The judgment of Jerusalem as what God purposed. a. The Lord has done what He purposed: (Lam. 2:8) \n He has caused an enemy to rejoice over you: \n (18-19) The prayer of Jerusalem’s enemies \n O wall of the daughter of Zion\, let tears run down like a river day and night: \n Lift your hands toward him for the life of your young children: 3. (20-22) The agony of the perishing city. \n To whom have You done this? (2 Kings 6:28-29) \n You have slain them in the day of Your anger:\n\n 
URL:https://sjuhcrichmond.org/event/wednesday-bible-study-lamentations-2/
CATEGORIES:Church
END:VEVENT
BEGIN:VEVENT
DTSTART;TZID=UTC:20251024T090000
DTEND;TZID=UTC:20251024T093000
DTSTAMP:20260423T004417
CREATED:20250925T005254Z
LAST-MODIFIED:20250925T005254Z
UID:6791-1761296400-1761298200@sjuhcrichmond.org
SUMMARY:9 am Daily Morning Prayer
DESCRIPTION: Dial into the prayer line for early morning prayer Dial 716-427-1562 Enter code: 786535 then press # When dialing in\, please remember to mute yourself by pressing *6
URL:https://sjuhcrichmond.org/event/9-am-daily-morning-prayer-490/
CATEGORIES:Church
END:VEVENT
BEGIN:VEVENT
DTSTART;TZID=UTC:20251029T183000
DTEND;TZID=UTC:20251029T200000
DTSTAMP:20260423T004417
CREATED:20251029T004717Z
LAST-MODIFIED:20251029T005226Z
UID:6814-1761762600-1761768000@sjuhcrichmond.org
SUMMARY:Wednesday Bible Study - Lamentations 3
DESCRIPTION:Go to www.sjuhcrichmond.org and scroll down and select the yellow “Watch” button and then select the “Zoom link for services” button to join bible study or any service. \nBible Study October 29 Lamentations 3 \nFacilitator will be Elder Charlene Mills Watkins. See the notes for bible study below: \nLamentations 3 “Great Is Your Faithfulness”- God’s Mercy in the Midst of Disaster  \nRead Lamentations 3: 1-66 and Reference Scriptures. Please include other translations in your reading\, in addition to KJV(for example NIV\, NLT\, Message\, and Amplified)  \nOutline  \n\n Opposed by the Lord \n(1-9) The one afflicted by the Lord(besieged\, turned hand against me\, shuts out my prayer) Ps. 51:8; Isa.38:13;Job 30:20 \n(10-18) God an adversary in many ways(bear lying in wait\, strength & hope perished) Job 19:27;Prov.23:16;Hosea 6:1;Job 7:20;30:9;Pr.20:17 \n Rising hope in God’s help.(sinking soul\, affliction & roaming) \n\n 1.(19-20) The sinking soul.  \n\n (21-23) New mercies from a faithful God.(This I recall to mind\,hope\,”concerned but not consumed”\, new mercies\, compassions\, faithfulness) \n (24-26) God’s goodness to the sinking soul(Lord is my portion\,I hope in Him: seek Him\,hope and wait quietly for the salvation of the Lord. Ps. 119:57 4. (27-29) Hope for the silent soul. It is good to bear the yoke in youth\,sit alone and keep silent.Ps.47:7;Jer.15:17. \n (30-36) The goodness of God even in justice.(give cheek to the one who strikes; For the Lord will not cast off forever:He does not afflict willingly\, nor grieve the children. Ps.94:14;Eze.33:11;Hab.1:13;Isa.50:6;Mt.27:27ff & 26:67-68;Lk.22:64 C. Prayers of humble trust in God \n\n(37-39) The God who cannot be opposed; Is it not from the mouth of the Most High that woe and well-being proceed?Why should a living man  \ncomplain:Ps.33:9-11;Job2:10;Mic.7:9  \n\n(40-47) Humbly turning back to God. (search out and examine our ways\, and turn back to the Lord;You have made us an offscouring and \n\nrefuse.Ps.119:59;Da.9:5;1Cor.4:13;Isa.24:17-18  \n\n (48-51) Weeping over destruction.(eyes overflow with rivers of water:Lord from Heaven looks down and sees.Jer.14:17;Is.63:15 \n (52-56) Praying for help under enemy(enemies hunted me down like a bird;I called on your name\,O Lord. Ps.35:7;69:2 \n (57-63) Thankful and confident of future help.(You drew near on the day I called You:Lord\, You have pleaded the case for my soul and seen how I am wronged and all their vengeance. Is.41:10;Ps.39:1\n(64-66) Giving vengeance to God. (Repay them\, Lord\, according to the work of their hands; Your curse be upon them;In Your anger\, pursue and destroy. Ps.28:4; Is.6:10 \n\nSummary  \nThe book of Lamentations demonstrates the purpose and power of lament. It not only points to the destruction of Jerusalem\, but also shows us how to pray when the dark clouds of suffering roll in. Through Christ we show the world what it means to be covered by grace\, despite the hurts of this life. When suffering comes\, Psalm 34:18 is a promise of God; “The Lord is close to the brokenhearted and saves those who are crushed in spirit.”  \nReasons to Read and Study Lamentations  \n\n Lamentations displays the severity of sin and the holiness of God. We have reasons to lament. \n Lamentations gives the Church a voice in suffering. Lament fills the gap. 3. Lamentations provides hope. It matters how we respond when everything falls apart. \n Lamentations doesn’t end with resolution. Lamentations reminds us that God is good and faithful when our circumstances suggest He is not. \n\n4 lessons from Lamentations About Suffering  \n\n God will bring us to desperate places. God doesn’t waste desperate places. 2. God is merciful and draws His children to repentance. God does not leave us in our suffering. \n God is patient with our response to suffering. Remembering the truth of God’s faithfulness gives us hope. \n God restores. Whatever the suffering season you are facing\, God walks with you. He does not leave us without a way out\, without hope\, and without His peace.
URL:https://sjuhcrichmond.org/event/wednesday-bible-study-70/
CATEGORIES:Church
END:VEVENT
END:VCALENDAR