BEGIN:VCALENDAR
VERSION:2.0
PRODID:-//St John&#039;s United Holy Church - ECPv6.15.20//NONSGML v1.0//EN
CALSCALE:GREGORIAN
METHOD:PUBLISH
X-ORIGINAL-URL:https://sjuhcrichmond.org
X-WR-CALDESC:Events for St John&#039;s United Holy Church
REFRESH-INTERVAL;VALUE=DURATION:PT1H
X-Robots-Tag:noindex
X-PUBLISHED-TTL:PT1H
BEGIN:VTIMEZONE
TZID:UTC
BEGIN:STANDARD
TZOFFSETFROM:+0000
TZOFFSETTO:+0000
TZNAME:UTC
DTSTART:20240101T000000
END:STANDARD
END:VTIMEZONE
BEGIN:VEVENT
DTSTART;TZID=UTC:20250825T090000
DTEND;TZID=UTC:20250825T093000
DTSTAMP:20260423T035525
CREATED:20250824T141552Z
LAST-MODIFIED:20250824T141552Z
UID:6661-1756112400-1756114200@sjuhcrichmond.org
SUMMARY:9 am Daily Morning Prayer
DESCRIPTION:Dial into the prayer line for early morning prayer Dial 716-427-1562 Enter code: 786535 then press # When dialing in\, please remember to mute yourself by pressing *6
URL:https://sjuhcrichmond.org/event/9-am-daily-morning-prayer-440/
CATEGORIES:Church
END:VEVENT
BEGIN:VEVENT
DTSTART;TZID=UTC:20250826T090000
DTEND;TZID=UTC:20250826T093000
DTSTAMP:20260423T035525
CREATED:20250824T141659Z
LAST-MODIFIED:20250824T141659Z
UID:6663-1756198800-1756200600@sjuhcrichmond.org
SUMMARY:9 am Daily Morning Prayer
DESCRIPTION:Dial into the prayer line for early morning prayer Dial 716-427-1562 Enter code: 786535 then press # When dialing in\, please remember to mute yourself by pressing *6
URL:https://sjuhcrichmond.org/event/9-am-daily-morning-prayer-441/
CATEGORIES:Church
END:VEVENT
BEGIN:VEVENT
DTSTART;TZID=UTC:20250827T090000
DTEND;TZID=UTC:20250827T093000
DTSTAMP:20260423T035525
CREATED:20250824T143944Z
LAST-MODIFIED:20250824T143944Z
UID:6669-1756285200-1756287000@sjuhcrichmond.org
SUMMARY:9 am Daily Morning Prayer
DESCRIPTION:Dial into the prayer line for early morning prayer Dial 716-427-1562 Enter code: 786535 then press # When dialing in\, please remember to mute yourself by pressing *6
URL:https://sjuhcrichmond.org/event/9-am-daily-morning-prayer-444/
CATEGORIES:Church
END:VEVENT
BEGIN:VEVENT
DTSTART;TZID=UTC:20250827T183000
DTEND;TZID=UTC:20250827T200000
DTSTAMP:20260423T035525
CREATED:20250824T152454Z
LAST-MODIFIED:20250824T152454Z
UID:6694-1756319400-1756324800@sjuhcrichmond.org
SUMMARY:Wednesday Bible Study
DESCRIPTION:You can join in Bible Study via Zoom. \nGo to www.sjuhcrichmond.org and scroll down and select the yellow “Watch” button and then select the “Zoom link for services” button to join bible study or any service.
URL:https://sjuhcrichmond.org/event/wednesday-bible-study-66/
CATEGORIES:Church
END:VEVENT
BEGIN:VEVENT
DTSTART;TZID=UTC:20250828T090000
DTEND;TZID=UTC:20250828T093000
DTSTAMP:20260423T035525
CREATED:20250824T143300Z
LAST-MODIFIED:20250824T143300Z
UID:6665-1756371600-1756373400@sjuhcrichmond.org
SUMMARY:9 am Daily Morning Prayer
DESCRIPTION:Dial into the prayer line for early morning prayer Dial 716-427-1562 Enter code: 786535 then press # When dialing in\, please remember to mute yourself by pressing *6
URL:https://sjuhcrichmond.org/event/9-am-daily-morning-prayer-442/
CATEGORIES:Church
END:VEVENT
BEGIN:VEVENT
DTSTART;TZID=UTC:20250828T193000
DTEND;TZID=UTC:20250828T200000
DTSTAMP:20260423T035525
CREATED:20250824T153732Z
LAST-MODIFIED:20250824T153732Z
UID:6702-1756409400-1756411200@sjuhcrichmond.org
SUMMARY:St. John's at St. Paul's Tabernacle
DESCRIPTION:St. John’s will render service at St. Paul’s Tabernacle at 7:30.
URL:https://sjuhcrichmond.org/event/st-johns-at-st-pauls-tabernacle-2/
CATEGORIES:Church
END:VEVENT
BEGIN:VEVENT
DTSTART;TZID=UTC:20250829T090000
DTEND;TZID=UTC:20250829T093000
DTSTAMP:20260423T035525
CREATED:20250824T143409Z
LAST-MODIFIED:20250824T143409Z
UID:6667-1756458000-1756459800@sjuhcrichmond.org
SUMMARY:9 am Daily Morning Prayer
DESCRIPTION:Dial into the prayer line for early morning prayer Dial 716-427-1562 Enter code: 786535 then press # When dialing in\, please remember to mute yourself by pressing *6
URL:https://sjuhcrichmond.org/event/9-am-daily-morning-prayer-443/
CATEGORIES:Church
END:VEVENT
BEGIN:VEVENT
DTSTART;TZID=UTC:20250830T090000
DTEND;TZID=UTC:20250830T093000
DTSTAMP:20260423T035525
CREATED:20250824T144122Z
LAST-MODIFIED:20250824T144122Z
UID:6671-1756544400-1756546200@sjuhcrichmond.org
SUMMARY:9 am Daily Morning Prayer
DESCRIPTION:Dial into the prayer line for early morning prayer Dial 716-427-1562 Enter code: 786535 then press # When dialing in\, please remember to mute yourself by pressing *6
URL:https://sjuhcrichmond.org/event/9-am-daily-morning-prayer-445/
CATEGORIES:Church
END:VEVENT
END:VCALENDAR