BEGIN:VCALENDAR
VERSION:2.0
PRODID:-//St John&#039;s United Holy Church - ECPv6.15.20//NONSGML v1.0//EN
CALSCALE:GREGORIAN
METHOD:PUBLISH
X-WR-CALNAME:St John&#039;s United Holy Church
X-ORIGINAL-URL:https://sjuhcrichmond.org
X-WR-CALDESC:Events for St John&#039;s United Holy Church
REFRESH-INTERVAL;VALUE=DURATION:PT1H
X-Robots-Tag:noindex
X-PUBLISHED-TTL:PT1H
BEGIN:VTIMEZONE
TZID:UTC
BEGIN:STANDARD
TZOFFSETFROM:+0000
TZOFFSETTO:+0000
TZNAME:UTC
DTSTART:20240101T000000
END:STANDARD
END:VTIMEZONE
BEGIN:VEVENT
DTSTART;TZID=UTC:20250701T090000
DTEND;TZID=UTC:20250701T093000
DTSTAMP:20260423T052845
CREATED:20250525T152535Z
LAST-MODIFIED:20250525T152535Z
UID:6646-1751360400-1751362200@sjuhcrichmond.org
SUMMARY:9 am Daily Morning Prayer
DESCRIPTION:9 am Daily Morning Prayer: Dial into the prayer line for early morning prayer Dial 716-427-1562 Enter code: 786535 then press # When dialing in\, please remember to mute yourself by pressing *6
URL:https://sjuhcrichmond.org/event/9-am-daily-morning-prayer-435/
CATEGORIES:Church
END:VEVENT
BEGIN:VEVENT
DTSTART;TZID=UTC:20250702T090000
DTEND;TZID=UTC:20250702T093000
DTSTAMP:20260423T052845
CREATED:20250525T152658Z
LAST-MODIFIED:20250525T152658Z
UID:6648-1751446800-1751448600@sjuhcrichmond.org
SUMMARY:9 am Daily Morning Prayer
DESCRIPTION:9 am Daily Morning Prayer: Dial into the prayer line for early morning prayer Dial 716-427-1562 Enter code: 786535 then press # When dialing in\, please remember to mute yourself by pressing *6
URL:https://sjuhcrichmond.org/event/9-am-daily-morning-prayer-436/
CATEGORIES:Church
END:VEVENT
BEGIN:VEVENT
DTSTART;TZID=UTC:20250703T090000
DTEND;TZID=UTC:20250703T093000
DTSTAMP:20260423T052845
CREATED:20250525T152814Z
LAST-MODIFIED:20250525T152814Z
UID:6650-1751533200-1751535000@sjuhcrichmond.org
SUMMARY:9 am Daily Morning Prayer
DESCRIPTION:9 am Daily Morning Prayer: Dial into the prayer line for early morning prayer Dial 716-427-1562 Enter code: 786535 then press # When dialing in\, please remember to mute yourself by pressing *6
URL:https://sjuhcrichmond.org/event/9-am-daily-morning-prayer-437/
CATEGORIES:Church
END:VEVENT
BEGIN:VEVENT
DTSTART;TZID=UTC:20250704T090000
DTEND;TZID=UTC:20250704T093000
DTSTAMP:20260423T052845
CREATED:20250525T152923Z
LAST-MODIFIED:20250525T152923Z
UID:6652-1751619600-1751621400@sjuhcrichmond.org
SUMMARY:9 am Daily Morning Prayer
DESCRIPTION:9 am Daily Morning Prayer: Dial into the prayer line for early morning prayer Dial 716-427-1562 Enter code: 786535 then press # When dialing in\, please remember to mute yourself by pressing *6
URL:https://sjuhcrichmond.org/event/9-am-daily-morning-prayer-438/
CATEGORIES:Church
END:VEVENT
BEGIN:VEVENT
DTSTART;TZID=UTC:20250705T090000
DTEND;TZID=UTC:20250705T093000
DTSTAMP:20260423T052845
CREATED:20250525T153031Z
LAST-MODIFIED:20250525T153031Z
UID:6654-1751706000-1751707800@sjuhcrichmond.org
SUMMARY:9 am Daily Morning Prayer
DESCRIPTION:9 am Daily Morning Prayer: Dial into the prayer line for early morning prayer Dial 716-427-1562 Enter code: 786535 then press # When dialing in\, please remember to mute yourself by pressing *6
URL:https://sjuhcrichmond.org/event/9-am-daily-morning-prayer-439/
CATEGORIES:Church
END:VEVENT
BEGIN:VEVENT
DTSTART;TZID=UTC:20250712T170000
DTEND;TZID=UTC:20250712T190000
DTSTAMP:20260423T052845
CREATED:20250525T140332Z
LAST-MODIFIED:20250525T140332Z
UID:6572-1752339600-1752346800@sjuhcrichmond.org
SUMMARY:110th Church Anniversary Banquet
DESCRIPTION:110th Anniversary Banquet \n5:00 pm – 7:00 pm \n\nBanquet Speaker: \nElder Janie Mitchell\, Pastor \nRock of Ages United Holy Church \n\nEastern Henrico Recreation Center \n1440 E. Laburnum Avenue \nHenrico\, VA 23223 \n\nTickets: $60 – adults; $35 – children \nAttire: Semi-Formal
URL:https://sjuhcrichmond.org/event/110th-church-anniversary-banquet/
CATEGORIES:Church
END:VEVENT
BEGIN:VEVENT
DTSTART;TZID=UTC:20250713T150000
DTEND;TZID=UTC:20250713T170000
DTSTAMP:20260423T052845
CREATED:20250525T141208Z
LAST-MODIFIED:20250525T141325Z
UID:6575-1752418800-1752426000@sjuhcrichmond.org
SUMMARY:110th Church Anniversary Afternoon Service
DESCRIPTION:110th Anniversary Service \n3:00 pm  \nAnniversary Speaker: \nBishop JB Felton\, President \nVirginia District Convocation \nSt. John’s United Holy Church  \n1507 N. 28th Street \nRichmond\, VA 23223
URL:https://sjuhcrichmond.org/event/110th-church-anniversary-service/
CATEGORIES:Church
END:VEVENT
END:VCALENDAR