BEGIN:VCALENDAR
VERSION:2.0
PRODID:-//St John&#039;s United Holy Church - ECPv6.15.20//NONSGML v1.0//EN
CALSCALE:GREGORIAN
METHOD:PUBLISH
X-WR-CALNAME:St John&#039;s United Holy Church
X-ORIGINAL-URL:https://sjuhcrichmond.org
X-WR-CALDESC:Events for St John&#039;s United Holy Church
REFRESH-INTERVAL;VALUE=DURATION:PT1H
X-Robots-Tag:noindex
X-PUBLISHED-TTL:PT1H
BEGIN:VTIMEZONE
TZID:UTC
BEGIN:STANDARD
TZOFFSETFROM:+0000
TZOFFSETTO:+0000
TZNAME:UTC
DTSTART:20230101T000000
END:STANDARD
END:VTIMEZONE
BEGIN:VEVENT
DTSTART;TZID=UTC:20241001T090000
DTEND;TZID=UTC:20241001T093000
DTSTAMP:20260423T194901
CREATED:20240901T151823Z
LAST-MODIFIED:20240901T151823Z
UID:5940-1727773200-1727775000@sjuhcrichmond.org
SUMMARY:9 am Daily Morning Prayer
DESCRIPTION:Dial into the prayer line for early morning prayer Dial 716-427-1562 Enter code: 786535 then press # When dialing in\, please remember to mute yourself by pressing *6
URL:https://sjuhcrichmond.org/event/9-am-daily-morning-prayer-260/
CATEGORIES:Church
END:VEVENT
BEGIN:VEVENT
DTSTART;TZID=UTC:20241001T120000
DTEND;TZID=UTC:20241001T130000
DTSTAMP:20260423T194901
CREATED:20240804T143907Z
LAST-MODIFIED:20240804T145105Z
UID:5825-1727784000-1727787600@sjuhcrichmond.org
SUMMARY:Noon Day Prayer
DESCRIPTION:Noon Day Prayer will be held in person at St. John’s in the sanctuary.
URL:https://sjuhcrichmond.org/event/noon-day-prayer-20/
CATEGORIES:Church
END:VEVENT
BEGIN:VEVENT
DTSTART;TZID=UTC:20241002T090000
DTEND;TZID=UTC:20241002T093000
DTSTAMP:20260423T194901
CREATED:20240901T151902Z
LAST-MODIFIED:20240901T151902Z
UID:5942-1727859600-1727861400@sjuhcrichmond.org
SUMMARY:9 am Daily Morning Prayer
DESCRIPTION:Dial into the prayer line for early morning prayer Dial 716-427-1562 Enter code: 786535 then press # When dialing in\, please remember to mute yourself by pressing *6
URL:https://sjuhcrichmond.org/event/9-am-daily-morning-prayer-261/
CATEGORIES:Church
END:VEVENT
BEGIN:VEVENT
DTSTART;TZID=UTC:20241002T183000
DTEND;TZID=UTC:20241002T200000
DTSTAMP:20260423T194901
CREATED:20240901T144622Z
LAST-MODIFIED:20240901T144622Z
UID:5908-1727893800-1727899200@sjuhcrichmond.org
SUMMARY:Wednesday Bible Study
DESCRIPTION:
URL:https://sjuhcrichmond.org/event/wednesday-bible-study-35/
CATEGORIES:Church
END:VEVENT
BEGIN:VEVENT
DTSTART;TZID=UTC:20241003T090000
DTEND;TZID=UTC:20241003T093000
DTSTAMP:20260423T194901
CREATED:20240901T151939Z
LAST-MODIFIED:20240901T151939Z
UID:5944-1727946000-1727947800@sjuhcrichmond.org
SUMMARY:9 am Daily Morning Prayer
DESCRIPTION:Dial into the prayer line for early morning prayer Dial 716-427-1562 Enter code: 786535 then press # When dialing in\, please remember to mute yourself by pressing *6
URL:https://sjuhcrichmond.org/event/9-am-daily-morning-prayer-262/
CATEGORIES:Church
END:VEVENT
BEGIN:VEVENT
DTSTART;TZID=UTC:20241004T090000
DTEND;TZID=UTC:20241004T093000
DTSTAMP:20260423T194901
CREATED:20240901T152342Z
LAST-MODIFIED:20240901T152342Z
UID:5954-1728032400-1728034200@sjuhcrichmond.org
SUMMARY:9 am Daily Morning Prayer
DESCRIPTION:Dial into the prayer line for early morning prayer Dial 716-427-1562 Enter code: 786535 then press # When dialing in\, please remember to mute yourself by pressing *6
URL:https://sjuhcrichmond.org/event/9-am-daily-morning-prayer-267/
CATEGORIES:Church
END:VEVENT
BEGIN:VEVENT
DTSTART;TZID=UTC:20241005T090000
DTEND;TZID=UTC:20241005T093000
DTSTAMP:20260423T194901
CREATED:20240901T152019Z
LAST-MODIFIED:20240901T152019Z
UID:5946-1728118800-1728120600@sjuhcrichmond.org
SUMMARY:9 am Daily Morning Prayer
DESCRIPTION:Dial into the prayer line for early morning prayer Dial 716-427-1562 Enter code: 786535 then press # When dialing in\, please remember to mute yourself by pressing *6
URL:https://sjuhcrichmond.org/event/9-am-daily-morning-prayer-263/
CATEGORIES:Church
END:VEVENT
BEGIN:VEVENT
DTSTART;TZID=UTC:20241007T090000
DTEND;TZID=UTC:20241007T093000
DTSTAMP:20260423T194901
CREATED:20240901T152108Z
LAST-MODIFIED:20240901T152108Z
UID:5948-1728291600-1728293400@sjuhcrichmond.org
SUMMARY:9 am Daily Morning Prayer
DESCRIPTION:Dial into the prayer line for early morning prayer Dial 716-427-1562 Enter code: 786535 then press # When dialing in\, please remember to mute yourself by pressing *6
URL:https://sjuhcrichmond.org/event/9-am-daily-morning-prayer-264/
CATEGORIES:Church
END:VEVENT
BEGIN:VEVENT
DTSTART;TZID=UTC:20241008T090000
DTEND;TZID=UTC:20241008T093000
DTSTAMP:20260423T194901
CREATED:20240901T152157Z
LAST-MODIFIED:20240901T152157Z
UID:5950-1728378000-1728379800@sjuhcrichmond.org
SUMMARY:9 am Daily Morning Prayer
DESCRIPTION:Dial into the prayer line for early morning prayer Dial 716-427-1562 Enter code: 786535 then press # When dialing in\, please remember to mute yourself by pressing *6
URL:https://sjuhcrichmond.org/event/9-am-daily-morning-prayer-265/
CATEGORIES:Church
END:VEVENT
BEGIN:VEVENT
DTSTART;TZID=UTC:20241008T120000
DTEND;TZID=UTC:20241008T130000
DTSTAMP:20260423T194901
CREATED:20240804T145158Z
LAST-MODIFIED:20240804T145158Z
UID:5827-1728388800-1728392400@sjuhcrichmond.org
SUMMARY:Noon Day Prayer
DESCRIPTION:Noon Day Prayer will be held in person at St. John’s in the sanctuary.
URL:https://sjuhcrichmond.org/event/noon-day-prayer-21/
CATEGORIES:Church
END:VEVENT
BEGIN:VEVENT
DTSTART;TZID=UTC:20241009T090000
DTEND;TZID=UTC:20241009T093000
DTSTAMP:20260423T194901
CREATED:20240901T152239Z
LAST-MODIFIED:20240901T152239Z
UID:5952-1728464400-1728466200@sjuhcrichmond.org
SUMMARY:9 am Daily Morning Prayer
DESCRIPTION:Dial into the prayer line for early morning prayer Dial 716-427-1562 Enter code: 786535 then press # When dialing in\, please remember to mute yourself by pressing *6
URL:https://sjuhcrichmond.org/event/9-am-daily-morning-prayer-266/
CATEGORIES:Church
END:VEVENT
BEGIN:VEVENT
DTSTART;TZID=UTC:20241009T183000
DTEND;TZID=UTC:20241009T200000
DTSTAMP:20260423T194901
CREATED:20240901T144702Z
LAST-MODIFIED:20240901T144702Z
UID:5910-1728498600-1728504000@sjuhcrichmond.org
SUMMARY:Wednesday Bible Study
DESCRIPTION:
URL:https://sjuhcrichmond.org/event/wednesday-bible-study-36/
CATEGORIES:Church
END:VEVENT
BEGIN:VEVENT
DTSTART;TZID=UTC:20241010T090000
DTEND;TZID=UTC:20241010T093000
DTSTAMP:20260423T194901
CREATED:20240901T152600Z
LAST-MODIFIED:20240901T154135Z
UID:5958-1728550800-1728552600@sjuhcrichmond.org
SUMMARY:9 am Daily Morning Prayer
DESCRIPTION: Dial into the prayer line for early morning prayer Dial 716-427-1562 Enter code: 786535 then press # When dialing in\, please remember to mute yourself by pressing *6
URL:https://sjuhcrichmond.org/event/9-am-daily-morning-prayer-269/
CATEGORIES:Church
END:VEVENT
BEGIN:VEVENT
DTSTART;TZID=UTC:20241011T090000
DTEND;TZID=UTC:20241011T093000
DTSTAMP:20260423T194901
CREATED:20240901T152643Z
LAST-MODIFIED:20240901T152643Z
UID:5960-1728637200-1728639000@sjuhcrichmond.org
SUMMARY:9 am Daily Morning Prayer
DESCRIPTION:Dial into the prayer line for early morning prayer Dial 716-427-1562 Enter code: 786535 then press # When dialing in\, please remember to mute yourself by pressing *6
URL:https://sjuhcrichmond.org/event/9-am-daily-morning-prayer-270/
CATEGORIES:Church
END:VEVENT
BEGIN:VEVENT
DTSTART;TZID=UTC:20241012T090000
DTEND;TZID=UTC:20241012T093000
DTSTAMP:20260423T194901
CREATED:20240901T152748Z
LAST-MODIFIED:20240901T152748Z
UID:5962-1728723600-1728725400@sjuhcrichmond.org
SUMMARY:9 am Daily Morning Prayer
DESCRIPTION:Dial into the prayer line for early morning prayer Dial 716-427-1562 Enter code: 786535 then press # When dialing in\, please remember to mute yourself by pressing *6
URL:https://sjuhcrichmond.org/event/9-am-daily-morning-prayer-271/
CATEGORIES:Church
END:VEVENT
BEGIN:VEVENT
DTSTART;TZID=UTC:20241014T090000
DTEND;TZID=UTC:20241014T093000
DTSTAMP:20260423T194901
CREATED:20240901T152516Z
LAST-MODIFIED:20240901T153021Z
UID:5956-1728896400-1728898200@sjuhcrichmond.org
SUMMARY:9 am Daily Morning Prayer
DESCRIPTION:Dial into the prayer line for early morning prayer Dial 716-427-1562 Enter code: 786535 then press # When dialing in\, please remember to mute yourself by pressing *6
URL:https://sjuhcrichmond.org/event/9-am-daily-morning-prayer-268/
CATEGORIES:Church
END:VEVENT
BEGIN:VEVENT
DTSTART;TZID=UTC:20241015T090000
DTEND;TZID=UTC:20241015T093000
DTSTAMP:20260423T194901
CREATED:20240901T153208Z
LAST-MODIFIED:20240901T153208Z
UID:5964-1728982800-1728984600@sjuhcrichmond.org
SUMMARY:9 am Daily Morning Prayer
DESCRIPTION:Dial into the prayer line for early morning prayer Dial 716-427-1562 Enter code: 786535 then press # When dialing in\, please remember to mute yourself by pressing *6
URL:https://sjuhcrichmond.org/event/9-am-daily-morning-prayer-272/
CATEGORIES:Church
END:VEVENT
BEGIN:VEVENT
DTSTART;TZID=UTC:20241015T120000
DTEND;TZID=UTC:20241015T130000
DTSTAMP:20260423T194901
CREATED:20240804T145351Z
LAST-MODIFIED:20240804T145351Z
UID:5831-1728993600-1728997200@sjuhcrichmond.org
SUMMARY:Noon Day Prayer
DESCRIPTION:Noon Day Prayer will be held in person at St. John’s in the sanctuary.
URL:https://sjuhcrichmond.org/event/noon-day-prayer-23/
CATEGORIES:Church
END:VEVENT
BEGIN:VEVENT
DTSTART;TZID=UTC:20241016T090000
DTEND;TZID=UTC:20241016T093000
DTSTAMP:20260423T194901
CREATED:20240901T153717Z
LAST-MODIFIED:20240901T153717Z
UID:5968-1729069200-1729071000@sjuhcrichmond.org
SUMMARY:9 am Daily Morning Prayer
DESCRIPTION:Dial into the prayer line for early morning prayer Dial 716-427-1562 Enter code: 786535 then press # When dialing in\, please remember to mute yourself by pressing *6
URL:https://sjuhcrichmond.org/event/9-am-daily-morning-prayer-274/
CATEGORIES:Church
END:VEVENT
BEGIN:VEVENT
DTSTART;TZID=UTC:20241016T183000
DTEND;TZID=UTC:20241016T200000
DTSTAMP:20260423T194901
CREATED:20240901T144822Z
LAST-MODIFIED:20240901T144822Z
UID:5912-1729103400-1729108800@sjuhcrichmond.org
SUMMARY:Wednesday Bible Study
DESCRIPTION:
URL:https://sjuhcrichmond.org/event/wednesday-bible-study-37/
CATEGORIES:Church
END:VEVENT
BEGIN:VEVENT
DTSTART;TZID=UTC:20241017T090000
DTEND;TZID=UTC:20241017T093000
DTSTAMP:20260423T194901
CREATED:20240901T153822Z
LAST-MODIFIED:20240901T153822Z
UID:5970-1729155600-1729157400@sjuhcrichmond.org
SUMMARY:9 am Daily Morning Prayer
DESCRIPTION:Dial into the prayer line for early morning prayer Dial 716-427-1562 Enter code: 786535 then press # When dialing in\, please remember to mute yourself by pressing *6
URL:https://sjuhcrichmond.org/event/9-am-daily-morning-prayer-275/
CATEGORIES:Church
END:VEVENT
BEGIN:VEVENT
DTSTART;TZID=UTC:20241018T090000
DTEND;TZID=UTC:20241018T093000
DTSTAMP:20260423T194901
CREATED:20240901T153905Z
LAST-MODIFIED:20240901T153905Z
UID:5972-1729242000-1729243800@sjuhcrichmond.org
SUMMARY:9 am Daily Morning Prayer
DESCRIPTION:Dial into the prayer line for early morning prayer Dial 716-427-1562 Enter code: 786535 then press # When dialing in\, please remember to mute yourself by pressing *6
URL:https://sjuhcrichmond.org/event/9-am-daily-morning-prayer-276/
CATEGORIES:Church
END:VEVENT
BEGIN:VEVENT
DTSTART;TZID=UTC:20241019T090000
DTEND;TZID=UTC:20241019T093000
DTSTAMP:20260423T194901
CREATED:20240901T154011Z
LAST-MODIFIED:20240901T154011Z
UID:5974-1729328400-1729330200@sjuhcrichmond.org
SUMMARY:9 am Daily Morning Prayer
DESCRIPTION:Dial into the prayer line for early morning prayer Dial 716-427-1562 Enter code: 786535 then press # When dialing in\, please remember to mute yourself by pressing *6
URL:https://sjuhcrichmond.org/event/9-am-daily-morning-prayer-277/
CATEGORIES:Church
END:VEVENT
BEGIN:VEVENT
DTSTART;TZID=UTC:20241021T090000
DTEND;TZID=UTC:20241021T093000
DTSTAMP:20260423T194901
CREATED:20240901T154231Z
LAST-MODIFIED:20240901T154231Z
UID:5976-1729501200-1729503000@sjuhcrichmond.org
SUMMARY:9 am Daily Morning Prayer
DESCRIPTION:Dial into the prayer line for early morning prayer Dial 716-427-1562 Enter code: 786535 then press # When dialing in\, please remember to mute yourself by pressing *6
URL:https://sjuhcrichmond.org/event/9-am-daily-morning-prayer-278/
CATEGORIES:Church
END:VEVENT
BEGIN:VEVENT
DTSTART;TZID=UTC:20241022T090000
DTEND;TZID=UTC:20241022T093000
DTSTAMP:20260423T194901
CREATED:20240901T155414Z
LAST-MODIFIED:20240901T155414Z
UID:5986-1729587600-1729589400@sjuhcrichmond.org
SUMMARY:9 am Daily Morning Prayer
DESCRIPTION:Dial into the prayer line for early morning prayer Dial 716-427-1562 Enter code: 786535 then press # When dialing in\, please remember to mute yourself by pressing *6
URL:https://sjuhcrichmond.org/event/9-am-daily-morning-prayer-283/
CATEGORIES:Church
END:VEVENT
BEGIN:VEVENT
DTSTART;TZID=UTC:20241022T120000
DTEND;TZID=UTC:20241022T130000
DTSTAMP:20260423T194901
CREATED:20240804T145710Z
LAST-MODIFIED:20240804T145710Z
UID:5837-1729598400-1729602000@sjuhcrichmond.org
SUMMARY:Noon Day Prayer
DESCRIPTION:Noon Day Prayer will be held in person at St. John’s in the sanctuary.
URL:https://sjuhcrichmond.org/event/noon-day-prayer-26/
CATEGORIES:Church
END:VEVENT
BEGIN:VEVENT
DTSTART;TZID=UTC:20241023T090000
DTEND;TZID=UTC:20241023T093000
DTSTAMP:20260423T194901
CREATED:20240901T155730Z
LAST-MODIFIED:20240901T155730Z
UID:5988-1729674000-1729675800@sjuhcrichmond.org
SUMMARY:9 am Daily Morning Prayer
DESCRIPTION:Dial into the prayer line for early morning prayer Dial 716-427-1562 Enter code: 786535 then press # When dialing in\, please remember to mute yourself by pressing *6
URL:https://sjuhcrichmond.org/event/9-am-daily-morning-prayer-284/
CATEGORIES:Church
END:VEVENT
BEGIN:VEVENT
DTSTART;TZID=UTC:20241023T183000
DTEND;TZID=UTC:20241023T200000
DTSTAMP:20260423T194901
CREATED:20240901T145055Z
LAST-MODIFIED:20240901T145055Z
UID:5914-1729708200-1729713600@sjuhcrichmond.org
SUMMARY:Wednesday Bible Study
DESCRIPTION:
URL:https://sjuhcrichmond.org/event/wednesday-bible-study-38/
CATEGORIES:Church
END:VEVENT
BEGIN:VEVENT
DTSTART;TZID=UTC:20241024T090000
DTEND;TZID=UTC:20241024T093000
DTSTAMP:20260423T194901
CREATED:20240901T154342Z
LAST-MODIFIED:20240901T154342Z
UID:5978-1729760400-1729762200@sjuhcrichmond.org
SUMMARY:9 am Daily Morning Prayer
DESCRIPTION:Dial into the prayer line for early morning prayer Dial 716-427-1562 Enter code: 786535 then press # When dialing in\, please remember to mute yourself by pressing *6
URL:https://sjuhcrichmond.org/event/9-am-daily-morning-prayer-279/
CATEGORIES:Church
END:VEVENT
BEGIN:VEVENT
DTSTART;TZID=UTC:20241025T090000
DTEND;TZID=UTC:20241025T093000
DTSTAMP:20260423T194901
CREATED:20240901T154427Z
LAST-MODIFIED:20240901T154427Z
UID:5980-1729846800-1729848600@sjuhcrichmond.org
SUMMARY:9 am Daily Morning Prayer
DESCRIPTION:Dial into the prayer line for early morning prayer Dial 716-427-1562 Enter code: 786535 then press # When dialing in\, please remember to mute yourself by pressing *6
URL:https://sjuhcrichmond.org/event/9-am-daily-morning-prayer-280/
CATEGORIES:Church
END:VEVENT
END:VCALENDAR