BEGIN:VCALENDAR
VERSION:2.0
PRODID:-//St John&#039;s United Holy Church - ECPv6.15.20//NONSGML v1.0//EN
CALSCALE:GREGORIAN
METHOD:PUBLISH
X-WR-CALNAME:St John&#039;s United Holy Church
X-ORIGINAL-URL:https://sjuhcrichmond.org
X-WR-CALDESC:Events for St John&#039;s United Holy Church
REFRESH-INTERVAL;VALUE=DURATION:PT1H
X-Robots-Tag:noindex
X-PUBLISHED-TTL:PT1H
BEGIN:VTIMEZONE
TZID:UTC
BEGIN:STANDARD
TZOFFSETFROM:+0000
TZOFFSETTO:+0000
TZNAME:UTC
DTSTART:20230101T000000
END:STANDARD
END:VTIMEZONE
BEGIN:VEVENT
DTSTART;TZID=UTC:20240901T100000
DTEND;TZID=UTC:20240901T120000
DTSTAMP:20260423T210611
CREATED:20240818T151414Z
LAST-MODIFIED:20240818T151414Z
UID:5845-1725184800-1725192000@sjuhcrichmond.org
SUMMARY:Senior Citizens' Annual Day
DESCRIPTION:Senior Citizens’ Annual Day \nSpecial Guest Preacher: Elder Terry Brown \nPastor\, Gospel Light UHC: Newport News\, VA
URL:https://sjuhcrichmond.org/event/senior-citizens-annual-day-2/
CATEGORIES:Church
END:VEVENT
BEGIN:VEVENT
DTSTART;TZID=UTC:20240902T090000
DTEND;TZID=UTC:20240902T093000
DTSTAMP:20260423T210611
CREATED:20240825T150515Z
LAST-MODIFIED:20240825T150515Z
UID:5862-1725267600-1725269400@sjuhcrichmond.org
SUMMARY:9 am Daily Morning Prayer:
DESCRIPTION:Dial into the prayer line for early morning prayer Dial 716-427-1562 Enter code: 786535 then press # When dialing in\, please remember to mute yourself by pressing *6
URL:https://sjuhcrichmond.org/event/9-am-daily-morning-prayer-236/
CATEGORIES:Church
END:VEVENT
BEGIN:VEVENT
DTSTART;TZID=UTC:20240903T090000
DTEND;TZID=UTC:20240903T093000
DTSTAMP:20260423T210611
CREATED:20240825T150617Z
LAST-MODIFIED:20240825T150617Z
UID:5864-1725354000-1725355800@sjuhcrichmond.org
SUMMARY:9 am Daily Morning Prayer:
DESCRIPTION:Dial into the prayer line for early morning prayer Dial 716-427-1562 Enter code: 786535 then press # When dialing in\, please remember to mute yourself by pressing *6
URL:https://sjuhcrichmond.org/event/9-am-daily-morning-prayer-237/
CATEGORIES:Church
END:VEVENT
BEGIN:VEVENT
DTSTART;TZID=UTC:20240903T120000
DTEND;TZID=UTC:20240903T130000
DTSTAMP:20260423T210611
CREATED:20240804T143250Z
LAST-MODIFIED:20240804T143250Z
UID:5817-1725364800-1725368400@sjuhcrichmond.org
SUMMARY:Noon Day Prayer
DESCRIPTION:Noon Day Prayer will be held in person at St. John’s in the sanctuary.
URL:https://sjuhcrichmond.org/event/noon-day-prayer-16/
CATEGORIES:Church
END:VEVENT
BEGIN:VEVENT
DTSTART;TZID=UTC:20240904T090000
DTEND;TZID=UTC:20240904T093000
DTSTAMP:20260423T210611
CREATED:20240825T150954Z
LAST-MODIFIED:20240825T150954Z
UID:5866-1725440400-1725442200@sjuhcrichmond.org
SUMMARY:9 am Daily Morning Prayer
DESCRIPTION:Dial into the prayer line for early morning prayer Dial 716-427-1562 Enter code: 786535 then press # When dialing in\, please remember to mute yourself by pressing *6
URL:https://sjuhcrichmond.org/event/9-am-daily-morning-prayer-238/
CATEGORIES:Church
END:VEVENT
BEGIN:VEVENT
DTSTART;TZID=UTC:20240904T183000
DTEND;TZID=UTC:20240904T200000
DTSTAMP:20260423T210611
CREATED:20240901T142457Z
LAST-MODIFIED:20240901T142457Z
UID:5900-1725474600-1725480000@sjuhcrichmond.org
SUMMARY:Wednesday Bible Study
DESCRIPTION:Bible Study this week will be a continuation of the Study of the Book of Joshua
URL:https://sjuhcrichmond.org/event/wednesday-bible-study-31/
CATEGORIES:Church
END:VEVENT
BEGIN:VEVENT
DTSTART;TZID=UTC:20240905T090000
DTEND;TZID=UTC:20240905T093000
DTSTAMP:20260423T210611
CREATED:20240825T151116Z
LAST-MODIFIED:20240825T151116Z
UID:5868-1725526800-1725528600@sjuhcrichmond.org
SUMMARY:9 am Daily Morning Prayer
DESCRIPTION:Dial into the prayer line for early morning prayer Dial 716-427-1562 Enter code: 786535 then press # When dialing in\, please remember to mute yourself by pressing *6
URL:https://sjuhcrichmond.org/event/9-am-daily-morning-prayer-239/
CATEGORIES:Church
END:VEVENT
BEGIN:VEVENT
DTSTART;TZID=UTC:20240906T090000
DTEND;TZID=UTC:20240906T093000
DTSTAMP:20260423T210611
CREATED:20240825T151213Z
LAST-MODIFIED:20240825T151213Z
UID:5870-1725613200-1725615000@sjuhcrichmond.org
SUMMARY:9 am Daily Morning Prayer
DESCRIPTION:Dial into the prayer line for early morning prayer Dial 716-427-1562 Enter code: 786535 then press # When dialing in\, please remember to mute yourself by pressing *6
URL:https://sjuhcrichmond.org/event/9-am-daily-morning-prayer-240/
CATEGORIES:Church
END:VEVENT
BEGIN:VEVENT
DTSTART;TZID=UTC:20240907T090000
DTEND;TZID=UTC:20240907T093000
DTSTAMP:20260423T210611
CREATED:20240825T151308Z
LAST-MODIFIED:20240825T151308Z
UID:5872-1725699600-1725701400@sjuhcrichmond.org
SUMMARY:9 am Daily Morning Prayer
DESCRIPTION:Dial into the prayer line for early morning prayer Dial 716-427-1562 Enter code: 786535 then press # When dialing in\, please remember to mute yourself by pressing *6
URL:https://sjuhcrichmond.org/event/9-am-daily-morning-prayer-241/
CATEGORIES:Church
END:VEVENT
BEGIN:VEVENT
DTSTART;TZID=UTC:20240908T130000
DTEND;TZID=UTC:20240908T150000
DTSTAMP:20260423T210611
CREATED:20240818T151910Z
LAST-MODIFIED:20240818T151910Z
UID:5848-1725800400-1725807600@sjuhcrichmond.org
SUMMARY:Rock of Ages - Annual Family and Friends Day
DESCRIPTION:St. John’s will render service with Rock of Ages to celebrate Annual Family and Friends Day. We will travel there after our morning worship with Pastor Janie Mitchell with Rock of Ages.
URL:https://sjuhcrichmond.org/event/rock-of-ages-annual-family-and-friends-day/
CATEGORIES:Church
END:VEVENT
BEGIN:VEVENT
DTSTART;TZID=UTC:20240909T090000
DTEND;TZID=UTC:20240909T093000
DTSTAMP:20260423T210611
CREATED:20240825T151418Z
LAST-MODIFIED:20240825T151418Z
UID:5874-1725872400-1725874200@sjuhcrichmond.org
SUMMARY:9 am Daily Morning Prayer
DESCRIPTION:Dial into the prayer line for early morning prayer Dial 716-427-1562 Enter code: 786535 then press # When dialing in\, please remember to mute yourself by pressing *6
URL:https://sjuhcrichmond.org/event/9-am-daily-morning-prayer-242/
CATEGORIES:Church
END:VEVENT
BEGIN:VEVENT
DTSTART;TZID=UTC:20240910T090000
DTEND;TZID=UTC:20240910T093000
DTSTAMP:20260423T210611
CREATED:20240825T151459Z
LAST-MODIFIED:20240825T151459Z
UID:5876-1725958800-1725960600@sjuhcrichmond.org
SUMMARY:9 am Daily Morning Prayer
DESCRIPTION:Dial into the prayer line for early morning prayer Dial 716-427-1562 Enter code: 786535 then press # When dialing in\, please remember to mute yourself by pressing *6
URL:https://sjuhcrichmond.org/event/9-am-daily-morning-prayer-243/
CATEGORIES:Church
END:VEVENT
BEGIN:VEVENT
DTSTART;TZID=UTC:20240910T120000
DTEND;TZID=UTC:20240910T130000
DTSTAMP:20260423T210611
CREATED:20240804T143328Z
LAST-MODIFIED:20240804T143328Z
UID:5819-1725969600-1725973200@sjuhcrichmond.org
SUMMARY:Noon Day Prayer
DESCRIPTION:Noon Day Prayer will be held in person at St. John’s in the sanctuary.
URL:https://sjuhcrichmond.org/event/noon-day-prayer-17/
CATEGORIES:Church
END:VEVENT
BEGIN:VEVENT
DTSTART;TZID=UTC:20240911T090000
DTEND;TZID=UTC:20240911T093000
DTSTAMP:20260423T210611
CREATED:20240825T151550Z
LAST-MODIFIED:20240825T151550Z
UID:5878-1726045200-1726047000@sjuhcrichmond.org
SUMMARY:9 am Daily Morning Prayer
DESCRIPTION:Dial into the prayer line for early morning prayer Dial 716-427-1562 Enter code: 786535 then press # When dialing in\, please remember to mute yourself by pressing *6
URL:https://sjuhcrichmond.org/event/9-am-daily-morning-prayer-244/
CATEGORIES:Church
END:VEVENT
BEGIN:VEVENT
DTSTART;TZID=UTC:20240911T183000
DTEND;TZID=UTC:20240911T200000
DTSTAMP:20260423T210611
CREATED:20240901T143402Z
LAST-MODIFIED:20240901T143402Z
UID:5902-1726079400-1726084800@sjuhcrichmond.org
SUMMARY:Wednesday Bible Study
DESCRIPTION:
URL:https://sjuhcrichmond.org/event/wednesday-bible-study-32/
CATEGORIES:Church
END:VEVENT
BEGIN:VEVENT
DTSTART;TZID=UTC:20240912T090000
DTEND;TZID=UTC:20240912T093000
DTSTAMP:20260423T210611
CREATED:20240825T151646Z
LAST-MODIFIED:20240825T151646Z
UID:5880-1726131600-1726133400@sjuhcrichmond.org
SUMMARY:9 am Daily Morning Prayer
DESCRIPTION:Dial into the prayer line for early morning prayer Dial 716-427-1562 Enter code: 786535 then press # When dialing in\, please remember to mute yourself by pressing *6
URL:https://sjuhcrichmond.org/event/9-am-daily-morning-prayer-245/
CATEGORIES:Church
END:VEVENT
BEGIN:VEVENT
DTSTART;TZID=UTC:20240913T090000
DTEND;TZID=UTC:20240913T093000
DTSTAMP:20260423T210611
CREATED:20240825T151736Z
LAST-MODIFIED:20240825T151736Z
UID:5882-1726218000-1726219800@sjuhcrichmond.org
SUMMARY:9 am Daily Morning Prayer
DESCRIPTION:Dial into the prayer line for early morning prayer Dial 716-427-1562 Enter code: 786535 then press # When dialing in\, please remember to mute yourself by pressing *6
URL:https://sjuhcrichmond.org/event/9-am-daily-morning-prayer-246/
CATEGORIES:Church
END:VEVENT
BEGIN:VEVENT
DTSTART;TZID=UTC:20240914T090000
DTEND;TZID=UTC:20240914T093000
DTSTAMP:20260423T210611
CREATED:20240825T151819Z
LAST-MODIFIED:20240825T151819Z
UID:5884-1726304400-1726306200@sjuhcrichmond.org
SUMMARY:9 am Daily Morning Prayer
DESCRIPTION:Dial into the prayer line for early morning prayer Dial 716-427-1562 Enter code: 786535 then press # When dialing in\, please remember to mute yourself by pressing *6
URL:https://sjuhcrichmond.org/event/9-am-daily-morning-prayer-247/
CATEGORIES:Church
END:VEVENT
BEGIN:VEVENT
DTSTART;TZID=UTC:20240916T090000
DTEND;TZID=UTC:20240916T093000
DTSTAMP:20260423T210611
CREATED:20240825T153306Z
LAST-MODIFIED:20240825T153306Z
UID:5886-1726477200-1726479000@sjuhcrichmond.org
SUMMARY:9 am Daily Morning Prayer
DESCRIPTION:Dial into the prayer line for early morning prayer Dial 716-427-1562 Enter code: 786535 then press # When dialing in\, please remember to mute yourself by pressing *6
URL:https://sjuhcrichmond.org/event/9-am-daily-morning-prayer-248/
CATEGORIES:Church
END:VEVENT
BEGIN:VEVENT
DTSTART;TZID=UTC:20240917T090000
DTEND;TZID=UTC:20240917T093000
DTSTAMP:20260423T210611
CREATED:20240825T153357Z
LAST-MODIFIED:20240825T153357Z
UID:5888-1726563600-1726565400@sjuhcrichmond.org
SUMMARY:9 am Daily Morning Prayer
DESCRIPTION:Dial into the prayer line for early morning prayer Dial 716-427-1562 Enter code: 786535 then press # When dialing in\, please remember to mute yourself by pressing *6
URL:https://sjuhcrichmond.org/event/9-am-daily-morning-prayer-249/
CATEGORIES:Church
END:VEVENT
BEGIN:VEVENT
DTSTART;TZID=UTC:20240917T120000
DTEND;TZID=UTC:20240917T130000
DTSTAMP:20260423T210611
CREATED:20240804T143426Z
LAST-MODIFIED:20240804T143426Z
UID:5821-1726574400-1726578000@sjuhcrichmond.org
SUMMARY:Noon Day Prayer
DESCRIPTION:Noon Day Prayer will be held in person at St. John’s in the sanctuary.
URL:https://sjuhcrichmond.org/event/noon-day-prayer-18/
CATEGORIES:Church
END:VEVENT
BEGIN:VEVENT
DTSTART;TZID=UTC:20240918T090000
DTEND;TZID=UTC:20240918T093000
DTSTAMP:20260423T210611
CREATED:20240825T154319Z
LAST-MODIFIED:20240825T154319Z
UID:5896-1726650000-1726651800@sjuhcrichmond.org
SUMMARY:9 am Daily Morning Prayer
DESCRIPTION:Dial into the prayer line for early morning prayer Dial 716-427-1562 Enter code: 786535 then press # When dialing in\, please remember to mute yourself by pressing *6
URL:https://sjuhcrichmond.org/event/9-am-daily-morning-prayer-252/
CATEGORIES:Church
END:VEVENT
BEGIN:VEVENT
DTSTART;TZID=UTC:20240918T183000
DTEND;TZID=UTC:20240918T200000
DTSTAMP:20260423T210611
CREATED:20240901T143504Z
LAST-MODIFIED:20240901T143504Z
UID:5904-1726684200-1726689600@sjuhcrichmond.org
SUMMARY:Wednesday Bible Study
DESCRIPTION:
URL:https://sjuhcrichmond.org/event/wednesday-bible-study-33/
CATEGORIES:Church
END:VEVENT
BEGIN:VEVENT
DTSTART;TZID=UTC:20240918T190000
DTEND;TZID=UTC:20240920T210000
DTSTAMP:20260423T210611
CREATED:20240825T150333Z
LAST-MODIFIED:20240825T150333Z
UID:5860-1726686000-1726866000@sjuhcrichmond.org
SUMMARY:Fall Revival
DESCRIPTION:Revivalist: Pastor Barney Wiggins \nPastor\, Living Faith UHC\, Virginia Beach\, VA
URL:https://sjuhcrichmond.org/event/fall-revival/
CATEGORIES:Church
END:VEVENT
BEGIN:VEVENT
DTSTART;TZID=UTC:20240919T090000
DTEND;TZID=UTC:20240919T093000
DTSTAMP:20260423T210611
CREATED:20240825T153540Z
LAST-MODIFIED:20240825T153540Z
UID:5890-1726736400-1726738200@sjuhcrichmond.org
SUMMARY:9 am Daily Morning Prayer
DESCRIPTION:Dial into the prayer line for early morning prayer Dial 716-427-1562 Enter code: 786535 then press # When dialing in\, please remember to mute yourself by pressing *6
URL:https://sjuhcrichmond.org/event/9-am-daily-morning-prayer-250/
CATEGORIES:Church
END:VEVENT
BEGIN:VEVENT
DTSTART;TZID=UTC:20240920T090000
DTEND;TZID=UTC:20240920T093000
DTSTAMP:20260423T210611
CREATED:20240825T153703Z
LAST-MODIFIED:20240825T153703Z
UID:5892-1726822800-1726824600@sjuhcrichmond.org
SUMMARY:9 am Daily Morning Prayer
DESCRIPTION:Dial into the prayer line for early morning prayer Dial 716-427-1562 Enter code: 786535 then press # When dialing in\, please remember to mute yourself by pressing *6
URL:https://sjuhcrichmond.org/event/9-am-daily-morning-prayer-251/
CATEGORIES:Church
END:VEVENT
BEGIN:VEVENT
DTSTART;TZID=UTC:20240921T090000
DTEND;TZID=UTC:20240921T093000
DTSTAMP:20260423T210611
CREATED:20240825T154139Z
LAST-MODIFIED:20240825T155211Z
UID:5894-1726909200-1726911000@sjuhcrichmond.org
SUMMARY:9 am Daily Morning Prayer
DESCRIPTION:Dial into the prayer line for early morning prayer Dial 716-427-1562 Enter code: 786535 then press # When dialing in\, please remember to mute yourself by pressing *6
URL:https://sjuhcrichmond.org/event/5894/
CATEGORIES:Church
END:VEVENT
BEGIN:VEVENT
DTSTART;TZID=UTC:20240923T090000
DTEND;TZID=UTC:20240923T093000
DTSTAMP:20260423T210611
CREATED:20240901T151214Z
LAST-MODIFIED:20240901T151214Z
UID:5926-1727082000-1727083800@sjuhcrichmond.org
SUMMARY:9 am Daily Morning Prayer
DESCRIPTION:Dial into the prayer line for early morning prayer Dial 716-427-1562 Enter code: 786535 then press # When dialing in\, please remember to mute yourself by pressing *6
URL:https://sjuhcrichmond.org/event/9-am-daily-morning-prayer-253/
CATEGORIES:Church
END:VEVENT
BEGIN:VEVENT
DTSTART;TZID=UTC:20240924T090000
DTEND;TZID=UTC:20240924T093000
DTSTAMP:20260423T210611
CREATED:20240901T151302Z
LAST-MODIFIED:20240901T151302Z
UID:5928-1727168400-1727170200@sjuhcrichmond.org
SUMMARY:9 am Daily Morning Prayer:
DESCRIPTION:Dial into the prayer line for early morning prayer Dial 716-427-1562 Enter code: 786535 then press # When dialing in\, please remember to mute yourself by pressing *6
URL:https://sjuhcrichmond.org/event/9-am-daily-morning-prayer-254/
CATEGORIES:Church
END:VEVENT
BEGIN:VEVENT
DTSTART;TZID=UTC:20240924T120000
DTEND;TZID=UTC:20240924T130000
DTSTAMP:20260423T210611
CREATED:20240804T143817Z
LAST-MODIFIED:20240804T143817Z
UID:5823-1727179200-1727182800@sjuhcrichmond.org
SUMMARY:Noon Day Prayer
DESCRIPTION:Noon Day Prayer will be held in person at St. John’s in the sanctuary.
URL:https://sjuhcrichmond.org/event/noon-day-prayer-19/
CATEGORIES:Church
END:VEVENT
END:VCALENDAR