BEGIN:VCALENDAR
VERSION:2.0
PRODID:-//St John&#039;s United Holy Church - ECPv6.15.20//NONSGML v1.0//EN
CALSCALE:GREGORIAN
METHOD:PUBLISH
X-WR-CALNAME:St John&#039;s United Holy Church
X-ORIGINAL-URL:https://sjuhcrichmond.org
X-WR-CALDESC:Events for St John&#039;s United Holy Church
REFRESH-INTERVAL;VALUE=DURATION:PT1H
X-Robots-Tag:noindex
X-PUBLISHED-TTL:PT1H
BEGIN:VTIMEZONE
TZID:UTC
BEGIN:STANDARD
TZOFFSETFROM:+0000
TZOFFSETTO:+0000
TZNAME:UTC
DTSTART:20240101T000000
END:STANDARD
END:VTIMEZONE
BEGIN:VEVENT
DTSTART;TZID=UTC:20251122T100000
DTEND;TZID=UTC:20251122T120000
DTSTAMP:20260423T023222
CREATED:20251005T142144Z
LAST-MODIFIED:20251005T142144Z
UID:6798-1763805600-1763812800@sjuhcrichmond.org
SUMMARY:"I Am a Church Member" Book Study
DESCRIPTION:The book study will be held in St. John’s lower level. This session will cover Chapters 4\, 5\, & 6
URL:https://sjuhcrichmond.org/event/i-am-a-church-member-book-study-2/
CATEGORIES:Church
END:VEVENT
END:VCALENDAR