BEGIN:VCALENDAR
VERSION:2.0
PRODID:-//St John&#039;s United Holy Church - ECPv6.15.20//NONSGML v1.0//EN
CALSCALE:GREGORIAN
METHOD:PUBLISH
X-WR-CALNAME:St John&#039;s United Holy Church
X-ORIGINAL-URL:https://sjuhcrichmond.org
X-WR-CALDESC:Events for St John&#039;s United Holy Church
REFRESH-INTERVAL;VALUE=DURATION:PT1H
X-Robots-Tag:noindex
X-PUBLISHED-TTL:PT1H
BEGIN:VTIMEZONE
TZID:UTC
BEGIN:STANDARD
TZOFFSETFROM:+0000
TZOFFSETTO:+0000
TZNAME:UTC
DTSTART:20240101T000000
END:STANDARD
END:VTIMEZONE
BEGIN:VEVENT
DTSTART;TZID=UTC:20251116T100000
DTEND;TZID=UTC:20251116T120000
DTSTAMP:20260423T023210
CREATED:20251005T152708Z
LAST-MODIFIED:20251102T170555Z
UID:6808-1763287200-1763294400@sjuhcrichmond.org
SUMMARY:5th Pastoral Anniversary
DESCRIPTION:Guest Preacher: Elder Beverly Talley \nTheme: A Godly Pastor Worthy of Honor” \nI Timothy 5:17-18;  I Peter 5:2-4
URL:https://sjuhcrichmond.org/event/5th-pastoral-anniversary/
CATEGORIES:Church
END:VEVENT
END:VCALENDAR