BEGIN:VCALENDAR
VERSION:2.0
PRODID:-//St John&#039;s United Holy Church - ECPv6.15.20//NONSGML v1.0//EN
CALSCALE:GREGORIAN
METHOD:PUBLISH
X-ORIGINAL-URL:https://sjuhcrichmond.org
X-WR-CALDESC:Events for St John&#039;s United Holy Church
REFRESH-INTERVAL;VALUE=DURATION:PT1H
X-Robots-Tag:noindex
X-PUBLISHED-TTL:PT1H
BEGIN:VTIMEZONE
TZID:UTC
BEGIN:STANDARD
TZOFFSETFROM:+0000
TZOFFSETTO:+0000
TZNAME:UTC
DTSTART:20240101T000000
END:STANDARD
END:VTIMEZONE
BEGIN:VEVENT
DTSTART;TZID=UTC:20251105T183000
DTEND;TZID=UTC:20251105T200000
DTSTAMP:20260423T023218
CREATED:20251102T153047Z
LAST-MODIFIED:20251106T003751Z
UID:6824-1762367400-1762372800@sjuhcrichmond.org
SUMMARY:Bible Study: Walking in God's Peace
DESCRIPTION:You can join in Bible Study via Zoom. \nGo to www.sjuhcrichmond.org and scroll down and select the yellow “Watch” button and then select the “Zoom link for services” button to join bible study or any service. \nFacilitator: Deaconess Ernestine Townes \nPlease read Philippians 4Bible Study Lesson Plan_ Walking in God’s Peace \n \nBible Study Lesson Plan: Walking in God’s Peace \nFacilitator: Ernestine Townes \nDate: November 5\, 2025 \n  \nObjective: To understand the source of true peace\, how to keep it amid life’s chaos\, and how to walk in it daily. \n  \nMain Scripture: Philippians 4:6-7 \n“Do not be anxious about anything\, but in every situation\, by prayer and petition\, with thanksgiving\, present your requests to God. And the peace of God\, which transcends all understanding\, will guard your hearts and your minds in Christ Jesus.” \n  \nDiscussion Questions: \n\nWhat do you think it means that God’s peace “transcends understanding”?\nWhy do you think Paul connects peace with prayer and thanksgiving?\nWhat do you tend to do instead of praying when you feel anxious?\n\n  \nSupporting Scriptures: \n\nJohn 14:27 – Jesus gives a peace the world cannot give. \n\n\n\n\nDiscussion: How is Christ’s peace different from worldly peace?\n\n\n\n     2.  Isaiah 26:3 – “You will keep in perfect peace those whose minds are steadfast\, because they trust in You.” \n     3. Colossians 3:15 – “Let the peace of Christ rule in your hearts.” \n\n\n\nDiscussion: What does it mean to let peace rule? What gets in the way?\n\n\n\n     4. Romans 8:6 – “the mind governed by the Spirit is life and peace.” \n\n\n\nDiscussion: How do we let the Holy Spirit guide our thoughts daily?\n\n\n\n     5. Psalm 4:8 – “In peace I will lie down and sleep\, for You alone\, Lord\, make me dwell in safety.” \n\n\n\nDiscussion: How does trusting God help you rest better – physically and spiritually?
URL:https://sjuhcrichmond.org/event/bible-study-8/
CATEGORIES:Church
END:VEVENT
END:VCALENDAR