BEGIN:VCALENDAR
VERSION:2.0
PRODID:-//St John&#039;s United Holy Church - ECPv6.15.20//NONSGML v1.0//EN
CALSCALE:GREGORIAN
METHOD:PUBLISH
X-WR-CALNAME:St John&#039;s United Holy Church
X-ORIGINAL-URL:https://sjuhcrichmond.org
X-WR-CALDESC:Events for St John&#039;s United Holy Church
REFRESH-INTERVAL;VALUE=DURATION:PT1H
X-Robots-Tag:noindex
X-PUBLISHED-TTL:PT1H
BEGIN:VTIMEZONE
TZID:UTC
BEGIN:STANDARD
TZOFFSETFROM:+0000
TZOFFSETTO:+0000
TZNAME:UTC
DTSTART:20240101T000000
END:STANDARD
END:VTIMEZONE
BEGIN:VEVENT
DTSTART;TZID=UTC:20251022T090000
DTEND;TZID=UTC:20251022T093000
DTSTAMP:20260423T041154
CREATED:20250925T005119Z
LAST-MODIFIED:20250925T005119Z
UID:6789-1761123600-1761125400@sjuhcrichmond.org
SUMMARY:9 am Daily Morning Prayer
DESCRIPTION:Dial into the prayer line for early morning prayer Dial 716-427-1562 Enter code: 786535 then press # When dialing in\, please remember to mute yourself by pressing *6
URL:https://sjuhcrichmond.org/event/9-am-daily-morning-prayer-489/
CATEGORIES:Church
END:VEVENT
BEGIN:VEVENT
DTSTART;TZID=UTC:20251022T183000
DTEND;TZID=UTC:20251022T200000
DTSTAMP:20260423T041154
CREATED:20251029T005838Z
LAST-MODIFIED:20251029T005838Z
UID:6820-1761157800-1761163200@sjuhcrichmond.org
SUMMARY:Wednesday Bible Study - Lamentations 2
DESCRIPTION:Go to www.sjuhcrichmond.org and scroll down and select the yellow “Watch” button and then select the “Zoom link for services” button to join bible study or any service. \n  \n \nBible Study October 22\, 2025  \nLamentations Chapter 2 Facilitator\, Elder Charlene Mills Watkins  \nRead Lamentations 2:1-17 and Reference Scriptures Please include other translations in your reading\, in addition to KJV (for example NIV\, NLT\, Message\, and Amplified)  \nOutline  \n\n God as the enemy of Jerusalem \n (1-5) The Lord as Jerusalem’s enemy \n How the Lord has covered the daughter of Zion with a cloud of His anger (1Kings 8:10-12); Ezekiel 10:4-5; Matthew 5:35; Acts 7:40; 1 Chron. 28:2; Mt. 11:21ff \n He has thrown down in His wrath the strongholds of the daughter of Judah \n Standing like an enemy. He has bent His bow. \n (6-7) The Lord destroys His own tabernacle \n He has done violence to His tabernacle: \n The Lord has caused the appointed fests and Sabbaths to be forgotten in Zion \n They have made a noise in the house of the Lord \n A city reacts to the judgment of God. \n (8-9a) The defenses of the city react. \n The Lord has proposed to destroy the wall of the daughter of Zion: b. He has stretched out a line: \n Her gates have sunk into the ground: \n (9b-10) The people of the city react. \n Her king and her princes are among the nations: \n The Law is no more\, and her prophets find no vision from the Lord: c. The elders of the daughters of Zion sit on the ground and keep silence: \n The virgins of Jerusalem bow their heads to the ground: 3. (11-12) The prophet reacts.\n My eyes fail with tears: \n They swoon like the wounded: \n Longing to comfort a forsaken city \n (13-14) False prophets cannot comfort \n How shall I console you? \n Your prophets have seen for you false and deceptive visions: 2. (15-16) Friends and foes cannot comfort Jerusalem \n All who pass by clap their hands at you: \n We have swallowed up: \n God’s purpose on the day of the Lord’s anger. \n (17) The judgment of Jerusalem as what God purposed. a. The Lord has done what He purposed: (Lam. 2:8) \n He has caused an enemy to rejoice over you: \n (18-19) The prayer of Jerusalem’s enemies \n O wall of the daughter of Zion\, let tears run down like a river day and night: \n Lift your hands toward him for the life of your young children: 3. (20-22) The agony of the perishing city. \n To whom have You done this? (2 Kings 6:28-29) \n You have slain them in the day of Your anger:\n\n 
URL:https://sjuhcrichmond.org/event/wednesday-bible-study-lamentations-2/
CATEGORIES:Church
END:VEVENT
END:VCALENDAR