BEGIN:VCALENDAR
VERSION:2.0
PRODID:-//St John&#039;s United Holy Church - ECPv6.15.20//NONSGML v1.0//EN
CALSCALE:GREGORIAN
METHOD:PUBLISH
X-ORIGINAL-URL:https://sjuhcrichmond.org
X-WR-CALDESC:Events for St John&#039;s United Holy Church
REFRESH-INTERVAL;VALUE=DURATION:PT1H
X-Robots-Tag:noindex
X-PUBLISHED-TTL:PT1H
BEGIN:VTIMEZONE
TZID:UTC
BEGIN:STANDARD
TZOFFSETFROM:+0000
TZOFFSETTO:+0000
TZNAME:UTC
DTSTART:20240101T000000
END:STANDARD
END:VTIMEZONE
BEGIN:VEVENT
DTSTART;TZID=UTC:20250608T100000
DTEND;TZID=UTC:20250608T120000
DTSTAMP:20260423T095511
CREATED:20250525T153925Z
LAST-MODIFIED:20250525T153925Z
UID:6656-1749376800-1749384000@sjuhcrichmond.org
SUMMARY:Annual Youth Day
DESCRIPTION:Theme:
URL:https://sjuhcrichmond.org/event/annual-youth-day-3/
CATEGORIES:Church
END:VEVENT
END:VCALENDAR