BEGIN:VCALENDAR
VERSION:2.0
PRODID:-//St John&#039;s United Holy Church - ECPv6.15.20//NONSGML v1.0//EN
CALSCALE:GREGORIAN
METHOD:PUBLISH
X-WR-CALNAME:St John&#039;s United Holy Church
X-ORIGINAL-URL:https://sjuhcrichmond.org
X-WR-CALDESC:Events for St John&#039;s United Holy Church
REFRESH-INTERVAL;VALUE=DURATION:PT1H
X-Robots-Tag:noindex
X-PUBLISHED-TTL:PT1H
BEGIN:VTIMEZONE
TZID:UTC
BEGIN:STANDARD
TZOFFSETFROM:+0000
TZOFFSETTO:+0000
TZNAME:UTC
DTSTART:20240101T000000
END:STANDARD
END:VTIMEZONE
BEGIN:VEVENT
DTSTART;TZID=UTC:20250226T060000
DTEND;TZID=UTC:20250226T063000
DTSTAMP:20260423T162123
CREATED:20250105T161845Z
LAST-MODIFIED:20250105T161845Z
UID:6182-1740549600-1740551400@sjuhcrichmond.org
SUMMARY:6 am Early Morning Prayer
DESCRIPTION:Dial into the prayer line for early morning prayer Dial 716-427-1562 Enter code: 786535 then press # When dialing in\, please remember to mute yourself by pressing *6
URL:https://sjuhcrichmond.org/event/6-am-early-morning-prayer-63/
CATEGORIES:Church
END:VEVENT
BEGIN:VEVENT
DTSTART;TZID=UTC:20250226T090000
DTEND;TZID=UTC:20250226T093000
DTSTAMP:20260423T162123
CREATED:20250119T211004Z
LAST-MODIFIED:20250119T221511Z
UID:6245-1740560400-1740562200@sjuhcrichmond.org
SUMMARY:9 am Daily Morning Prayer
DESCRIPTION:Dial into the prayer line for early morning prayer Dial 716-427-1562 Enter code: 786535 then press # When dialing in\, please remember to mute yourself by pressing *6
URL:https://sjuhcrichmond.org/event/9-am-daily-morning-prayer-345/
CATEGORIES:Church
END:VEVENT
BEGIN:VEVENT
DTSTART;TZID=UTC:20250226T183000
DTEND;TZID=UTC:20250226T200000
DTSTAMP:20260423T162123
CREATED:20250105T164848Z
LAST-MODIFIED:20250119T222456Z
UID:6203-1740594600-1740600000@sjuhcrichmond.org
SUMMARY:Bible Study
DESCRIPTION:You can join in Bible Study via Zoom. \nContinued study of our church motto\, “ \nGrowing Disciples\, Building Ministries\, Transforming Lives & Making a Difference” \nPlease come prepared to discuss and share your observations \nGo to www.sjuhcrichmond.org and scroll down and select the yellow “Watch” button and then select the “Zoom link for services” button to join bible study or any service.
URL:https://sjuhcrichmond.org/event/bible-study-7/
CATEGORIES:Church
END:VEVENT
END:VCALENDAR