BEGIN:VCALENDAR
VERSION:2.0
PRODID:-//St John&#039;s United Holy Church - ECPv6.15.20//NONSGML v1.0//EN
CALSCALE:GREGORIAN
METHOD:PUBLISH
X-ORIGINAL-URL:https://sjuhcrichmond.org
X-WR-CALDESC:Events for St John&#039;s United Holy Church
REFRESH-INTERVAL;VALUE=DURATION:PT1H
X-Robots-Tag:noindex
X-PUBLISHED-TTL:PT1H
BEGIN:VTIMEZONE
TZID:UTC
BEGIN:STANDARD
TZOFFSETFROM:+0000
TZOFFSETTO:+0000
TZNAME:UTC
DTSTART:20230101T000000
END:STANDARD
END:VTIMEZONE
BEGIN:VEVENT
DTSTART;TZID=UTC:20241201T080000
DTEND;TZID=UTC:20241224T170000
DTSTAMP:20260423T205342
CREATED:20241117T170209Z
LAST-MODIFIED:20241117T170209Z
UID:6008-1733040000-1735059600@sjuhcrichmond.org
SUMMARY:Advent Season
DESCRIPTION:December 1 – 24\, 2024 \nHOPE    LOVE   PEACE    JOY
URL:https://sjuhcrichmond.org/event/advent-season/
CATEGORIES:Church
END:VEVENT
BEGIN:VEVENT
DTSTART;TZID=UTC:20241215T080000
DTEND;TZID=UTC:20241215T094500
DTSTAMP:20260423T205342
CREATED:20241117T170006Z
LAST-MODIFIED:20241117T170006Z
UID:6006-1734249600-1734255900@sjuhcrichmond.org
SUMMARY:Annual Christmas Play
DESCRIPTION:Annual Christmas Play: “Mary and Jesus: Imagine” \nBreakfast will be served. \nThe play is under the direction of Minister Vanessa Jackson
URL:https://sjuhcrichmond.org/event/annual-christmas-play-3/
CATEGORIES:Church
END:VEVENT
BEGIN:VEVENT
DTSTART;TZID=UTC:20241215T160000
DTEND;TZID=UTC:20241215T173000
DTSTAMP:20260423T205342
CREATED:20241124T161804Z
LAST-MODIFIED:20241124T161804Z
UID:6014-1734278400-1734283800@sjuhcrichmond.org
SUMMARY:Fellowship Service
DESCRIPTION:Fellowship Service will be held at Alpha and Omega UHC; Pastor Viola Watkin. Located at 8014 Midlothian Turnpike Suite 204.
URL:https://sjuhcrichmond.org/event/fellowship-service/
CATEGORIES:Church
END:VEVENT
END:VCALENDAR