BEGIN:VCALENDAR
VERSION:2.0
PRODID:-//St John&#039;s United Holy Church - ECPv6.15.20//NONSGML v1.0//EN
CALSCALE:GREGORIAN
METHOD:PUBLISH
X-ORIGINAL-URL:https://sjuhcrichmond.org
X-WR-CALDESC:Events for St John&#039;s United Holy Church
REFRESH-INTERVAL;VALUE=DURATION:PT1H
X-Robots-Tag:noindex
X-PUBLISHED-TTL:PT1H
BEGIN:VTIMEZONE
TZID:UTC
BEGIN:STANDARD
TZOFFSETFROM:+0000
TZOFFSETTO:+0000
TZNAME:UTC
DTSTART:20230101T000000
END:STANDARD
END:VTIMEZONE
BEGIN:VEVENT
DTSTART;TZID=UTC:20241201T080000
DTEND;TZID=UTC:20241224T170000
DTSTAMP:20260423T205959
CREATED:20241117T170209Z
LAST-MODIFIED:20241117T170209Z
UID:6008-1733040000-1735059600@sjuhcrichmond.org
SUMMARY:Advent Season
DESCRIPTION:December 1 – 24\, 2024 \nHOPE    LOVE   PEACE    JOY
URL:https://sjuhcrichmond.org/event/advent-season/
CATEGORIES:Church
END:VEVENT
BEGIN:VEVENT
DTSTART;TZID=UTC:20241204T060000
DTEND;TZID=UTC:20241204T063000
DTSTAMP:20260423T205959
CREATED:20241124T171619Z
LAST-MODIFIED:20241124T171619Z
UID:6035-1733292000-1733293800@sjuhcrichmond.org
SUMMARY:Early Morning Prayer
DESCRIPTION:Dial into the prayer line for early morning prayer Dial 716-427-1562 Enter code: 786535 then press # When dialing in\, please remember to mute yourself by pressing *6
URL:https://sjuhcrichmond.org/event/early-morning-prayer-2/
CATEGORIES:Church
END:VEVENT
BEGIN:VEVENT
DTSTART;TZID=UTC:20241204T090000
DTEND;TZID=UTC:20241204T093000
DTSTAMP:20260423T205959
CREATED:20241124T171323Z
LAST-MODIFIED:20241124T171323Z
UID:6033-1733302800-1733304600@sjuhcrichmond.org
SUMMARY:Daily Morning Prayer
DESCRIPTION:Dial into the prayer line for early morning prayer Dial 716-427-1562 Enter code: 786535 then press # When dialing in\, please remember to mute yourself by pressing *6
URL:https://sjuhcrichmond.org/event/daily-morning-prayer-7/
CATEGORIES:Church
END:VEVENT
BEGIN:VEVENT
DTSTART;TZID=UTC:20241204T183000
DTEND;TZID=UTC:20241204T200000
DTSTAMP:20260423T205959
CREATED:20241117T153449Z
LAST-MODIFIED:20241117T162443Z
UID:6000-1733337000-1733342400@sjuhcrichmond.org
SUMMARY:Wednesday Bible Study
DESCRIPTION:
URL:https://sjuhcrichmond.org/event/wednesday-bible-study-46/
CATEGORIES:Church
END:VEVENT
END:VCALENDAR