BEGIN:VCALENDAR
VERSION:2.0
PRODID:-//St John&#039;s United Holy Church - ECPv6.15.20//NONSGML v1.0//EN
CALSCALE:GREGORIAN
METHOD:PUBLISH
X-ORIGINAL-URL:https://sjuhcrichmond.org
X-WR-CALDESC:Events for St John&#039;s United Holy Church
REFRESH-INTERVAL;VALUE=DURATION:PT1H
X-Robots-Tag:noindex
X-PUBLISHED-TTL:PT1H
BEGIN:VTIMEZONE
TZID:UTC
BEGIN:STANDARD
TZOFFSETFROM:+0000
TZOFFSETTO:+0000
TZNAME:UTC
DTSTART:20230101T000000
END:STANDARD
END:VTIMEZONE
BEGIN:VEVENT
DTSTART;TZID=UTC:20241127T060000
DTEND;TZID=UTC:20241127T063000
DTSTAMP:20260423T205343
CREATED:20241124T170217Z
LAST-MODIFIED:20241124T170217Z
UID:6023-1732687200-1732689000@sjuhcrichmond.org
SUMMARY:Early Morning Prayer
DESCRIPTION:Dial into the prayer line for early morning prayer Dial 716-427-1562 Enter code: 786535 then press # When dialing in\, please remember to mute yourself by pressing *6
URL:https://sjuhcrichmond.org/event/early-morning-prayer/
CATEGORIES:Church
END:VEVENT
BEGIN:VEVENT
DTSTART;TZID=UTC:20241127T183000
DTEND;TZID=UTC:20241127T200000
DTSTAMP:20260423T205343
CREATED:20240901T145428Z
LAST-MODIFIED:20240901T145428Z
UID:5924-1732732200-1732737600@sjuhcrichmond.org
SUMMARY:Wednesday Bible Study
DESCRIPTION:
URL:https://sjuhcrichmond.org/event/wednesday-bible-study-43/
CATEGORIES:Church
END:VEVENT
END:VCALENDAR